PDS_VERSION_ID = PDS3
/* FILE DATA ELEMENTS */
RECORD_TYPE = STREAM
/* POINTERS TO DATA OBJECTS */
^COMPRESSED_FILE = "HG680_0000_RE3.JP2"
/* IDENTIFICATION DATA ELEMENTS */
DATA_SET_ID = "MEX-M-HRSC-5-REFDR-MAPPROJECTED-V3.0"
DATA_SET_NAME = "MARS EXPRESS HRSC MAP PROJECTED REFDR V3.0"
DETECTOR_ID = MEX_HRSC_RED
EVENT_TYPE = "MARS-REGIONAL-STEREO-Fl-Lc-La"
INSTRUMENT_HOST_ID = MEX
INSTRUMENT_HOST_NAME = "MARS EXPRESS"
INSTRUMENT_ID = HRSC
INSTRUMENT_NAME = "HIGH RESOLUTION STEREO CAMERA"
MISSION_NAME = "MARS EXPRESS"
MISSION_PHASE_NAME = ME_Phase_36
PROCESSING_LEVEL_ID = 3
PRODUCT_CREATION_TIME = 2018-06-28T11:48:36.000Z
PRODUCT_ID = "HG680_0000_RE3.JP2"
RELEASE_ID = 0138
REVISION_ID = 0000
/* QUALITY DATA ELEMENTS */
DATA_QUALITY_ID = 1
DATA_QUALITY_DESC = "Data calculated based on original SPICE kernels"
/* TIME DATA ELEMENTS */
SPACECRAFT_CLOCK_START_COUNT = "1/0436623722.09041"
SPACECRAFT_CLOCK_STOP_COUNT = "1/0436623942.32446"
START_TIME = 2017-03-03T12:22:15.405Z
STOP_TIME = 2017-03-03T12:24:52.197Z
/* ORBITAL DATA ELEMENTS */
ASCENDING_NODE_LONGITUDE = 260.62
MAXIMUM_RESOLUTION = 56.3
FOOTPRINT_POINT_LATITUDE = (-20.5603,-20.5586,-20.5556,-20.5511, -20.5375,-20.3332,-20.127,-19.8198, -19.6136,-19.4068,-19.0975,-18.8909, -18.6831,-18.4788,-18.1662,-17.9574, -17.7527,-17.5384,-17.3221,-17.1195, -16.92,-16.7176,-16.5162,-16.318, -16.1208,-15.9132,-15.7108,-15.412, -15.2125,-15.0089,-14.81,-14.6151, -14.4137,-14.1126,-13.9115,-13.7136, -13.4081,-13.2023,-13.0025,-12.7949, -12.48,-12.2771,-12.0769,-11.882, -11.6977,-11.4971,-11.2939,-10.9893, -10.6845,-10.4813,-10.3586,-10.361, -10.3618,-10.3449,-10.3391,-10.4357, -10.6504,-10.8729,-11.0769,-11.2807, -11.4689,-11.6672,-11.9666,-12.167, -12.3699,-12.5719,-12.7877,-12.9901, -13.1949,-13.3913,-13.5917,-13.7956, -14.0979,-14.2958,-14.4976,-14.7985, -14.9997,-15.3006,-15.6036,-15.9091, -16.1134,-16.4114,-16.6135,-16.8118, -17.0114,-17.3113,-17.6218,-17.83, -18.0479,-18.368,-18.5747,-18.7805, -18.9872,-19.2969,-19.6066,-19.8087, -20.0179,-20.2205,-20.5317,-20.5603)
FOOTPRINT_POINT_LONGITUDE = (313.61,313.419,313.144,312.832,312.559 ,312.562,312.563,312.566,312.567, 312.568,312.57,312.572,312.572,312.574, 312.575,312.575,312.577,312.574,312.569 ,312.568,312.57,312.569,312.57,312.571, 312.574,312.571,312.57,312.572,312.573, 312.572,312.574,312.577,312.577,312.577 ,312.577,312.579,312.577,312.575, 312.576,312.573,312.566,312.565,312.565 ,312.568,312.576,312.576,312.575, 312.573,312.571,312.57,312.647,312.974, 313.198,313.423,313.581,313.78,313.778, 313.775,313.776,313.777,313.782,313.784 ,313.787,313.789,313.79,313.792,313.79, 313.792,313.792,313.795,313.797,313.798 ,313.8,313.803,313.804,313.807,313.809, 313.811,313.814,313.815,313.816,313.819 ,313.821,313.823,313.825,313.828, 313.829,313.831,313.83,313.83,313.832, 313.834,313.836,313.838,313.841,313.844 ,313.845,313.847,313.849,313.61)
ORBIT_NUMBER = 16680
ORBITAL_ECCENTRICITY = 0.578
ORBITAL_INCLINATION = 86.94
ORBITAL_SEMIMAJOR_AXIS = 8848.5
PERIAPSIS_ALTITUDE = 336.1
PERIAPSIS_ARGUMENT_ANGLE = 343.96
PERIAPSIS_TIME = 2017-03-03T12:23:51.000Z
SPACECRAFT_ORIENTATION = (0.0,1.0,0.0)
^MEX_ORIENTATION_DESC = "MEX_ORIENTATION_DESC.TXT"
SPACECRAFT_POINTING_MODE = ACROSSTRACK
^MEX_POINTING_DESC = "MEX_POINTING_DESC.TXT"
RIGHT_ASCENSION = -1e+32
DECLINATION = -1e+32
OFFSET_ANGLE = 0.2
SPACECRAFT_SOLAR_DISTANCE = 2.20844e+08
TARGET_NAME = MARS
/* CAMERA DATA ELEMENTS */
DETECTOR_TEMPERATURE = 18.3705
FOCAL_PLANE_TEMPERATURE = 8.5833
INST_CMPRS_NAME = "DISCRETE COSINE TRANSFORMATION (DCT)"
INST_CMPRS_RATIO = 31.8762
INST_CMPRS_QUALITY = 0
INST_CMPRS_QUANTZ_TBL_ID = 0
INSTRUMENT_TEMPERATURE = 11.6418
LENS_TEMPERATURE = 8.5833
MACROPIXEL_SIZE = 4
MISSING_FRAMES = 0
PIXEL_SUBSAMPLING_FLAG = N
SIGNAL_CHAIN_ID = 2
/* RADIOMETRIC DATA ELEMENTS */
BANDWIDTH = 48.0
CENTER_FILTER_WAVELENGTH = 748.0
RADIANCE_OFFSET = 0.909371
RADIANCE_SCALING_FACTOR = 0.00276777
REFLECTANCE_SCALING_FACTOR = 0.000308054
MEX:REFLECTANCE_OFFSET = 0.101214
/* IMAGE OBJECT DEFINITIONS */
OBJECT = IMAGE
  INTERCHANGE_FORMAT = BINARY
  LINES = 12063
  LINE_SAMPLES = 1540
  SAMPLE_TYPE = UNSIGNED_INTEGER
  SAMPLE_BITS = 8
  BANDS = 1
  BAND_STORAGE_TYPE = BAND_SEQUENTIAL
  MAXIMUM = 255
  MEAN = 116.074
  MINIMUM = 1
  STANDARD_DEVIATION = 32.3256
END_OBJECT = IMAGE
/* MAP OBJECT DEFINITIONS */
OBJECT = IMAGE_MAP_PROJECTION
  ^DATA_SET_MAP_PROJECTION_CATALOG= "DSMAP.CAT"
  A_AXIS_RADIUS = 3396.0
  B_AXIS_RADIUS = 3396.0
  C_AXIS_RADIUS = 3396.0
  CENTER_LATITUDE = 0.0
  CENTER_LONGITUDE = 313.0
  COORDINATE_SYSTEM_NAME = PLANETOGRAPHIC
  COORDINATE_SYSTEM_TYPE = "BODY-FIXED ROTATING"
  EASTERNMOST_LONGITUDE = 313.849
  FIRST_STANDARD_PARALLEL = "N/A"
  LINE_FIRST_PIXEL = 1
  LINE_LAST_PIXEL = 12063
  LINE_PROJECTION_OFFSET = -12279.875
  MAP_PROJECTION_ROTATION = 0.0
  MAP_PROJECTION_TYPE = SINUSOIDAL
  MAP_RESOLUTION = 1185.42760773333
  MAP_SCALE = 0.05
  MAXIMUM_LATITUDE = -10.3391
  MINIMUM_LATITUDE = -20.5603
  POSITIVE_LONGITUDE_DIRECTION = EAST
  REFERENCE_LATITUDE = "N/A"
  REFERENCE_LONGITUDE = "N/A"
  SAMPLE_FIRST_PIXEL = 1
  SAMPLE_LAST_PIXEL = 1540
  SAMPLE_PROJECTION_OFFSET = 574.625
  SECOND_STANDARD_PARALLEL = "N/A"
  WESTERNMOST_LONGITUDE = 312.559
END_OBJECT = IMAGE_MAP_PROJECTION
/* The JPEG2000 image data file associated with this label. */
OBJECT = COMPRESSED_FILE
  FILE_NAME = "HG680_0000_RE3.JP2"
  RECORD_TYPE = UNDEFINED
  FILE_RECORDS = UNK
  ENCODING_TYPE = "JP2"
  INTERCHANGE_FORMAT = BINARY
  UNCOMPRESSED_FILE_NAME = "HG680_0000_RE3.IMG"
  REQUIRED_STORAGE_BYTES = "18597040"
  ^DESCRIPTION = "JP2INFO.TXT"
END_OBJECT = COMPRESSED_FILE
END
