PDS_VERSION_ID = PDS3
/* FILE DATA ELEMENTS */
RECORD_TYPE = STREAM
/* POINTERS TO DATA OBJECTS */
^COMPRESSED_FILE = "HG680_0000_S23.JP2"
/* IDENTIFICATION DATA ELEMENTS */
DATA_SET_ID = "MEX-M-HRSC-5-REFDR-MAPPROJECTED-V3.0"
DATA_SET_NAME = "MARS EXPRESS HRSC MAP PROJECTED REFDR V3.0"
DETECTOR_ID = MEX_HRSC_S2
EVENT_TYPE = "MARS-REGIONAL-STEREO-Fl-Lc-La"
INSTRUMENT_HOST_ID = MEX
INSTRUMENT_HOST_NAME = "MARS EXPRESS"
INSTRUMENT_ID = HRSC
INSTRUMENT_NAME = "HIGH RESOLUTION STEREO CAMERA"
MISSION_NAME = "MARS EXPRESS"
MISSION_PHASE_NAME = ME_Phase_36
PROCESSING_LEVEL_ID = 3
PRODUCT_CREATION_TIME = 2018-06-28T11:48:36.000Z
PRODUCT_ID = "HG680_0000_S23.JP2"
RELEASE_ID = 0138
REVISION_ID = 0000
/* QUALITY DATA ELEMENTS */
DATA_QUALITY_ID = 1
DATA_QUALITY_DESC = "Data calculated based on original SPICE kernels"
/* TIME DATA ELEMENTS */
SPACECRAFT_CLOCK_START_COUNT = "1/0436623722.09041"
SPACECRAFT_CLOCK_STOP_COUNT = "1/0436623942.32446"
START_TIME = 2017-03-03T12:22:10.012Z
STOP_TIME = 2017-03-03T12:24:47.035Z
/* ORBITAL DATA ELEMENTS */
ASCENDING_NODE_LONGITUDE = 260.62
MAXIMUM_RESOLUTION = 28.6
FOOTPRINT_POINT_LATITUDE = (-20.5616,-20.5573,-20.5509,-20.4314, -20.2283,-19.9227,-19.7162,-19.511, -19.3043,-19.0991,-18.7898,-18.5833, -18.3809,-18.1725,-17.9606,-17.7566, -17.5348,-17.3198,-17.1131,-16.9117, -16.7092,-16.5108,-16.3093,-16.1113, -15.9053,-15.7054,-15.5065,-15.3094, -15.1057,-14.9053,-14.7118,-14.5136, -14.3113,-14.1118,-13.8129,-13.6127, -13.4025,-13.1042,-12.8934,-12.5804, -12.275,-12.0746,-11.7912,-11.6019, -11.3987,-11.1954,-10.8905,-10.6872, -10.4838,-10.3578,-10.3607,-10.3616, -10.3376,-10.3338,-10.6571,-10.8742, -11.0785,-11.2824,-11.6656,-11.8653, -12.1634,-12.3663,-12.5689,-12.7866, -12.9889,-13.1928,-13.3891,-13.6912, -13.8941,-14.0948,-14.2926,-14.4919, -14.6945,-14.8943,-15.0951,-15.2924, -15.4994,-15.6964,-15.8997,-16.1049, -16.4036,-16.6066,-16.8038,-17.002, -17.2062,-17.4123,-17.7261,-17.935, -18.1644,-18.3708,-18.5769,-18.7819, -18.988,-19.2967,-19.6047,-19.806, -20.0151,-20.2163,-20.4227,-20.5616)
FOOTPRINT_POINT_LONGITUDE = (313.702,313.303,312.902,312.554, 312.556,312.56,312.561,312.562,312.563, 312.565,312.566,312.567,312.57,312.57, 312.569,312.571,312.565,312.562,312.563 ,312.564,312.564,312.565,312.565, 312.567,312.565,312.566,312.567,312.569 ,312.568,312.568,312.571,312.573, 312.572,312.573,312.574,312.575,312.571 ,312.572,312.568,312.563,312.561, 312.562,312.569,312.573,312.572,312.571 ,312.569,312.568,312.566,312.718, 312.988,313.187,313.48,313.779,313.777, 313.776,313.777,313.778,313.785,313.787 ,313.791,313.792,313.793,313.792, 313.793,313.794,313.797,313.799,313.801 ,313.803,313.805,313.807,313.808,313.81 ,313.812,313.814,313.815,313.817, 313.818,313.819,313.822,313.823,313.826 ,313.828,313.83,313.832,313.833,313.835 ,313.832,313.834,313.836,313.838, 313.839,313.842,313.845,313.848,313.849 ,313.851,313.853,313.702)
ORBIT_NUMBER = 16680
ORBITAL_ECCENTRICITY = 0.578
ORBITAL_INCLINATION = 86.94
ORBITAL_SEMIMAJOR_AXIS = 8848.5
PERIAPSIS_ALTITUDE = 336.1
PERIAPSIS_ARGUMENT_ANGLE = 343.96
PERIAPSIS_TIME = 2017-03-03T12:23:51.000Z
SPACECRAFT_ORIENTATION = (0.0,1.0,0.0)
^MEX_ORIENTATION_DESC = "MEX_ORIENTATION_DESC.TXT"
SPACECRAFT_POINTING_MODE = ACROSSTRACK
^MEX_POINTING_DESC = "MEX_POINTING_DESC.TXT"
RIGHT_ASCENSION = -1e+32
DECLINATION = -1e+32
OFFSET_ANGLE = 0.2
SPACECRAFT_SOLAR_DISTANCE = 2.20844e+08
TARGET_NAME = MARS
/* CAMERA DATA ELEMENTS */
DETECTOR_TEMPERATURE = 18.3705
FOCAL_PLANE_TEMPERATURE = 8.5833
INST_CMPRS_NAME = "DISCRETE COSINE TRANSFORMATION (DCT)"
INST_CMPRS_RATIO = 15.1527
INST_CMPRS_QUALITY = 0
INST_CMPRS_QUANTZ_TBL_ID = 0
INSTRUMENT_TEMPERATURE = 11.6418
LENS_TEMPERATURE = 8.5833
MACROPIXEL_SIZE = 2
MISSING_FRAMES = 0
PIXEL_SUBSAMPLING_FLAG = N
SIGNAL_CHAIN_ID = 1
/* RADIOMETRIC DATA ELEMENTS */
BANDWIDTH = 178.0
CENTER_FILTER_WAVELENGTH = 679.0
RADIANCE_OFFSET = 3.69013
RADIANCE_SCALING_FACTOR = 0.0102821
REFLECTANCE_SCALING_FACTOR = 0.000265572
MEX:REFLECTANCE_OFFSET = 0.0953108
/* IMAGE OBJECT DEFINITIONS */
OBJECT = IMAGE
  INTERCHANGE_FORMAT = BINARY
  LINES = 24125
  LINE_SAMPLES = 3079
  SAMPLE_TYPE = UNSIGNED_INTEGER
  SAMPLE_BITS = 8
  BANDS = 1
  BAND_STORAGE_TYPE = BAND_SEQUENTIAL
  MAXIMUM = 255
  MEAN = 117.09
  MINIMUM = 1
  STANDARD_DEVIATION = 33.3165
END_OBJECT = IMAGE
/* MAP OBJECT DEFINITIONS */
OBJECT = IMAGE_MAP_PROJECTION
  ^DATA_SET_MAP_PROJECTION_CATALOG= "DSMAP.CAT"
  A_AXIS_RADIUS = 3396.0
  B_AXIS_RADIUS = 3396.0
  C_AXIS_RADIUS = 3396.0
  CENTER_LATITUDE = 0.0
  CENTER_LONGITUDE = 313.0
  COORDINATE_SYSTEM_NAME = PLANETOGRAPHIC
  COORDINATE_SYSTEM_TYPE = "BODY-FIXED ROTATING"
  EASTERNMOST_LONGITUDE = 313.853
  FIRST_STANDARD_PARALLEL = "N/A"
  LINE_FIRST_PIXEL = 1
  LINE_LAST_PIXEL = 24125
  LINE_PROJECTION_OFFSET = -24559.25
  MAP_PROJECTION_ROTATION = 0.0
  MAP_PROJECTION_TYPE = SINUSOIDAL
  MAP_RESOLUTION = 2370.85521546667
  MAP_SCALE = 0.025
  MAXIMUM_LATITUDE = -10.3338
  MINIMUM_LATITUDE = -20.5616
  POSITIVE_LONGITUDE_DIRECTION = EAST
  REFERENCE_LATITUDE = "N/A"
  REFERENCE_LONGITUDE = "N/A"
  SAMPLE_FIRST_PIXEL = 1
  SAMPLE_LAST_PIXEL = 3079
  SAMPLE_PROJECTION_OFFSET = 1149.75
  SECOND_STANDARD_PARALLEL = "N/A"
  WESTERNMOST_LONGITUDE = 312.554
END_OBJECT = IMAGE_MAP_PROJECTION
/* The JPEG2000 image data file associated with this label. */
OBJECT = COMPRESSED_FILE
  FILE_NAME = "HG680_0000_S23.JP2"
  RECORD_TYPE = UNDEFINED
  FILE_RECORDS = UNK
  ENCODING_TYPE = "JP2"
  INTERCHANGE_FORMAT = BINARY
  UNCOMPRESSED_FILE_NAME = "HG680_0000_S23.IMG"
  REQUIRED_STORAGE_BYTES = "74305507"
  ^DESCRIPTION = "JP2INFO.TXT"
END_OBJECT = COMPRESSED_FILE
END
