PDS_VERSION_ID = PDS3
/* FILE DATA ELEMENTS */
RECORD_TYPE = STREAM
/* POINTERS TO DATA OBJECTS */
^COMPRESSED_FILE = "HG684_0000_S13.JP2"
/* IDENTIFICATION DATA ELEMENTS */
DATA_SET_ID = "MEX-M-HRSC-5-REFDR-MAPPROJECTED-V3.0"
DATA_SET_NAME = "MARS EXPRESS HRSC MAP PROJECTED REFDR V3.0"
DETECTOR_ID = MEX_HRSC_S1
EVENT_TYPE = "MARS-REGIONAL-MAPPING-Vo-Te-Gl"
INSTRUMENT_HOST_ID = MEX
INSTRUMENT_HOST_NAME = "MARS EXPRESS"
INSTRUMENT_ID = HRSC
INSTRUMENT_NAME = "HIGH RESOLUTION STEREO CAMERA"
MISSION_NAME = "MARS EXPRESS"
MISSION_PHASE_NAME = ME_Phase_36
PROCESSING_LEVEL_ID = 3
PRODUCT_CREATION_TIME = 2018-06-28T11:48:36.000Z
PRODUCT_ID = "HG684_0000_S13.JP2"
RELEASE_ID = 0138
REVISION_ID = 0000
/* QUALITY DATA ELEMENTS */
DATA_QUALITY_ID = 1
DATA_QUALITY_DESC = "Data calculated based on original SPICE kernels"
/* TIME DATA ELEMENTS */
SPACECRAFT_CLOCK_START_COUNT = "1/0436724560.08241"
SPACECRAFT_CLOCK_STOP_COUNT = "1/0436724749.32216"
START_TIME = 2017-03-04T16:23:48.519Z
STOP_TIME = 2017-03-04T16:25:55.390Z
/* ORBITAL DATA ELEMENTS */
ASCENDING_NODE_LONGITUDE = 260.54
MAXIMUM_RESOLUTION = 28.2
FOOTPRINT_POINT_LATITUDE = (-14.2292,-14.2235,-14.2186,-14.2138, -14.2091,-14.2045,-14.2,-13.9955, -13.8323,-13.6693,-13.5065,-13.3434, -13.1808,-12.9374,-12.7871,-12.6183, -12.3697,-12.2067,-12.0444,-11.8825, -11.7208,-11.5596,-11.398,-11.2371, -11.0839,-10.9176,-10.6725,-10.5119, -10.3516,-10.1112,-9.94961,-9.78907, -9.62879,-9.33598,-9.1769,-8.93244, -8.76776,-8.6156,-8.4397,-8.2684, -8.11054,-7.88413,-7.72443,-7.42887, -7.1901,-7.02748,-6.86604,-6.69615, -6.38713,-6.10682,-6.12039,-6.11216, -6.11643,-6.12237,-6.12615,-6.35805, -6.51393,-6.67214,-6.84463,-7.01104, -7.16884,-7.39442,-7.5509,-7.70868, -7.94402,-8.10415,-8.27178,-8.42002, -8.58163,-8.74938,-8.90371,-9.07401, -9.32619,-9.48298,-9.62803,-9.78676, -9.9482,-10.1883,-10.3489,-10.5091, -10.6699,-10.911,-11.0718,-11.2336, -11.3943,-11.6371,-11.7988,-12.041, -12.2841,-12.4462,-12.6088,-12.7707, -12.9334,-13.0958,-13.2587,-13.5032, -13.6664,-13.911,-14.0746,-14.2292)
FOOTPRINT_POINT_LONGITUDE = (265.334,265.103,264.91,264.718,264.528 ,264.339,264.151,264.101,264.1,264.098, 264.097,264.095,264.094,264.092,264.09, 264.088,264.086,264.084,264.083,264.081 ,264.079,264.078,264.076,264.074, 264.072,264.07,264.067,264.065,264.063, 264.06,264.058,264.056,264.054,264.048, 264.046,264.043,264.04,264.038,264.036, 264.034,264.032,264.028,264.025,264.019 ,264.015,264.013,264.01,264.008,264.002 ,264.046,264.217,264.498,264.744,265.03 ,265.271,265.269,265.268,265.269, 265.277,265.282,265.283,265.276,265.276 ,265.275,265.274,265.276,265.281, 265.275,265.277,265.282,265.28,265.286, 265.295,265.293,265.285,265.285,265.286 ,265.287,265.288,265.288,265.289,265.29 ,265.29,265.292,265.292,265.294,265.295 ,265.296,265.297,265.298,265.299,265.3, 265.301,265.302,265.304,265.306,265.307 ,265.309,265.31,265.334)
ORBIT_NUMBER = 16684
ORBITAL_ECCENTRICITY = 0.579
ORBITAL_INCLINATION = 86.93
ORBITAL_SEMIMAJOR_AXIS = 8861.78
PERIAPSIS_ALTITUDE = 335.33
PERIAPSIS_ARGUMENT_ANGLE = 343.25
PERIAPSIS_TIME = 2017-03-04T16:22:41.000Z
SPACECRAFT_ORIENTATION = (0.0,1.0,0.0)
^MEX_ORIENTATION_DESC = "MEX_ORIENTATION_DESC.TXT"
SPACECRAFT_POINTING_MODE = ACROSSTRACK
^MEX_POINTING_DESC = "MEX_POINTING_DESC.TXT"
RIGHT_ASCENSION = -1e+32
DECLINATION = -1e+32
OFFSET_ANGLE = -0.5
SPACECRAFT_SOLAR_DISTANCE = 2.21066e+08
TARGET_NAME = MARS
/* CAMERA DATA ELEMENTS */
DETECTOR_TEMPERATURE = 17.5549
FOCAL_PLANE_TEMPERATURE = 8.1755
INST_CMPRS_NAME = "DISCRETE COSINE TRANSFORMATION (DCT)"
INST_CMPRS_RATIO = 10.489
INST_CMPRS_QUALITY = 0
INST_CMPRS_QUANTZ_TBL_ID = 0
INSTRUMENT_TEMPERATURE = 11.4379
LENS_TEMPERATURE = 8.5833
MACROPIXEL_SIZE = 2
MISSING_FRAMES = 0
PIXEL_SUBSAMPLING_FLAG = N
SIGNAL_CHAIN_ID = 1
/* RADIOMETRIC DATA ELEMENTS */
BANDWIDTH = 180.0
CENTER_FILTER_WAVELENGTH = 677.0
RADIANCE_OFFSET = 2.54468
RADIANCE_SCALING_FACTOR = 0.028459
REFLECTANCE_SCALING_FACTOR = 0.000725612
MEX:REFLECTANCE_OFFSET = 0.064881
/* IMAGE OBJECT DEFINITIONS */
OBJECT = IMAGE
  INTERCHANGE_FORMAT = BINARY
  LINES = 19137
  LINE_SAMPLES = 3258
  SAMPLE_TYPE = UNSIGNED_INTEGER
  SAMPLE_BITS = 8
  BANDS = 1
  BAND_STORAGE_TYPE = BAND_SEQUENTIAL
  MAXIMUM = 255
  MEAN = 94.3479
  MINIMUM = 1
  STANDARD_DEVIATION = 33.0109
END_OBJECT = IMAGE
/* MAP OBJECT DEFINITIONS */
OBJECT = IMAGE_MAP_PROJECTION
  ^DATA_SET_MAP_PROJECTION_CATALOG= "DSMAP.CAT"
  A_AXIS_RADIUS = 3396.0
  B_AXIS_RADIUS = 3396.0
  C_AXIS_RADIUS = 3396.0
  CENTER_LATITUDE = 0.0
  CENTER_LONGITUDE = 265.0
  COORDINATE_SYSTEM_NAME = PLANETOGRAPHIC
  COORDINATE_SYSTEM_TYPE = "BODY-FIXED ROTATING"
  EASTERNMOST_LONGITUDE = 265.334
  FIRST_STANDARD_PARALLEL = "N/A"
  LINE_FIRST_PIXEL = 1
  LINE_LAST_PIXEL = 19137
  LINE_PROJECTION_OFFSET = -14579.25
  MAP_PROJECTION_ROTATION = 0.0
  MAP_PROJECTION_TYPE = SINUSOIDAL
  MAP_RESOLUTION = 2370.85521546667
  MAP_SCALE = 0.025
  MAXIMUM_LATITUDE = -6.10682
  MINIMUM_LATITUDE = -14.2292
  POSITIVE_LONGITUDE_DIRECTION = EAST
  REFERENCE_LATITUDE = "N/A"
  REFERENCE_LONGITUDE = "N/A"
  SAMPLE_FIRST_PIXEL = 1
  SAMPLE_LAST_PIXEL = 3258
  SAMPLE_PROJECTION_OFFSET = 2335.75
  SECOND_STANDARD_PARALLEL = "N/A"
  WESTERNMOST_LONGITUDE = 264.002
END_OBJECT = IMAGE_MAP_PROJECTION
/* The JPEG2000 image data file associated with this label. */
OBJECT = COMPRESSED_FILE
  FILE_NAME = "HG684_0000_S13.JP2"
  RECORD_TYPE = UNDEFINED
  FILE_RECORDS = UNK
  ENCODING_TYPE = "JP2"
  INTERCHANGE_FORMAT = BINARY
  UNCOMPRESSED_FILE_NAME = "HG684_0000_S13.IMG"
  REQUIRED_STORAGE_BYTES = "62371152"
  ^DESCRIPTION = "JP2INFO.TXT"
END_OBJECT = COMPRESSED_FILE
END
