PDS_VERSION_ID = PDS3
/* FILE DATA ELEMENTS */
RECORD_TYPE = STREAM
/* POINTERS TO DATA OBJECTS */
^COMPRESSED_FILE = "HG684_0000_S23.JP2"
/* IDENTIFICATION DATA ELEMENTS */
DATA_SET_ID = "MEX-M-HRSC-5-REFDR-MAPPROJECTED-V3.0"
DATA_SET_NAME = "MARS EXPRESS HRSC MAP PROJECTED REFDR V3.0"
DETECTOR_ID = MEX_HRSC_S2
EVENT_TYPE = "MARS-REGIONAL-MAPPING-Vo-Te-Gl"
INSTRUMENT_HOST_ID = MEX
INSTRUMENT_HOST_NAME = "MARS EXPRESS"
INSTRUMENT_ID = HRSC
INSTRUMENT_NAME = "HIGH RESOLUTION STEREO CAMERA"
MISSION_NAME = "MARS EXPRESS"
MISSION_PHASE_NAME = ME_Phase_36
PROCESSING_LEVEL_ID = 3
PRODUCT_CREATION_TIME = 2018-06-28T11:48:36.000Z
PRODUCT_ID = "HG684_0000_S23.JP2"
RELEASE_ID = 0138
REVISION_ID = 0000
/* QUALITY DATA ELEMENTS */
DATA_QUALITY_ID = 1
DATA_QUALITY_DESC = "Data calculated based on original SPICE kernels"
/* TIME DATA ELEMENTS */
SPACECRAFT_CLOCK_START_COUNT = "1/0436724560.08241"
SPACECRAFT_CLOCK_STOP_COUNT = "1/0436724749.32216"
START_TIME = 2017-03-04T16:22:48.006Z
STOP_TIME = 2017-03-04T16:24:50.735Z
/* ORBITAL DATA ELEMENTS */
ASCENDING_NODE_LONGITUDE = 260.54
MAXIMUM_RESOLUTION = 27.9
FOOTPRINT_POINT_LATITUDE = (-14.2177,-14.2259,-14.2336,-14.2408, -14.2476,-14.2541,-14.1389,-13.9039, -13.668,-13.5106,-13.3535,-13.1961, -12.9545,-12.7885,-12.6437,-12.4862, -12.2505,-12.093,-11.9352,-11.7772, -11.6187,-11.3814,-11.2207,-11.0566, -10.9064,-10.7493,-10.586,-10.4219, -10.257,-10.0951,-9.93153,-9.76796, -9.50612,-9.32799,-9.1657,-8.92184, -8.75875,-8.52096,-8.3774,-8.21468, -7.96262,-7.79845,-7.61644,-7.44204, -7.27542,-7.03516,-6.87899,-6.7289, -6.55929,-6.31315,-6.2021,-6.20822, -6.2024,-6.19336,-6.18599,-6.18007, -6.26213,-6.42926,-6.59597,-6.75618, -6.90438,-7.06584,-7.23272,-7.48981, -7.65541,-7.90694,-8.07423,-8.22834, -8.39595,-8.64512,-8.88443,-9.04861, -9.19462,-9.35192,-9.52774,-9.78394, -10.0281,-10.1934,-10.3571,-10.5214, -10.6851,-10.923,-11.0817,-11.3189, -11.4773,-11.635,-11.8717,-12.0303, -12.1886,-12.3463,-12.5829,-12.8196, -13.056,-13.2135,-13.3708,-13.528, -13.7636,-13.9207,-14.1564,-14.2177)
FOOTPRINT_POINT_LONGITUDE = (265.099,264.908,264.718,264.529, 264.341,264.155,264.105,264.104,264.103 ,264.102,264.101,264.1,264.098,264.097, 264.096,264.095,264.094,264.092,264.091 ,264.09,264.089,264.087,264.085,264.083 ,264.082,264.081,264.079,264.078, 264.076,264.075,264.073,264.071,264.068 ,264.065,264.064,264.061,264.059, 264.057,264.056,264.054,264.051,264.049 ,264.045,264.043,264.04,264.038,264.036 ,264.034,264.032,264.028,264.259, 264.468,264.632,264.867,265.034,265.153 ,265.24,265.239,265.239,265.242,265.251 ,265.254,265.253,265.249,265.249, 265.248,265.248,265.254,265.253,265.253 ,265.258,265.26,265.27,265.275,265.27, 265.266,265.269,265.269,265.271,265.271 ,265.273,265.274,265.275,265.277, 265.279,265.28,265.283,265.284,265.285, 265.286,265.289,265.291,265.293,265.295 ,265.296,265.298,265.301,265.302, 265.305,265.099)
ORBIT_NUMBER = 16684
ORBITAL_ECCENTRICITY = 0.579
ORBITAL_INCLINATION = 86.93
ORBITAL_SEMIMAJOR_AXIS = 8861.78
PERIAPSIS_ALTITUDE = 335.33
PERIAPSIS_ARGUMENT_ANGLE = 343.25
PERIAPSIS_TIME = 2017-03-04T16:22:41.000Z
SPACECRAFT_ORIENTATION = (0.0,1.0,0.0)
^MEX_ORIENTATION_DESC = "MEX_ORIENTATION_DESC.TXT"
SPACECRAFT_POINTING_MODE = ACROSSTRACK
^MEX_POINTING_DESC = "MEX_POINTING_DESC.TXT"
RIGHT_ASCENSION = -1e+32
DECLINATION = -1e+32
OFFSET_ANGLE = -0.5
SPACECRAFT_SOLAR_DISTANCE = 2.21066e+08
TARGET_NAME = MARS
/* CAMERA DATA ELEMENTS */
DETECTOR_TEMPERATURE = 18.7783
FOCAL_PLANE_TEMPERATURE = 8.1755
INST_CMPRS_NAME = "DISCRETE COSINE TRANSFORMATION (DCT)"
INST_CMPRS_RATIO = 10.7649
INST_CMPRS_QUALITY = 0
INST_CMPRS_QUANTZ_TBL_ID = 0
INSTRUMENT_TEMPERATURE = 11.4379
LENS_TEMPERATURE = 8.5833
MACROPIXEL_SIZE = 2
MISSING_FRAMES = 0
PIXEL_SUBSAMPLING_FLAG = N
SIGNAL_CHAIN_ID = 1
/* RADIOMETRIC DATA ELEMENTS */
BANDWIDTH = 178.0
CENTER_FILTER_WAVELENGTH = 679.0
RADIANCE_OFFSET = 2.47627
RADIANCE_SCALING_FACTOR = 0.0276094
REFLECTANCE_SCALING_FACTOR = 0.000714543
MEX:REFLECTANCE_OFFSET = 0.0640871
/* IMAGE OBJECT DEFINITIONS */
OBJECT = IMAGE
  INTERCHANGE_FORMAT = BINARY
  LINES = 19137
  LINE_SAMPLES = 3258
  SAMPLE_TYPE = UNSIGNED_INTEGER
  SAMPLE_BITS = 8
  BANDS = 1
  BAND_STORAGE_TYPE = BAND_SEQUENTIAL
  MAXIMUM = 255
  MEAN = 98.8855
  MINIMUM = 1
  STANDARD_DEVIATION = 33.9732
END_OBJECT = IMAGE
/* MAP OBJECT DEFINITIONS */
OBJECT = IMAGE_MAP_PROJECTION
  ^DATA_SET_MAP_PROJECTION_CATALOG= "DSMAP.CAT"
  A_AXIS_RADIUS = 3396.0
  B_AXIS_RADIUS = 3396.0
  C_AXIS_RADIUS = 3396.0
  CENTER_LATITUDE = 0.0
  CENTER_LONGITUDE = 265.0
  COORDINATE_SYSTEM_NAME = PLANETOGRAPHIC
  COORDINATE_SYSTEM_TYPE = "BODY-FIXED ROTATING"
  EASTERNMOST_LONGITUDE = 265.305
  FIRST_STANDARD_PARALLEL = "N/A"
  LINE_FIRST_PIXEL = 1
  LINE_LAST_PIXEL = 19137
  LINE_PROJECTION_OFFSET = -14579.25
  MAP_PROJECTION_ROTATION = 0.0
  MAP_PROJECTION_TYPE = SINUSOIDAL
  MAP_RESOLUTION = 2370.85521546667
  MAP_SCALE = 0.025
  MAXIMUM_LATITUDE = -6.18007
  MINIMUM_LATITUDE = -14.2541
  POSITIVE_LONGITUDE_DIRECTION = EAST
  REFERENCE_LATITUDE = "N/A"
  REFERENCE_LONGITUDE = "N/A"
  SAMPLE_FIRST_PIXEL = 1
  SAMPLE_LAST_PIXEL = 3258
  SAMPLE_PROJECTION_OFFSET = 2335.75
  SECOND_STANDARD_PARALLEL = "N/A"
  WESTERNMOST_LONGITUDE = 264.028
END_OBJECT = IMAGE_MAP_PROJECTION
/* The JPEG2000 image data file associated with this label. */
OBJECT = COMPRESSED_FILE
  FILE_NAME = "HG684_0000_S23.JP2"
  RECORD_TYPE = UNDEFINED
  FILE_RECORDS = UNK
  ENCODING_TYPE = "JP2"
  INTERCHANGE_FORMAT = BINARY
  UNCOMPRESSED_FILE_NAME = "HG684_0000_S23.IMG"
  REQUIRED_STORAGE_BYTES = "62371152"
  ^DESCRIPTION = "JP2INFO.TXT"
END_OBJECT = COMPRESSED_FILE
END
