PDS_VERSION_ID = PDS3
/* FILE DATA ELEMENTS */
RECORD_TYPE = STREAM
/* POINTERS TO DATA OBJECTS */
^COMPRESSED_FILE = "HG688_0000_P13.JP2"
/* IDENTIFICATION DATA ELEMENTS */
DATA_SET_ID = "MEX-M-HRSC-5-REFDR-MAPPROJECTED-V3.0"
DATA_SET_NAME = "MARS EXPRESS HRSC MAP PROJECTED REFDR V3.0"
DETECTOR_ID = MEX_HRSC_P1
EVENT_TYPE = "MARS-REGIONAL-STEREO-Vo-Te"
INSTRUMENT_HOST_ID = MEX
INSTRUMENT_HOST_NAME = "MARS EXPRESS"
INSTRUMENT_ID = HRSC
INSTRUMENT_NAME = "HIGH RESOLUTION STEREO CAMERA"
MISSION_NAME = "MARS EXPRESS"
MISSION_PHASE_NAME = ME_Phase_36
PROCESSING_LEVEL_ID = 3
PRODUCT_CREATION_TIME = 2018-06-28T11:48:36.000Z
PRODUCT_ID = "HG688_0000_P13.JP2"
RELEASE_ID = 0138
REVISION_ID = 0000
/* QUALITY DATA ELEMENTS */
DATA_QUALITY_ID = 1
DATA_QUALITY_DESC = "Data calculated based on original SPICE kernels"
/* TIME DATA ELEMENTS */
SPACECRAFT_CLOCK_START_COUNT = "1/0436825046.09032"
SPACECRAFT_CLOCK_STOP_COUNT = "1/0436825230.00008"
START_TIME = 2017-03-05T20:18:30.520Z
STOP_TIME = 2017-03-05T20:20:25.919Z
/* ORBITAL DATA ELEMENTS */
ASCENDING_NODE_LONGITUDE = 260.47
MAXIMUM_RESOLUTION = 27.7
FOOTPRINT_POINT_LATITUDE = (-29.4618,-29.4611,-29.4596,-29.4584, -29.4568,-29.3176,-29.1664,-28.9401, -28.7133,-28.4873,-28.3362,-28.1853, -27.9592,-27.8085,-27.6575,-27.5062, -27.3548,-27.2038,-26.9773,-26.8258, -26.6748,-26.4486,-26.2976,-26.1464, -25.995,-25.8439,-25.6924,-25.5405, -25.389,-25.2366,-25.0846,-24.9336, -24.7834,-24.5587,-24.4082,-24.2568, -24.0298,-23.879,-23.7278,-23.5768, -23.3504,-23.1997,-23.0488,-22.8976, -22.7465,-22.5956,-22.4463,-22.3, -22.0808,-21.8948,-21.8947,-21.8951, -21.8948,-21.8911,-21.8909,-21.9647, -22.1101,-22.2551,-22.3993,-22.546, -22.7001,-22.853,-23.0039,-23.1523, -23.3022,-23.4541,-23.6834,-23.8364, -24.0647,-24.2912,-24.4404,-24.6678, -24.8192,-24.9711,-25.1986,-25.4243, -25.5745,-25.725,-25.9525,-26.1795, -26.3308,-26.5575,-26.7107,-26.939, -27.089,-27.2368,-27.3889,-27.542, -27.6928,-27.8419,-28.0689,-28.2215, -28.3732,-28.5238,-28.6727,-28.8235, -28.975,-29.2011,-29.3521,-29.4618)
FOOTPRINT_POINT_LONGITUDE = (215.633,215.341,214.98,214.757,214.507 ,214.332,214.336,214.341,214.346, 214.351,214.354,214.357,214.361,214.364 ,214.367,214.37,214.373,214.376,214.38, 214.383,214.385,214.389,214.391,214.393 ,214.396,214.398,214.401,214.403, 214.406,214.408,214.411,214.413,214.414 ,214.416,214.418,214.42,214.422,214.424 ,214.426,214.427,214.429,214.431, 214.432,214.434,214.435,214.436,214.437 ,214.439,214.44,214.515,214.786,214.97, 215.192,215.388,215.547,215.712,215.713 ,215.714,215.714,215.714,215.717, 215.719,215.72,215.72,215.72,215.722, 215.725,215.727,215.73,215.732,215.732, 215.734,215.735,215.737,215.739,215.741 ,215.741,215.742,215.745,215.747, 215.748,215.75,215.752,215.755,215.756, 215.755,215.757,215.759,215.761,215.761 ,215.763,215.765,215.767,215.768, 215.768,215.769,215.771,215.773,215.774 ,215.633)
ORBIT_NUMBER = 16688
ORBITAL_ECCENTRICITY = 0.579
ORBITAL_INCLINATION = 86.95
ORBITAL_SEMIMAJOR_AXIS = 8850.58
PERIAPSIS_ALTITUDE = 335.15
PERIAPSIS_ARGUMENT_ANGLE = 342.54
PERIAPSIS_TIME = 2017-03-05T20:21:15.000Z
SPACECRAFT_ORIENTATION = (0.0,1.0,0.0)
^MEX_ORIENTATION_DESC = "MEX_ORIENTATION_DESC.TXT"
SPACECRAFT_POINTING_MODE = NADIR
^MEX_POINTING_DESC = "MEX_POINTING_DESC.TXT"
RIGHT_ASCENSION = -1e+32
DECLINATION = -1e+32
OFFSET_ANGLE = -1e+32
SPACECRAFT_SOLAR_DISTANCE = 2.21288e+08
TARGET_NAME = MARS
/* CAMERA DATA ELEMENTS */
DETECTOR_TEMPERATURE = 18.3705
FOCAL_PLANE_TEMPERATURE = 9.8067
INST_CMPRS_NAME = "DISCRETE COSINE TRANSFORMATION (DCT)"
INST_CMPRS_RATIO = 10.2135
INST_CMPRS_QUALITY = 0
INST_CMPRS_QUANTZ_TBL_ID = 0
INSTRUMENT_TEMPERATURE = 12.8652
LENS_TEMPERATURE = 10.2145
MACROPIXEL_SIZE = 2
MISSING_FRAMES = 0
PIXEL_SUBSAMPLING_FLAG = N
SIGNAL_CHAIN_ID = 3
/* RADIOMETRIC DATA ELEMENTS */
BANDWIDTH = 174.0
CENTER_FILTER_WAVELENGTH = 675.0
RADIANCE_OFFSET = 3.50957
RADIANCE_SCALING_FACTOR = 0.0169637
REFLECTANCE_SCALING_FACTOR = 0.000446805
MEX:REFLECTANCE_OFFSET = 0.092438
/* IMAGE OBJECT DEFINITIONS */
OBJECT = IMAGE
  INTERCHANGE_FORMAT = BINARY
  LINES = 17960
  LINE_SAMPLES = 3186
  SAMPLE_TYPE = UNSIGNED_INTEGER
  SAMPLE_BITS = 8
  BANDS = 1
  BAND_STORAGE_TYPE = BAND_SEQUENTIAL
  MAXIMUM = 255
  MEAN = 124.072
  MINIMUM = 1
  STANDARD_DEVIATION = 23.8382
END_OBJECT = IMAGE
/* MAP OBJECT DEFINITIONS */
OBJECT = IMAGE_MAP_PROJECTION
  ^DATA_SET_MAP_PROJECTION_CATALOG= "DSMAP.CAT"
  A_AXIS_RADIUS = 3396.0
  B_AXIS_RADIUS = 3396.0
  C_AXIS_RADIUS = 3396.0
  CENTER_LATITUDE = 0.0
  CENTER_LONGITUDE = 215.0
  COORDINATE_SYSTEM_NAME = PLANETOGRAPHIC
  COORDINATE_SYSTEM_TYPE = "BODY-FIXED ROTATING"
  EASTERNMOST_LONGITUDE = 215.774
  FIRST_STANDARD_PARALLEL = "N/A"
  LINE_FIRST_PIXEL = 1
  LINE_LAST_PIXEL = 17960
  LINE_PROJECTION_OFFSET = -51945.25
  MAP_PROJECTION_ROTATION = 0.0
  MAP_PROJECTION_TYPE = SINUSOIDAL
  MAP_RESOLUTION = 2370.85521546667
  MAP_SCALE = 0.025
  MAXIMUM_LATITUDE = -21.8909
  MINIMUM_LATITUDE = -29.4618
  POSITIVE_LONGITUDE_DIRECTION = EAST
  REFERENCE_LATITUDE = "N/A"
  REFERENCE_LONGITUDE = "N/A"
  SAMPLE_FIRST_PIXEL = 1
  SAMPLE_LAST_PIXEL = 3186
  SAMPLE_PROJECTION_OFFSET = 1479.25
  SECOND_STANDARD_PARALLEL = "N/A"
  WESTERNMOST_LONGITUDE = 214.332
END_OBJECT = IMAGE_MAP_PROJECTION
/* The JPEG2000 image data file associated with this label. */
OBJECT = COMPRESSED_FILE
  FILE_NAME = "HG688_0000_P13.JP2"
  RECORD_TYPE = UNDEFINED
  FILE_RECORDS = UNK
  ENCODING_TYPE = "JP2"
  INTERCHANGE_FORMAT = BINARY
  UNCOMPRESSED_FILE_NAME = "HG688_0000_P13.IMG"
  REQUIRED_STORAGE_BYTES = "57242862"
  ^DESCRIPTION = "JP2INFO.TXT"
END_OBJECT = COMPRESSED_FILE
END
