PDS_VERSION_ID = PDS3
/* FILE DATA ELEMENTS */
RECORD_TYPE = STREAM
/* POINTERS TO DATA OBJECTS */
^COMPRESSED_FILE = "HG688_0000_S13.JP2"
/* IDENTIFICATION DATA ELEMENTS */
DATA_SET_ID = "MEX-M-HRSC-5-REFDR-MAPPROJECTED-V3.0"
DATA_SET_NAME = "MARS EXPRESS HRSC MAP PROJECTED REFDR V3.0"
DETECTOR_ID = MEX_HRSC_S1
EVENT_TYPE = "MARS-REGIONAL-STEREO-Vo-Te"
INSTRUMENT_HOST_ID = MEX
INSTRUMENT_HOST_NAME = "MARS EXPRESS"
INSTRUMENT_ID = HRSC
INSTRUMENT_NAME = "HIGH RESOLUTION STEREO CAMERA"
MISSION_NAME = "MARS EXPRESS"
MISSION_PHASE_NAME = ME_Phase_36
PROCESSING_LEVEL_ID = 3
PRODUCT_CREATION_TIME = 2018-06-28T11:48:36.000Z
PRODUCT_ID = "HG688_0000_S13.JP2"
RELEASE_ID = 0138
REVISION_ID = 0000
/* QUALITY DATA ELEMENTS */
DATA_QUALITY_ID = 1
DATA_QUALITY_DESC = "Data calculated based on original SPICE kernels"
/* TIME DATA ELEMENTS */
SPACECRAFT_CLOCK_START_COUNT = "1/0436825046.09032"
SPACECRAFT_CLOCK_STOP_COUNT = "1/0436825230.00008"
START_TIME = 2017-03-05T20:18:41.420Z
STOP_TIME = 2017-03-05T20:20:35.903Z
/* ORBITAL DATA ELEMENTS */
ASCENDING_NODE_LONGITUDE = 260.47
MAXIMUM_RESOLUTION = 28.6
FOOTPRINT_POINT_LATITUDE = (-29.4532,-29.4526,-29.4518,-29.4507, -29.4496,-29.4484,-29.3911,-29.2378, -29.0863,-28.9331,-28.7813,-28.5532, -28.4009,-28.2488,-28.0206,-27.8691, -27.7171,-27.5644,-27.4114,-27.2594, -27.1072,-26.8789,-26.6513,-26.4201, -26.2681,-26.1156,-25.8874,-25.7349, -25.5817,-25.4291,-25.2753,-25.0456, -24.8951,-24.7441,-24.5195,-24.3677, -24.2155,-23.9881,-23.8365,-23.609, -23.4577,-23.3065,-23.1561,-23.0094, -22.7894,-22.6429,-22.4961,-22.2761, -22.1296,-21.9104,-21.9087,-21.9099, -21.9097,-21.9041,-21.9065,-22.051, -22.1957,-22.341,-22.5575,-22.707, -22.8566,-23.0033,-23.1466,-23.2941, -23.4481,-23.6007,-23.7554,-23.9099, -24.1406,-24.2913,-24.516,-24.7448, -24.8975,-25.0505,-25.2026,-25.3554, -25.5046,-25.6552,-25.8068,-25.9594, -26.1119,-26.2642,-26.4168,-26.6483, -26.8033,-26.9578,-27.1083,-27.2554, -27.4081,-27.5625,-27.7152,-27.8651, -28.0938,-28.2473,-28.4768,-28.7025, -28.854,-29.0069,-29.1593,-29.4532)
FOOTPRINT_POINT_LONGITUDE = (215.768,215.492,215.271,214.981,214.76 ,214.539,214.335,214.339,214.342, 214.346,214.349,214.354,214.357,214.36, 214.364,214.367,214.37,214.373,214.376, 214.379,214.381,214.385,214.389,214.392 ,214.395,214.397,214.401,214.403, 214.405,214.408,214.41,214.414,214.415, 214.417,214.419,214.42,214.422,214.425, 214.426,214.429,214.43,214.431,214.432, 214.434,214.436,214.437,214.438,214.44, 214.441,214.442,214.639,214.946,215.168 ,215.437,215.713,215.713,215.713, 215.714,215.715,215.717,215.719,215.72, 215.72,215.72,215.722,215.723,215.725, 215.727,215.73,215.731,215.732,215.734, 215.735,215.737,215.738,215.739,215.74, 215.74,215.741,215.743,215.744,215.745, 215.747,215.749,215.751,215.753,215.754 ,215.753,215.754,215.756,215.758, 215.758,215.76,215.762,215.764,215.765, 215.766,215.768,215.769,215.768)
ORBIT_NUMBER = 16688
ORBITAL_ECCENTRICITY = 0.579
ORBITAL_INCLINATION = 86.95
ORBITAL_SEMIMAJOR_AXIS = 8850.58
PERIAPSIS_ALTITUDE = 335.15
PERIAPSIS_ARGUMENT_ANGLE = 342.54
PERIAPSIS_TIME = 2017-03-05T20:21:15.000Z
SPACECRAFT_ORIENTATION = (0.0,1.0,0.0)
^MEX_ORIENTATION_DESC = "MEX_ORIENTATION_DESC.TXT"
SPACECRAFT_POINTING_MODE = NADIR
^MEX_POINTING_DESC = "MEX_POINTING_DESC.TXT"
RIGHT_ASCENSION = -1e+32
DECLINATION = -1e+32
OFFSET_ANGLE = -1e+32
SPACECRAFT_SOLAR_DISTANCE = 2.21288e+08
TARGET_NAME = MARS
/* CAMERA DATA ELEMENTS */
DETECTOR_TEMPERATURE = 18.3705
FOCAL_PLANE_TEMPERATURE = 9.8067
INST_CMPRS_NAME = "DISCRETE COSINE TRANSFORMATION (DCT)"
INST_CMPRS_RATIO = 9.34253
INST_CMPRS_QUALITY = 0
INST_CMPRS_QUANTZ_TBL_ID = 0
INSTRUMENT_TEMPERATURE = 12.8652
LENS_TEMPERATURE = 10.2145
MACROPIXEL_SIZE = 2
MISSING_FRAMES = 1
PIXEL_SUBSAMPLING_FLAG = N
SIGNAL_CHAIN_ID = 1
/* RADIOMETRIC DATA ELEMENTS */
BANDWIDTH = 180.0
CENTER_FILTER_WAVELENGTH = 677.0
RADIANCE_OFFSET = 3.72277
RADIANCE_SCALING_FACTOR = 0.0179255
REFLECTANCE_SCALING_FACTOR = 0.000457958
MEX:REFLECTANCE_OFFSET = 0.0951089
/* IMAGE OBJECT DEFINITIONS */
OBJECT = IMAGE
  INTERCHANGE_FORMAT = BINARY
  LINES = 17960
  LINE_SAMPLES = 3186
  SAMPLE_TYPE = UNSIGNED_INTEGER
  SAMPLE_BITS = 8
  BANDS = 1
  BAND_STORAGE_TYPE = BAND_SEQUENTIAL
  MAXIMUM = 255
  MEAN = 127.184
  MINIMUM = 1
  STANDARD_DEVIATION = 24.0072
END_OBJECT = IMAGE
/* MAP OBJECT DEFINITIONS */
OBJECT = IMAGE_MAP_PROJECTION
  ^DATA_SET_MAP_PROJECTION_CATALOG= "DSMAP.CAT"
  A_AXIS_RADIUS = 3396.0
  B_AXIS_RADIUS = 3396.0
  C_AXIS_RADIUS = 3396.0
  CENTER_LATITUDE = 0.0
  CENTER_LONGITUDE = 215.0
  COORDINATE_SYSTEM_NAME = PLANETOGRAPHIC
  COORDINATE_SYSTEM_TYPE = "BODY-FIXED ROTATING"
  EASTERNMOST_LONGITUDE = 215.769
  FIRST_STANDARD_PARALLEL = "N/A"
  LINE_FIRST_PIXEL = 1
  LINE_LAST_PIXEL = 17960
  LINE_PROJECTION_OFFSET = -51945.25
  MAP_PROJECTION_ROTATION = 0.0
  MAP_PROJECTION_TYPE = SINUSOIDAL
  MAP_RESOLUTION = 2370.85521546667
  MAP_SCALE = 0.025
  MAXIMUM_LATITUDE = -21.9041
  MINIMUM_LATITUDE = -29.4532
  POSITIVE_LONGITUDE_DIRECTION = EAST
  REFERENCE_LATITUDE = "N/A"
  REFERENCE_LONGITUDE = "N/A"
  SAMPLE_FIRST_PIXEL = 1
  SAMPLE_LAST_PIXEL = 3186
  SAMPLE_PROJECTION_OFFSET = 1479.25
  SECOND_STANDARD_PARALLEL = "N/A"
  WESTERNMOST_LONGITUDE = 214.335
END_OBJECT = IMAGE_MAP_PROJECTION
/* The JPEG2000 image data file associated with this label. */
OBJECT = COMPRESSED_FILE
  FILE_NAME = "HG688_0000_S13.JP2"
  RECORD_TYPE = UNDEFINED
  FILE_RECORDS = UNK
  ENCODING_TYPE = "JP2"
  INTERCHANGE_FORMAT = BINARY
  UNCOMPRESSED_FILE_NAME = "HG688_0000_S13.IMG"
  REQUIRED_STORAGE_BYTES = "57242862"
  ^DESCRIPTION = "JP2INFO.TXT"
END_OBJECT = COMPRESSED_FILE
END
