PDS_VERSION_ID = PDS3
/* FILE DATA ELEMENTS */
RECORD_TYPE = STREAM
/* POINTERS TO DATA OBJECTS */
^COMPRESSED_FILE = "HG698_0000_S13.JP2"
/* IDENTIFICATION DATA ELEMENTS */
DATA_SET_ID = "MEX-M-HRSC-5-REFDR-MAPPROJECTED-V3.0"
DATA_SET_NAME = "MARS EXPRESS HRSC MAP PROJECTED REFDR V3.0"
DETECTOR_ID = MEX_HRSC_S1
EVENT_TYPE = "MARS-REGIONAL-MAPPING-Vo-Te"
INSTRUMENT_HOST_ID = MEX
INSTRUMENT_HOST_NAME = "MARS EXPRESS"
INSTRUMENT_ID = HRSC
INSTRUMENT_NAME = "HIGH RESOLUTION STEREO CAMERA"
MISSION_NAME = "MARS EXPRESS"
MISSION_PHASE_NAME = ME_Phase_36
PROCESSING_LEVEL_ID = 3
PRODUCT_CREATION_TIME = 2018-06-28T11:48:36.000Z
PRODUCT_ID = "HG698_0000_S13.JP2"
RELEASE_ID = 0138
REVISION_ID = 0000
/* QUALITY DATA ELEMENTS */
DATA_QUALITY_ID = 1
DATA_QUALITY_DESC = "Data calculated based on original SPICE kernels"
/* TIME DATA ELEMENTS */
SPACECRAFT_CLOCK_START_COUNT = "1/0437076901.07305"
SPACECRAFT_CLOCK_STOP_COUNT = "1/0437077050.32481"
START_TIME = 2017-03-08T18:16:14.002Z
STOP_TIME = 2017-03-08T18:17:36.362Z
/* ORBITAL DATA ELEMENTS */
ASCENDING_NODE_LONGITUDE = 260.28
MAXIMUM_RESOLUTION = 28.3
FOOTPRINT_POINT_LATITUDE = (-28.7586,-28.7608,-28.7628,-28.7647, -28.7664,-28.7681,-28.7722,-28.6078, -28.4434,-28.3345,-28.2257,-28.1167, -27.9529,-27.8437,-27.6798,-27.5704, -27.4612,-27.352,-27.2426,-27.1336, -27.0244,-26.8605,-26.7513,-26.6417, -26.5325,-26.4234,-26.2599,-26.0963, -25.9326,-25.7689,-25.6053,-25.4961, -25.3872,-25.278,-25.169,-25.0601, -24.9509,-24.8448,-24.7393,-24.5812, -24.4757,-24.3175,-24.1595,-24.0541, -23.896,-23.7381,-23.4751,-23.3389, -23.3355,-23.3331,-23.331,-23.3283, -23.3255,-23.3225,-23.4796,-23.5851, -23.6908,-23.7963,-23.9545,-24.1653, -24.2712,-24.3766,-24.482,-24.6401, -24.7455,-24.8509,-24.9579,-25.0669, -25.2304,-25.3395,-25.4486,-25.558, -25.6671,-25.831,-25.9403,-26.0498, -26.159,-26.2682,-26.3775,-26.4871, -26.5964,-26.7056,-26.8151,-26.9245, -27.0885,-27.1978,-27.3071,-27.4711, -27.5806,-27.6898,-27.799,-27.9081, -28.0723,-28.1817,-28.2911,-28.4005, -28.5103,-28.6196,-28.729,-28.7586)
FOOTPRINT_POINT_LONGITUDE = (272.275,272.063,271.849,271.636, 271.421,271.205,271.051,271.055,271.059 ,271.061,271.063,271.065,271.069, 271.071,271.075,271.077,271.079,271.082 ,271.084,271.086,271.088,271.091, 271.093,271.096,271.098,271.1,271.102, 271.105,271.108,271.111,271.114,271.115 ,271.117,271.119,271.12,271.122,271.124 ,271.125,271.127,271.129,271.131, 271.133,271.135,271.136,271.138,271.14, 271.143,271.145,271.381,271.579,271.739 ,271.936,272.132,272.327,272.417, 272.417,272.418,272.418,272.419,272.419 ,272.42,272.42,272.421,272.421,272.421, 272.422,272.422,272.423,272.423,272.423 ,272.424,272.424,272.425,272.425, 272.425,272.426,272.426,272.427,272.427 ,272.427,272.428,272.428,272.429, 272.429,272.429,272.43,272.43,272.431, 272.431,272.431,272.432,272.432,272.433 ,272.433,272.433,272.434,272.434, 272.434,272.435,272.275)
ORBIT_NUMBER = 16698
ORBITAL_ECCENTRICITY = 0.579
ORBITAL_INCLINATION = 86.93
ORBITAL_SEMIMAJOR_AXIS = 8856.76
PERIAPSIS_ALTITUDE = 334.36
PERIAPSIS_ARGUMENT_ANGLE = 340.82
PERIAPSIS_TIME = 2017-03-08T18:18:12.000Z
SPACECRAFT_ORIENTATION = (0.0,1.0,0.0)
^MEX_ORIENTATION_DESC = "MEX_ORIENTATION_DESC.TXT"
SPACECRAFT_POINTING_MODE = ACROSSTRACK
^MEX_POINTING_DESC = "MEX_POINTING_DESC.TXT"
RIGHT_ASCENSION = -1e+32
DECLINATION = -1e+32
OFFSET_ANGLE = 0.269
SPACECRAFT_SOLAR_DISTANCE = 2.21845e+08
TARGET_NAME = MARS
/* CAMERA DATA ELEMENTS */
DETECTOR_TEMPERATURE = 17.7588
FOCAL_PLANE_TEMPERATURE = 8.9911
INST_CMPRS_NAME = "DISCRETE COSINE TRANSFORMATION (DCT)"
INST_CMPRS_RATIO = 10.6128
INST_CMPRS_QUALITY = 0
INST_CMPRS_QUANTZ_TBL_ID = 0
INSTRUMENT_TEMPERATURE = 11.4379
LENS_TEMPERATURE = 9.6028
MACROPIXEL_SIZE = 2
MISSING_FRAMES = 0
PIXEL_SUBSAMPLING_FLAG = N
SIGNAL_CHAIN_ID = 1
/* RADIOMETRIC DATA ELEMENTS */
BANDWIDTH = 180.0
CENTER_FILTER_WAVELENGTH = 677.0
RADIANCE_OFFSET = 3.20441
RADIANCE_SCALING_FACTOR = 0.0101639
REFLECTANCE_SCALING_FACTOR = 0.000260978
MEX:REFLECTANCE_OFFSET = 0.0822793
/* IMAGE OBJECT DEFINITIONS */
OBJECT = IMAGE
  INTERCHANGE_FORMAT = BINARY
  LINES = 12943
  LINE_SAMPLES = 3109
  SAMPLE_TYPE = UNSIGNED_INTEGER
  SAMPLE_BITS = 8
  BANDS = 1
  BAND_STORAGE_TYPE = BAND_SEQUENTIAL
  MAXIMUM = 255
  MEAN = 106.854
  MINIMUM = 1
  STANDARD_DEVIATION = 15.8599
END_OBJECT = IMAGE
/* MAP OBJECT DEFINITIONS */
OBJECT = IMAGE_MAP_PROJECTION
  ^DATA_SET_MAP_PROJECTION_CATALOG= "DSMAP.CAT"
  A_AXIS_RADIUS = 3396.0
  B_AXIS_RADIUS = 3396.0
  C_AXIS_RADIUS = 3396.0
  CENTER_LATITUDE = 0.0
  CENTER_LONGITUDE = 272.0
  COORDINATE_SYSTEM_NAME = PLANETOGRAPHIC
  COORDINATE_SYSTEM_TYPE = "BODY-FIXED ROTATING"
  EASTERNMOST_LONGITUDE = 272.435
  FIRST_STANDARD_PARALLEL = "N/A"
  LINE_FIRST_PIXEL = 1
  LINE_LAST_PIXEL = 12943
  LINE_PROJECTION_OFFSET = -55357.25
  MAP_PROJECTION_ROTATION = 0.0
  MAP_PROJECTION_TYPE = SINUSOIDAL
  MAP_RESOLUTION = 2370.85521546667
  MAP_SCALE = 0.025
  MAXIMUM_LATITUDE = -23.3225
  MINIMUM_LATITUDE = -28.7722
  POSITIVE_LONGITUDE_DIRECTION = EAST
  REFERENCE_LATITUDE = "N/A"
  REFERENCE_LONGITUDE = "N/A"
  SAMPLE_FIRST_PIXEL = 1
  SAMPLE_LAST_PIXEL = 3109
  SAMPLE_PROJECTION_OFFSET = 2127.75
  SECOND_STANDARD_PARALLEL = "N/A"
  WESTERNMOST_LONGITUDE = 271.051
END_OBJECT = IMAGE_MAP_PROJECTION
/* The JPEG2000 image data file associated with this label. */
OBJECT = COMPRESSED_FILE
  FILE_NAME = "HG698_0000_S13.JP2"
  RECORD_TYPE = UNDEFINED
  FILE_RECORDS = UNK
  ENCODING_TYPE = "JP2"
  INTERCHANGE_FORMAT = BINARY
  UNCOMPRESSED_FILE_NAME = "HG698_0000_S13.IMG"
  REQUIRED_STORAGE_BYTES = "40264659"
  ^DESCRIPTION = "JP2INFO.TXT"
END_OBJECT = COMPRESSED_FILE
END
