PDS_VERSION_ID = PDS3
/* FILE DATA ELEMENTS */
RECORD_TYPE = STREAM
/* POINTERS TO DATA OBJECTS */
^COMPRESSED_FILE = "HG700_0000_IR3.JP2"
/* IDENTIFICATION DATA ELEMENTS */
DATA_SET_ID = "MEX-M-HRSC-5-REFDR-MAPPROJECTED-V3.0"
DATA_SET_NAME = "MARS EXPRESS HRSC MAP PROJECTED REFDR V3.0"
DETECTOR_ID = MEX_HRSC_IR
EVENT_TYPE = "MARS-REGIONAL-MAPPING-Fl-Gl-La"
INSTRUMENT_HOST_ID = MEX
INSTRUMENT_HOST_NAME = "MARS EXPRESS"
INSTRUMENT_ID = HRSC
INSTRUMENT_NAME = "HIGH RESOLUTION STEREO CAMERA"
MISSION_NAME = "MARS EXPRESS"
MISSION_PHASE_NAME = ME_Phase_36
PROCESSING_LEVEL_ID = 3
PRODUCT_CREATION_TIME = 2018-06-28T11:48:36.000Z
PRODUCT_ID = "HG700_0000_IR3.JP2"
RELEASE_ID = 0138
REVISION_ID = 0000
/* QUALITY DATA ELEMENTS */
DATA_QUALITY_ID = 1
DATA_QUALITY_DESC = "Data calculated based on original SPICE kernels"
/* TIME DATA ELEMENTS */
SPACECRAFT_CLOCK_START_COUNT = "1/0437127217.07911"
SPACECRAFT_CLOCK_STOP_COUNT = "1/0437127487.40678"
START_TIME = 2017-03-09T08:14:47.533Z
STOP_TIME = 2017-03-09T08:16:06.451Z
/* ORBITAL DATA ELEMENTS */
ASCENDING_NODE_LONGITUDE = 260.24
MAXIMUM_RESOLUTION = 57.3
FOOTPRINT_POINT_LATITUDE = (-31.6228,-31.6279,-31.6328,-31.6376, -31.6422,-31.6467,-31.6496,-31.5029, -31.3996,-31.1951,-31.0921,-30.9377, -30.8348,-30.6811,-30.5785,-30.4241, -30.2699,-30.1672,-30.0645,-29.9618, -29.8589,-29.756,-29.6523,-29.5487, -29.3909,-29.2861,-29.1837,-29.0298, -28.9266,-28.823,-28.7157,-28.5571, -28.4543,-28.3515,-28.2484,-28.0919, -27.9874,-27.884,-27.6812,-27.5788, -27.4259,-27.3231,-27.2197,-27.1162, -27.0084,-26.8501,-26.6452,-26.4827, -26.4778,-26.4743,-26.4689,-26.4649, -26.4578,-26.4511,-26.4995,-26.6031, -26.7576,-26.8605,-26.9633,-27.0657, -27.1684,-27.3238,-27.4272,-27.5301, -27.6845,-27.7874,-27.8901,-27.9933, -28.0963,-28.2525,-28.3564,-28.4596, -28.5644,-28.67,-28.7813,-28.8877, -28.9926,-29.0958,-29.2988,-29.4036, -29.559,-29.6622,-29.7655,-29.8685, -29.9719,-30.0747,-30.1776,-30.2807, -30.4352,-30.5381,-30.6924,-30.8466, -31.0012,-31.1043,-31.2074,-31.3109, -31.4136,-31.5162,-31.6191,-31.6228)
FOOTPRINT_POINT_LONGITUDE = (67.0468,66.8291,66.6092,66.3872, 66.1632,65.9366,65.7794,65.7221,65.7266 ,65.7333,65.7375,65.7435,65.7474, 65.7525,65.7561,65.7618,65.7672,65.7707 ,65.774,65.7775,65.781,65.7846,65.7889, 65.793,65.8017,65.807,65.8099,65.8144, 65.818,65.822,65.8297,65.8387,65.8418, 65.8447,65.848,65.8548,65.8594,65.8629, 65.8657,65.8681,65.8709,65.8737,65.877, 65.8804,65.8881,65.8961,65.9006,65.9827 ,66.1786,66.3209,66.5264,66.6792, 66.9194,67.132,67.2723,67.272,67.2716, 67.2714,67.2712,67.2711,67.2709,67.2704 ,67.2701,67.2699,67.2695,67.2692,67.269 ,67.2688,67.2685,67.2678,67.2674, 67.2671,67.2666,67.2659,67.2644,67.2636 ,67.2631,67.2627,67.2626,67.262,67.2615 ,67.2611,67.2608,67.2604,67.2601, 67.2598,67.2595,67.2591,67.2586,67.2583 ,67.2578,67.2573,67.2567,67.2563, 67.2559,67.2555,67.2551,67.2548,67.2544 ,67.0468)
ORBIT_NUMBER = 16700
ORBITAL_ECCENTRICITY = 0.579
ORBITAL_INCLINATION = 86.96
ORBITAL_SEMIMAJOR_AXIS = 8851.96
PERIAPSIS_ALTITUDE = 333.89
PERIAPSIS_ARGUMENT_ANGLE = 340.47
PERIAPSIS_TIME = 2017-03-09T08:17:28.000Z
SPACECRAFT_ORIENTATION = (0.0,1.0,0.0)
^MEX_ORIENTATION_DESC = "MEX_ORIENTATION_DESC.TXT"
SPACECRAFT_POINTING_MODE = ACROSSTRACK
^MEX_POINTING_DESC = "MEX_POINTING_DESC.TXT"
RIGHT_ASCENSION = -1e+32
DECLINATION = -1e+32
OFFSET_ANGLE = 0.8
SPACECRAFT_SOLAR_DISTANCE = 2.21957e+08
TARGET_NAME = MARS
/* CAMERA DATA ELEMENTS */
DETECTOR_TEMPERATURE = 0.0
FOCAL_PLANE_TEMPERATURE = 0.0
INST_CMPRS_NAME = "DISCRETE COSINE TRANSFORMATION (DCT)"
INST_CMPRS_RATIO = 11.0947
INST_CMPRS_QUALITY = 0
INST_CMPRS_QUANTZ_TBL_ID = 0
INSTRUMENT_TEMPERATURE = 0.0
LENS_TEMPERATURE = 0.0
MACROPIXEL_SIZE = 4
MISSING_FRAMES = 0
PIXEL_SUBSAMPLING_FLAG = N
SIGNAL_CHAIN_ID = 2
/* RADIOMETRIC DATA ELEMENTS */
BANDWIDTH = 81.0
CENTER_FILTER_WAVELENGTH = 955.5
RADIANCE_OFFSET = 0.88554
RADIANCE_SCALING_FACTOR = 0.00254339
REFLECTANCE_SCALING_FACTOR = 0.00027032
MEX:REFLECTANCE_OFFSET = 0.0941183
/* IMAGE OBJECT DEFINITIONS */
OBJECT = IMAGE
  INTERCHANGE_FORMAT = BINARY
  LINES = 8167
  LINE_SAMPLES = 1660
  SAMPLE_TYPE = UNSIGNED_INTEGER
  SAMPLE_BITS = 8
  BANDS = 1
  BAND_STORAGE_TYPE = BAND_SEQUENTIAL
  MAXIMUM = 255
  MEAN = 119.76
  MINIMUM = 1
  STANDARD_DEVIATION = 38.5044
END_OBJECT = IMAGE
/* MAP OBJECT DEFINITIONS */
OBJECT = IMAGE_MAP_PROJECTION
  ^DATA_SET_MAP_PROJECTION_CATALOG= "DSMAP.CAT"
  A_AXIS_RADIUS = 3396.0
  B_AXIS_RADIUS = 3396.0
  C_AXIS_RADIUS = 3396.0
  CENTER_LATITUDE = 0.0
  CENTER_LONGITUDE = 67.0
  COORDINATE_SYSTEM_NAME = PLANETOGRAPHIC
  COORDINATE_SYSTEM_TYPE = "BODY-FIXED ROTATING"
  EASTERNMOST_LONGITUDE = 67.2723
  FIRST_STANDARD_PARALLEL = "N/A"
  LINE_FIRST_PIXEL = 1
  LINE_LAST_PIXEL = 8167
  LINE_PROJECTION_OFFSET = -29377.625
  MAP_PROJECTION_ROTATION = 0.0
  MAP_PROJECTION_TYPE = SINUSOIDAL
  MAP_RESOLUTION = 1185.42760773333
  MAP_SCALE = 0.05
  MAXIMUM_LATITUDE = -26.4511
  MINIMUM_LATITUDE = -31.6496
  POSITIVE_LONGITUDE_DIRECTION = EAST
  REFERENCE_LATITUDE = "N/A"
  REFERENCE_LONGITUDE = "N/A"
  SAMPLE_FIRST_PIXEL = 1
  SAMPLE_LAST_PIXEL = 1660
  SAMPLE_PROJECTION_OFFSET = 1351.875
  SECOND_STANDARD_PARALLEL = "N/A"
  WESTERNMOST_LONGITUDE = 65.7221
END_OBJECT = IMAGE_MAP_PROJECTION
/* The JPEG2000 image data file associated with this label. */
OBJECT = COMPRESSED_FILE
  FILE_NAME = "HG700_0000_IR3.JP2"
  RECORD_TYPE = UNDEFINED
  FILE_RECORDS = UNK
  ENCODING_TYPE = "JP2"
  INTERCHANGE_FORMAT = BINARY
  UNCOMPRESSED_FILE_NAME = "HG700_0000_IR3.IMG"
  REQUIRED_STORAGE_BYTES = "13577140"
  ^DESCRIPTION = "JP2INFO.TXT"
END_OBJECT = COMPRESSED_FILE
END
