PDS_VERSION_ID = PDS3
/* FILE DATA ELEMENTS */
RECORD_TYPE = STREAM
/* POINTERS TO DATA OBJECTS */
^COMPRESSED_FILE = "HG701_0000_P13.JP2"
/* IDENTIFICATION DATA ELEMENTS */
DATA_SET_ID = "MEX-M-HRSC-5-REFDR-MAPPROJECTED-V3.0"
DATA_SET_NAME = "MARS EXPRESS HRSC MAP PROJECTED REFDR V3.0"
DETECTOR_ID = MEX_HRSC_P1
EVENT_TYPE = "MARS-REGIONAL-STEREO-Im-Fl-Lc"
INSTRUMENT_HOST_ID = MEX
INSTRUMENT_HOST_NAME = "MARS EXPRESS"
INSTRUMENT_ID = HRSC
INSTRUMENT_NAME = "HIGH RESOLUTION STEREO CAMERA"
MISSION_NAME = "MARS EXPRESS"
MISSION_PHASE_NAME = ME_Phase_36
PROCESSING_LEVEL_ID = 3
PRODUCT_CREATION_TIME = 2018-06-28T11:48:36.000Z
PRODUCT_ID = "HG701_0000_P13.JP2"
RELEASE_ID = 0138
REVISION_ID = 0000
/* QUALITY DATA ELEMENTS */
DATA_QUALITY_ID = 1
DATA_QUALITY_DESC = "Data calculated based on original SPICE kernels"
/* TIME DATA ELEMENTS */
SPACECRAFT_CLOCK_START_COUNT = "1/0437152442.09063"
SPACECRAFT_CLOCK_STOP_COUNT = "1/0437152605.01337"
START_TIME = 2017-03-09T15:15:03.776Z
STOP_TIME = 2017-03-09T15:16:40.779Z
/* ORBITAL DATA ELEMENTS */
ASCENDING_NODE_LONGITUDE = 260.23
MAXIMUM_RESOLUTION = 27.6
FOOTPRINT_POINT_LATITUDE = (-28.9564,-28.9557,-28.9549,-28.9543, -28.9531,-28.9516,-28.9052,-28.7778, -28.6499,-28.521,-28.3931,-28.2013, -28.0095,-27.881,-27.688,-27.559, -27.429,-27.2338,-27.1031,-26.974, -26.8465,-26.7178,-26.5882,-26.4594, -26.332,-26.2031,-26.0104,-25.8819, -25.7508,-25.6221,-25.4964,-25.368, -25.2388,-25.1087,-24.979,-24.8541, -24.7302,-24.6059,-24.4818,-24.3574, -24.2333,-24.109,-23.9229,-23.7991, -23.6127,-23.4885,-23.3645,-23.1784, -23.0542,-22.9302,-22.7441,-22.6007, -22.6011,-22.6011,-22.6012,-22.6014, -22.6014,-22.6014,-22.7881,-22.9744, -23.0988,-23.2238,-23.3495,-23.4738, -23.5988,-23.7232,-23.8475,-23.9715, -24.2188,-24.467,-24.5908,-24.7149, -24.8406,-24.9701,-25.1651,-25.2951, -25.4242,-25.5535,-25.7469,-25.8757, -26.0038,-26.133,-26.2614,-26.3907, -26.5194,-26.7121,-26.9044,-27.0329, -27.2233,-27.4119,-27.5399,-27.7322, -27.9247,-28.0531,-28.1814,-28.3102, -28.5028,-28.6315,-28.8244,-28.9564)
FOOTPRINT_POINT_LONGITUDE = (325.773,325.492,325.291,325.144,324.93 ,324.689,324.515,324.517,324.519, 324.522,324.524,324.527,324.53,324.533, 324.536,324.539,324.542,324.546,324.55, 324.552,324.553,324.555,324.558,324.56, 324.561,324.563,324.566,324.568,324.571 ,324.573,324.573,324.574,324.576, 324.579,324.581,324.582,324.583,324.585 ,324.586,324.587,324.588,324.59,324.591 ,324.592,324.594,324.595,324.596, 324.597,324.598,324.599,324.6,324.626, 324.847,325.143,325.291,325.488,325.636 ,325.771,325.876,325.877,325.878, 325.879,325.88,325.881,325.882,325.883, 325.884,325.884,325.885,325.886,325.887 ,325.888,325.889,325.892,325.894, 325.896,325.897,325.898,325.9,325.901, 325.901,325.902,325.903,325.904,325.905 ,325.906,325.907,325.908,325.908, 325.907,325.907,325.908,325.909,325.91, 325.91,325.911,325.912,325.913,325.915, 325.773)
ORBIT_NUMBER = 16701
ORBITAL_ECCENTRICITY = 0.578
ORBITAL_INCLINATION = 86.95
ORBITAL_SEMIMAJOR_AXIS = 8843.9
PERIAPSIS_ALTITUDE = 334.55
PERIAPSIS_ARGUMENT_ANGLE = 340.3
PERIAPSIS_TIME = 2017-03-09T15:17:07.000Z
SPACECRAFT_ORIENTATION = (0.0,1.0,0.0)
^MEX_ORIENTATION_DESC = "MEX_ORIENTATION_DESC.TXT"
SPACECRAFT_POINTING_MODE = NADIR
^MEX_POINTING_DESC = "MEX_POINTING_DESC.TXT"
RIGHT_ASCENSION = -1e+32
DECLINATION = -1e+32
OFFSET_ANGLE = -1e+32
SPACECRAFT_SOLAR_DISTANCE = 2.22013e+08
TARGET_NAME = MARS
/* CAMERA DATA ELEMENTS */
DETECTOR_TEMPERATURE = 18.1666
FOCAL_PLANE_TEMPERATURE = 8.7872
INST_CMPRS_NAME = "DISCRETE COSINE TRANSFORMATION (DCT)"
INST_CMPRS_RATIO = 14.006
INST_CMPRS_QUALITY = 0
INST_CMPRS_QUANTZ_TBL_ID = 0
INSTRUMENT_TEMPERATURE = 11.6418
LENS_TEMPERATURE = 8.9911
MACROPIXEL_SIZE = 2
MISSING_FRAMES = 0
PIXEL_SUBSAMPLING_FLAG = N
SIGNAL_CHAIN_ID = 3
/* RADIOMETRIC DATA ELEMENTS */
BANDWIDTH = 174.0
CENTER_FILTER_WAVELENGTH = 675.0
RADIANCE_OFFSET = 4.65223
RADIANCE_SCALING_FACTOR = 0.00560124
REFLECTANCE_SCALING_FACTOR = 0.0001485
MEX:REFLECTANCE_OFFSET = 0.12334
/* IMAGE OBJECT DEFINITIONS */
OBJECT = IMAGE
  INTERCHANGE_FORMAT = BINARY
  LINES = 15107
  LINE_SAMPLES = 3090
  SAMPLE_TYPE = UNSIGNED_INTEGER
  SAMPLE_BITS = 8
  BANDS = 1
  BAND_STORAGE_TYPE = BAND_SEQUENTIAL
  MAXIMUM = 255
  MEAN = 100.087
  MINIMUM = 1
  STANDARD_DEVIATION = 37.3345
END_OBJECT = IMAGE
/* MAP OBJECT DEFINITIONS */
OBJECT = IMAGE_MAP_PROJECTION
  ^DATA_SET_MAP_PROJECTION_CATALOG= "DSMAP.CAT"
  A_AXIS_RADIUS = 3396.0
  B_AXIS_RADIUS = 3396.0
  C_AXIS_RADIUS = 3396.0
  CENTER_LATITUDE = 0.0
  CENTER_LONGITUDE = 325.0
  COORDINATE_SYSTEM_NAME = PLANETOGRAPHIC
  COORDINATE_SYSTEM_TYPE = "BODY-FIXED ROTATING"
  EASTERNMOST_LONGITUDE = 325.915
  FIRST_STANDARD_PARALLEL = "N/A"
  LINE_FIRST_PIXEL = 1
  LINE_LAST_PIXEL = 15107
  LINE_PROJECTION_OFFSET = -53590.25
  MAP_PROJECTION_ROTATION = 0.0
  MAP_PROJECTION_TYPE = SINUSOIDAL
  MAP_RESOLUTION = 2370.85521546667
  MAP_SCALE = 0.025
  MAXIMUM_LATITUDE = -22.6007
  MINIMUM_LATITUDE = -28.9564
  POSITIVE_LONGITUDE_DIRECTION = EAST
  REFERENCE_LATITUDE = "N/A"
  REFERENCE_LONGITUDE = "N/A"
  SAMPLE_FIRST_PIXEL = 1
  SAMPLE_LAST_PIXEL = 3090
  SAMPLE_PROJECTION_OFFSET = 1088.75
  SECOND_STANDARD_PARALLEL = "N/A"
  WESTERNMOST_LONGITUDE = 324.515
END_OBJECT = IMAGE_MAP_PROJECTION
/* The JPEG2000 image data file associated with this label. */
OBJECT = COMPRESSED_FILE
  FILE_NAME = "HG701_0000_P13.JP2"
  RECORD_TYPE = UNDEFINED
  FILE_RECORDS = UNK
  ENCODING_TYPE = "JP2"
  INTERCHANGE_FORMAT = BINARY
  UNCOMPRESSED_FILE_NAME = "HG701_0000_P13.IMG"
  REQUIRED_STORAGE_BYTES = "46705350"
  ^DESCRIPTION = "JP2INFO.TXT"
END_OBJECT = COMPRESSED_FILE
END
