PDS_VERSION_ID = PDS3
/* FILE DATA ELEMENTS */
RECORD_TYPE = STREAM
/* POINTERS TO DATA OBJECTS */
^COMPRESSED_FILE = "HG707_0000_BL3.JP2"
/* IDENTIFICATION DATA ELEMENTS */
DATA_SET_ID = "MEX-M-HRSC-5-REFDR-MAPPROJECTED-V3.0"
DATA_SET_NAME = "MARS EXPRESS HRSC MAP PROJECTED REFDR V3.0"
DETECTOR_ID = MEX_HRSC_BLUE
EVENT_TYPE = "MARS-REGIONAL-MAPPING-Fl-Gl-La"
INSTRUMENT_HOST_ID = MEX
INSTRUMENT_HOST_NAME = "MARS EXPRESS"
INSTRUMENT_ID = HRSC
INSTRUMENT_NAME = "HIGH RESOLUTION STEREO CAMERA"
MISSION_NAME = "MARS EXPRESS"
MISSION_PHASE_NAME = ME_Phase_36
PROCESSING_LEVEL_ID = 3
PRODUCT_CREATION_TIME = 2018-06-28T11:48:36.000Z
PRODUCT_ID = "HG707_0000_BL3.JP2"
RELEASE_ID = 0138
REVISION_ID = 0000
/* QUALITY DATA ELEMENTS */
DATA_QUALITY_ID = 1
DATA_QUALITY_DESC = "Data calculated based on original SPICE kernels"
/* TIME DATA ELEMENTS */
SPACECRAFT_CLOCK_START_COUNT = "1/0437303518.09039"
SPACECRAFT_CLOCK_STOP_COUNT = "1/0437303767.08632"
START_TIME = 2017-03-11T09:12:34.289Z
STOP_TIME = 2017-03-11T09:15:37.723Z
/* ORBITAL DATA ELEMENTS */
ASCENDING_NODE_LONGITUDE = 260.11
MAXIMUM_RESOLUTION = 53.2
FOOTPRINT_POINT_LATITUDE = (-30.7587,-30.755,-30.7508,-30.7462, -30.7411,-30.7356,-30.594,-30.3565, -30.1188,-29.8811,-29.6431,-29.4051, -29.1676,-28.9304,-28.5733,-28.2175, -27.9791,-27.7384,-27.4986,-27.1412, -26.902,-26.5433,-26.1835,-25.9431, -25.5828,-25.3424,-24.9822,-24.6207, -24.3805,-24.1397,-23.7782,-23.538, -23.2972,-23.0621,-22.8289,-22.5953, -22.3622,-22.1288,-21.896,-21.6606, -21.3117,-20.9626,-20.7278,-20.4933, -20.2596,-20.0255,-19.792,-19.559, -19.3239,-19.0897,-18.8558,-18.8287, -18.8311,-18.8333,-18.8351,-18.8369, -18.8391,-19.0733,-19.3078,-19.5425, -19.7762,-20.011,-20.3615,-20.597, -20.8313,-21.1807,-21.4143,-21.6482, -21.8823,-22.1158,-22.3494,-22.583, -22.8167,-23.0501,-23.4052,-23.7666, -24.0078,-24.249,-24.4901,-24.7311, -25.092,-25.3324,-25.573,-25.8137, -26.175,-26.4149,-26.7753,-27.135, -27.3749,-27.7343,-28.0931,-28.3324, -28.6911,-28.9283,-29.1667,-29.5242, -29.8818,-30.239,-30.4769,-30.7587)
FOOTPRINT_POINT_LONGITUDE = (71.1531,70.9404,70.7258,70.5092, 70.2909,70.0706,69.7516,69.7598,69.7678 ,69.7762,69.7842,69.7923,69.8028, 69.8149,69.8286,69.8482,69.857,69.8577, 69.8621,69.8781,69.8856,69.8977,69.9063 ,69.9103,69.9179,69.9228,69.9316, 69.9363,69.9423,69.9465,69.9524,69.9592 ,69.9639,69.9659,69.9701,69.9728, 69.9777,69.9816,69.9876,69.9842,69.9944 ,70.0043,70.003,70.003,70.0062,70.0075, 70.0112,70.0166,70.0144,70.0154,70.0173 ,70.3386,70.5266,70.7126,70.8856, 71.1023,71.2645,71.2645,71.2646,71.2649 ,71.2646,71.2649,71.2646,71.2653, 71.2654,71.2645,71.2642,71.2642,71.2643 ,71.264,71.2638,71.2636,71.2636,71.2634 ,71.2635,71.2632,71.263,71.263,71.2628, 71.2628,71.2624,71.262,71.2618,71.2618, 71.2618,71.2614,71.2611,71.2607,71.2604 ,71.26,71.2593,71.259,71.2584,71.2573, 71.2568,71.256,71.2554,71.2546,71.2542, 71.1531)
ORBIT_NUMBER = 16707
ORBITAL_ECCENTRICITY = 0.579
ORBITAL_INCLINATION = 86.95
ORBITAL_SEMIMAJOR_AXIS = 8850.67
PERIAPSIS_ALTITUDE = 333.38
PERIAPSIS_ARGUMENT_ANGLE = 339.26
PERIAPSIS_TIME = 2017-03-11T09:15:15.000Z
SPACECRAFT_ORIENTATION = (0.0,1.0,0.0)
^MEX_ORIENTATION_DESC = "MEX_ORIENTATION_DESC.TXT"
SPACECRAFT_POINTING_MODE = ACROSSTRACK
^MEX_POINTING_DESC = "MEX_POINTING_DESC.TXT"
RIGHT_ASCENSION = -1e+32
DECLINATION = -1e+32
OFFSET_ANGLE = 0.75
SPACECRAFT_SOLAR_DISTANCE = 2.2235e+08
TARGET_NAME = MARS
/* CAMERA DATA ELEMENTS */
DETECTOR_TEMPERATURE = 18.5744
FOCAL_PLANE_TEMPERATURE = 8.5833
INST_CMPRS_NAME = "DISCRETE COSINE TRANSFORMATION (DCT)"
INST_CMPRS_RATIO = 4.74231
INST_CMPRS_QUALITY = 0
INST_CMPRS_QUANTZ_TBL_ID = 0
INSTRUMENT_TEMPERATURE = 11.8457
LENS_TEMPERATURE = 8.7872
MACROPIXEL_SIZE = 4
MISSING_FRAMES = 0
PIXEL_SUBSAMPLING_FLAG = N
SIGNAL_CHAIN_ID = 2
/* RADIOMETRIC DATA ELEMENTS */
BANDWIDTH = 76.0
CENTER_FILTER_WAVELENGTH = 444.0
RADIANCE_OFFSET = 0.539058
RADIANCE_SCALING_FACTOR = 0.0015441
REFLECTANCE_SCALING_FACTOR = 7.84343e-05
MEX:REFLECTANCE_OFFSET = 0.027382
/* IMAGE OBJECT DEFINITIONS */
OBJECT = IMAGE
  INTERCHANGE_FORMAT = BINARY
  LINES = 14134
  LINE_SAMPLES = 1624
  SAMPLE_TYPE = UNSIGNED_INTEGER
  SAMPLE_BITS = 8
  BANDS = 1
  BAND_STORAGE_TYPE = BAND_SEQUENTIAL
  MAXIMUM = 255
  MEAN = 143.613
  MINIMUM = 1
  STANDARD_DEVIATION = 27.9012
END_OBJECT = IMAGE
/* MAP OBJECT DEFINITIONS */
OBJECT = IMAGE_MAP_PROJECTION
  ^DATA_SET_MAP_PROJECTION_CATALOG= "DSMAP.CAT"
  A_AXIS_RADIUS = 3396.0
  B_AXIS_RADIUS = 3396.0
  C_AXIS_RADIUS = 3396.0
  CENTER_LATITUDE = 0.0
  CENTER_LONGITUDE = 71.0
  COORDINATE_SYSTEM_NAME = PLANETOGRAPHIC
  COORDINATE_SYSTEM_TYPE = "BODY-FIXED ROTATING"
  EASTERNMOST_LONGITUDE = 71.2654
  FIRST_STANDARD_PARALLEL = "N/A"
  LINE_FIRST_PIXEL = 1
  LINE_LAST_PIXEL = 14134
  LINE_PROJECTION_OFFSET = -22330.875
  MAP_PROJECTION_ROTATION = 0.0
  MAP_PROJECTION_TYPE = SINUSOIDAL
  MAP_RESOLUTION = 1185.42760773333
  MAP_SCALE = 0.05
  MAXIMUM_LATITUDE = -18.8287
  MINIMUM_LATITUDE = -30.7587
  POSITIVE_LONGITUDE_DIRECTION = EAST
  REFERENCE_LATITUDE = "N/A"
  REFERENCE_LONGITUDE = "N/A"
  SAMPLE_FIRST_PIXEL = 1
  SAMPLE_LAST_PIXEL = 1624
  SAMPLE_PROJECTION_OFFSET = 1325.125
  SECOND_STANDARD_PARALLEL = "N/A"
  WESTERNMOST_LONGITUDE = 69.7516
END_OBJECT = IMAGE_MAP_PROJECTION
/* The JPEG2000 image data file associated with this label. */
OBJECT = COMPRESSED_FILE
  FILE_NAME = "HG707_0000_BL3.JP2"
  RECORD_TYPE = UNDEFINED
  FILE_RECORDS = UNK
  ENCODING_TYPE = "JP2"
  INTERCHANGE_FORMAT = BINARY
  UNCOMPRESSED_FILE_NAME = "HG707_0000_BL3.IMG"
  REQUIRED_STORAGE_BYTES = "22973104"
  ^DESCRIPTION = "JP2INFO.TXT"
END_OBJECT = COMPRESSED_FILE
END
