PDS_VERSION_ID = PDS3
/* FILE DATA ELEMENTS */
RECORD_TYPE = STREAM
/* POINTERS TO DATA OBJECTS */
^COMPRESSED_FILE = "HG707_0000_IR3.JP2"
/* IDENTIFICATION DATA ELEMENTS */
DATA_SET_ID = "MEX-M-HRSC-5-REFDR-MAPPROJECTED-V3.0"
DATA_SET_NAME = "MARS EXPRESS HRSC MAP PROJECTED REFDR V3.0"
DETECTOR_ID = MEX_HRSC_IR
EVENT_TYPE = "MARS-REGIONAL-MAPPING-Fl-Gl-La"
INSTRUMENT_HOST_ID = MEX
INSTRUMENT_HOST_NAME = "MARS EXPRESS"
INSTRUMENT_ID = HRSC
INSTRUMENT_NAME = "HIGH RESOLUTION STEREO CAMERA"
MISSION_NAME = "MARS EXPRESS"
MISSION_PHASE_NAME = ME_Phase_36
PROCESSING_LEVEL_ID = 3
PRODUCT_CREATION_TIME = 2018-06-28T11:48:36.000Z
PRODUCT_ID = "HG707_0000_IR3.JP2"
RELEASE_ID = 0138
REVISION_ID = 0000
/* QUALITY DATA ELEMENTS */
DATA_QUALITY_ID = 1
DATA_QUALITY_DESC = "Data calculated based on original SPICE kernels"
/* TIME DATA ELEMENTS */
SPACECRAFT_CLOCK_START_COUNT = "1/0437303518.09039"
SPACECRAFT_CLOCK_STOP_COUNT = "1/0437303767.08632"
START_TIME = 2017-03-11T09:13:06.246Z
STOP_TIME = 2017-03-11T09:16:07.831Z
/* ORBITAL DATA ELEMENTS */
ASCENDING_NODE_LONGITUDE = 260.11
MAXIMUM_RESOLUTION = 55.5
FOOTPRINT_POINT_LATITUDE = (-30.7098,-30.7145,-30.7192,-30.7236, -30.7309,-30.5461,-30.3041,-30.0619, -29.8192,-29.5773,-29.3336,-29.0877, -28.8413,-28.5972,-28.3478,-28.1028, -27.8606,-27.6253,-27.382,-27.1343, -26.8908,-26.6478,-26.2851,-26.0418, -25.8008,-25.4388,-25.1989,-24.9646, -24.6157,-24.3812,-24.1483,-23.9063, -23.5625,-23.2123,-22.8637,-22.6323, -22.3977,-22.1637,-21.812,-21.5852, -21.3477,-21.1162,-20.8768,-20.6503, -20.4189,-20.0711,-19.8376,-19.4876, -19.2606,-19.0294,-18.8417,-18.83, -18.822,-18.8101,-19.0371,-19.2682, -19.6153,-19.8472,-20.1918,-20.4275, -20.6549,-20.8862,-21.1228,-21.4769, -21.7101,-21.9422,-22.1774,-22.4116, -22.6456,-22.8792,-23.1135,-23.4628, -23.6977,-24.0483,-24.3989,-24.6327, -24.8659,-25.1022,-25.4626,-25.7044, -26.0644,-26.3082,-26.5505,-26.7923, -27.0358,-27.2782,-27.5191,-27.7633, -28.0074,-28.2509,-28.4933,-28.8614, -29.1096,-29.3531,-29.5977,-29.9626, -30.2062,-30.4491,-30.692,-30.7098)
FOOTPRINT_POINT_LONGITUDE = (70.8251,70.6132,70.3993,70.1836, 69.8143,69.7608,69.7686,69.7766,69.7848 ,69.7921,69.8011,69.812,69.8232,69.832, 69.8459,69.8553,69.8618,69.8614,69.8688 ,69.8802,69.8875,69.8941,69.9021, 69.9088,69.9133,69.9201,69.9253,69.9303 ,69.9352,69.9402,69.9436,69.9555, 69.9552,69.9608,69.9648,69.9665,69.9712 ,69.9752,69.9819,69.9791,69.9864,69.988 ,69.9968,69.9939,69.9954,69.9983, 70.0017,70.0066,70.0042,70.0056,70.2718 ,70.5806,70.7917,71.1267,71.2673,71.267 ,71.2666,71.2662,71.2661,71.2654, 71.2656,71.2654,71.2646,71.2635,71.263, 71.2627,71.2621,71.2616,71.2611,71.2606 ,71.2601,71.2595,71.2589,71.2582, 71.2575,71.2571,71.2567,71.2559,71.2548 ,71.2543,71.2538,71.253,71.2523,71.2518 ,71.251,71.2503,71.2498,71.2488,71.2479 ,71.247,71.2463,71.2446,71.2431,71.2421 ,71.2411,71.2396,71.2386,71.2376, 71.2366,70.8251)
ORBIT_NUMBER = 16707
ORBITAL_ECCENTRICITY = 0.579
ORBITAL_INCLINATION = 86.95
ORBITAL_SEMIMAJOR_AXIS = 8850.67
PERIAPSIS_ALTITUDE = 333.38
PERIAPSIS_ARGUMENT_ANGLE = 339.26
PERIAPSIS_TIME = 2017-03-11T09:15:15.000Z
SPACECRAFT_ORIENTATION = (0.0,1.0,0.0)
^MEX_ORIENTATION_DESC = "MEX_ORIENTATION_DESC.TXT"
SPACECRAFT_POINTING_MODE = ACROSSTRACK
^MEX_POINTING_DESC = "MEX_POINTING_DESC.TXT"
RIGHT_ASCENSION = -1e+32
DECLINATION = -1e+32
OFFSET_ANGLE = 0.75
SPACECRAFT_SOLAR_DISTANCE = 2.2235e+08
TARGET_NAME = MARS
/* CAMERA DATA ELEMENTS */
DETECTOR_TEMPERATURE = 18.5744
FOCAL_PLANE_TEMPERATURE = 8.5833
INST_CMPRS_NAME = "DISCRETE COSINE TRANSFORMATION (DCT)"
INST_CMPRS_RATIO = 8.04348
INST_CMPRS_QUALITY = 0
INST_CMPRS_QUANTZ_TBL_ID = 0
INSTRUMENT_TEMPERATURE = 11.8457
LENS_TEMPERATURE = 8.7872
MACROPIXEL_SIZE = 4
MISSING_FRAMES = 0
PIXEL_SUBSAMPLING_FLAG = N
SIGNAL_CHAIN_ID = 2
/* RADIOMETRIC DATA ELEMENTS */
BANDWIDTH = 81.0
CENTER_FILTER_WAVELENGTH = 955.5
RADIANCE_OFFSET = 0.755894
RADIANCE_SCALING_FACTOR = 0.00289535
REFLECTANCE_SCALING_FACTOR = 0.000308818
MEX:REFLECTANCE_OFFSET = 0.0806235
/* IMAGE OBJECT DEFINITIONS */
OBJECT = IMAGE
  INTERCHANGE_FORMAT = BINARY
  LINES = 14134
  LINE_SAMPLES = 1624
  SAMPLE_TYPE = UNSIGNED_INTEGER
  SAMPLE_BITS = 8
  BANDS = 1
  BAND_STORAGE_TYPE = BAND_SEQUENTIAL
  MAXIMUM = 255
  MEAN = 120.812
  MINIMUM = 1
  STANDARD_DEVIATION = 40.8509
END_OBJECT = IMAGE
/* MAP OBJECT DEFINITIONS */
OBJECT = IMAGE_MAP_PROJECTION
  ^DATA_SET_MAP_PROJECTION_CATALOG= "DSMAP.CAT"
  A_AXIS_RADIUS = 3396.0
  B_AXIS_RADIUS = 3396.0
  C_AXIS_RADIUS = 3396.0
  CENTER_LATITUDE = 0.0
  CENTER_LONGITUDE = 71.0
  COORDINATE_SYSTEM_NAME = PLANETOGRAPHIC
  COORDINATE_SYSTEM_TYPE = "BODY-FIXED ROTATING"
  EASTERNMOST_LONGITUDE = 71.26730000000001
  FIRST_STANDARD_PARALLEL = "N/A"
  LINE_FIRST_PIXEL = 1
  LINE_LAST_PIXEL = 14134
  LINE_PROJECTION_OFFSET = -22330.875
  MAP_PROJECTION_ROTATION = 0.0
  MAP_PROJECTION_TYPE = SINUSOIDAL
  MAP_RESOLUTION = 1185.42760773333
  MAP_SCALE = 0.05
  MAXIMUM_LATITUDE = -18.8101
  MINIMUM_LATITUDE = -30.7309
  POSITIVE_LONGITUDE_DIRECTION = EAST
  REFERENCE_LATITUDE = "N/A"
  REFERENCE_LONGITUDE = "N/A"
  SAMPLE_FIRST_PIXEL = 1
  SAMPLE_LAST_PIXEL = 1624
  SAMPLE_PROJECTION_OFFSET = 1325.125
  SECOND_STANDARD_PARALLEL = "N/A"
  WESTERNMOST_LONGITUDE = 69.7608
END_OBJECT = IMAGE_MAP_PROJECTION
/* The JPEG2000 image data file associated with this label. */
OBJECT = COMPRESSED_FILE
  FILE_NAME = "HG707_0000_IR3.JP2"
  RECORD_TYPE = UNDEFINED
  FILE_RECORDS = UNK
  ENCODING_TYPE = "JP2"
  INTERCHANGE_FORMAT = BINARY
  UNCOMPRESSED_FILE_NAME = "HG707_0000_IR3.IMG"
  REQUIRED_STORAGE_BYTES = "22973104"
  ^DESCRIPTION = "JP2INFO.TXT"
END_OBJECT = COMPRESSED_FILE
END
