PDS_VERSION_ID = PDS3
/* FILE DATA ELEMENTS */
RECORD_TYPE = STREAM
/* POINTERS TO DATA OBJECTS */
^COMPRESSED_FILE = "HG707_0000_ND3.JP2"
/* IDENTIFICATION DATA ELEMENTS */
DATA_SET_ID = "MEX-M-HRSC-5-REFDR-MAPPROJECTED-V3.0"
DATA_SET_NAME = "MARS EXPRESS HRSC MAP PROJECTED REFDR V3.0"
DETECTOR_ID = MEX_HRSC_NADIR
EVENT_TYPE = "MARS-REGIONAL-MAPPING-Fl-Gl-La"
INSTRUMENT_HOST_ID = MEX
INSTRUMENT_HOST_NAME = "MARS EXPRESS"
INSTRUMENT_ID = HRSC
INSTRUMENT_NAME = "HIGH RESOLUTION STEREO CAMERA"
MISSION_NAME = "MARS EXPRESS"
MISSION_PHASE_NAME = ME_Phase_36
PROCESSING_LEVEL_ID = 3
PRODUCT_CREATION_TIME = 2018-06-28T11:48:36.000Z
PRODUCT_ID = "HG707_0000_ND3.JP2"
RELEASE_ID = 0138
REVISION_ID = 0000
/* QUALITY DATA ELEMENTS */
DATA_QUALITY_ID = 1
DATA_QUALITY_DESC = "Data calculated based on original SPICE kernels"
/* TIME DATA ELEMENTS */
SPACECRAFT_CLOCK_START_COUNT = "1/0437303518.09039"
SPACECRAFT_CLOCK_STOP_COUNT = "1/0437303767.08632"
START_TIME = 2017-03-11T09:12:39.664Z
STOP_TIME = 2017-03-11T09:15:42.679Z
/* ORBITAL DATA ELEMENTS */
ASCENDING_NODE_LONGITUDE = 260.11
MAXIMUM_RESOLUTION = 13.3
FOOTPRINT_POINT_LATITUDE = (-30.7559,-30.7495,-30.7364,-30.4977, -30.2588,-30.0199,-29.7808,-29.5416, -29.3023,-29.063,-28.8236,-28.584, -28.3445,-28.1046,-27.8646,-27.6242, -27.384,-27.1438,-26.9035,-26.663, -26.4224,-26.1817,-25.9409,-25.7, -25.4591,-25.2181,-24.977,-24.6152, -24.2533,-24.0122,-23.7706,-23.5314, -23.064,-22.8302,-22.5964,-22.2457, -22.0119,-21.7781,-21.5439,-21.1931, -20.9594,-20.7253,-20.4912,-20.2573, -20.0232,-19.7893,-19.5554,-19.3213, -19.0873,-18.8534,-18.8393,-18.8401, -18.8406,-18.958,-19.1922,-19.4265, -19.7779,-20.0122,-20.3635,-20.598, -20.8322,-21.1835,-21.5348,-21.769, -22.0032,-22.2374,-22.5885,-22.9397, -23.1738,-23.5248,-23.7638,-24.0056, -24.2473,-24.4889,-24.7305,-24.972, -25.2133,-25.5754,-25.8167,-26.1785, -26.4196,-26.6606,-26.9015,-27.1424, -27.3831,-27.6238,-27.8644,-28.1048, -28.3451,-28.5854,-28.8255,-29.0654, -29.3053,-29.545,-29.7847,-30.0243, -30.2637,-30.503,-30.7422,-30.7559)
FOOTPRINT_POINT_LONGITUDE = (70.8332,70.3744,69.7402,69.7483, 69.7565,69.7648,69.7734,69.7809,69.79, 69.8011,69.8126,69.8216,69.8364,69.8444 ,69.8525,69.8521,69.8597,69.8712, 69.8794,69.8864,69.8918,69.8993,69.9033 ,69.9091,69.9134,69.9193,69.9247, 69.9291,69.9369,69.9477,69.9451,69.9517 ,69.9584,69.9625,69.9651,69.9719, 69.9775,69.9836,69.9781,69.9864,69.9965 ,69.9951,69.995,69.9982,69.9995,70.0031 ,70.0084,70.0059,70.0071,70.009,70.4395 ,70.7121,70.9933,71.2647,71.2647, 71.2648,71.2646,71.2649,71.2644,71.2651 ,71.265,71.2641,71.2638,71.2637,71.2637 ,71.2633,71.2629,71.2627,71.2625, 71.2623,71.2621,71.2619,71.2618,71.2616 ,71.2614,71.2612,71.2606,71.2602, 71.2599,71.26,71.2595,71.2592,71.2589, 71.2585,71.2582,71.2579,71.2574,71.2568 ,71.2564,71.256,71.2554,71.2542,71.2536 ,71.2529,71.2524,71.2519,71.2513, 71.2507,71.2502,70.8332)
ORBIT_NUMBER = 16707
ORBITAL_ECCENTRICITY = 0.579
ORBITAL_INCLINATION = 86.95
ORBITAL_SEMIMAJOR_AXIS = 8850.67
PERIAPSIS_ALTITUDE = 333.38
PERIAPSIS_ARGUMENT_ANGLE = 339.26
PERIAPSIS_TIME = 2017-03-11T09:15:15.000Z
SPACECRAFT_ORIENTATION = (0.0,1.0,0.0)
^MEX_ORIENTATION_DESC = "MEX_ORIENTATION_DESC.TXT"
SPACECRAFT_POINTING_MODE = ACROSSTRACK
^MEX_POINTING_DESC = "MEX_POINTING_DESC.TXT"
RIGHT_ASCENSION = -1e+32
DECLINATION = -1e+32
OFFSET_ANGLE = 0.75
SPACECRAFT_SOLAR_DISTANCE = 2.2235e+08
TARGET_NAME = MARS
/* CAMERA DATA ELEMENTS */
DETECTOR_TEMPERATURE = 18.5744
FOCAL_PLANE_TEMPERATURE = 8.5833
INST_CMPRS_NAME = "DISCRETE COSINE TRANSFORMATION (DCT)"
INST_CMPRS_RATIO = 6.38945
INST_CMPRS_QUALITY = 0
INST_CMPRS_QUANTZ_TBL_ID = 0
INSTRUMENT_TEMPERATURE = 11.8457
LENS_TEMPERATURE = 8.7872
MACROPIXEL_SIZE = 1
MISSING_FRAMES = 0
PIXEL_SUBSAMPLING_FLAG = N
SIGNAL_CHAIN_ID = 0
/* RADIOMETRIC DATA ELEMENTS */
BANDWIDTH = 177.0
CENTER_FILTER_WAVELENGTH = 677.5
RADIANCE_OFFSET = 3.12041
RADIANCE_SCALING_FACTOR = 0.0109351
REFLECTANCE_SCALING_FACTOR = 0.000287198
MEX:REFLECTANCE_OFFSET = 0.081954
/* IMAGE OBJECT DEFINITIONS */
OBJECT = IMAGE
  INTERCHANGE_FORMAT = BINARY
  LINES = 56536
  LINE_SAMPLES = 6495
  SAMPLE_TYPE = UNSIGNED_INTEGER
  SAMPLE_BITS = 8
  BANDS = 1
  BAND_STORAGE_TYPE = BAND_SEQUENTIAL
  MAXIMUM = 255
  MEAN = 124.266
  MINIMUM = 1
  STANDARD_DEVIATION = 38.5516
END_OBJECT = IMAGE
/* MAP OBJECT DEFINITIONS */
OBJECT = IMAGE_MAP_PROJECTION
  ^DATA_SET_MAP_PROJECTION_CATALOG= "DSMAP.CAT"
  A_AXIS_RADIUS = 3396.0
  B_AXIS_RADIUS = 3396.0
  C_AXIS_RADIUS = 3396.0
  CENTER_LATITUDE = 0.0
  CENTER_LONGITUDE = 71.0
  COORDINATE_SYSTEM_NAME = PLANETOGRAPHIC
  COORDINATE_SYSTEM_TYPE = "BODY-FIXED ROTATING"
  EASTERNMOST_LONGITUDE = 71.2651
  FIRST_STANDARD_PARALLEL = "N/A"
  LINE_FIRST_PIXEL = 1
  LINE_LAST_PIXEL = 56536
  LINE_PROJECTION_OFFSET = -89322.0
  MAP_PROJECTION_ROTATION = 0.0
  MAP_PROJECTION_TYPE = SINUSOIDAL
  MAP_RESOLUTION = 4741.71043093333
  MAP_SCALE = 0.0125
  MAXIMUM_LATITUDE = -18.8393
  MINIMUM_LATITUDE = -30.7559
  POSITIVE_LONGITUDE_DIRECTION = EAST
  REFERENCE_LATITUDE = "N/A"
  REFERENCE_LONGITUDE = "N/A"
  SAMPLE_FIRST_PIXEL = 1
  SAMPLE_LAST_PIXEL = 6495
  SAMPLE_PROJECTION_OFFSET = 5302.0
  SECOND_STANDARD_PARALLEL = "N/A"
  WESTERNMOST_LONGITUDE = 69.7402
END_OBJECT = IMAGE_MAP_PROJECTION
/* The JPEG2000 image data file associated with this label. */
OBJECT = COMPRESSED_FILE
  FILE_NAME = "HG707_0000_ND3.JP2"
  RECORD_TYPE = UNDEFINED
  FILE_RECORDS = UNK
  ENCODING_TYPE = "JP2"
  INTERCHANGE_FORMAT = BINARY
  UNCOMPRESSED_FILE_NAME = "HG707_0000_ND3.IMG"
  REQUIRED_STORAGE_BYTES = "367233795"
  ^DESCRIPTION = "JP2INFO.TXT"
END_OBJECT = COMPRESSED_FILE
END
