PDS_VERSION_ID = PDS3
/* FILE DATA ELEMENTS */
RECORD_TYPE = STREAM
/* POINTERS TO DATA OBJECTS */
^COMPRESSED_FILE = "HG707_0000_RE3.JP2"
/* IDENTIFICATION DATA ELEMENTS */
DATA_SET_ID = "MEX-M-HRSC-5-REFDR-MAPPROJECTED-V3.0"
DATA_SET_NAME = "MARS EXPRESS HRSC MAP PROJECTED REFDR V3.0"
DETECTOR_ID = MEX_HRSC_RED
EVENT_TYPE = "MARS-REGIONAL-MAPPING-Fl-Gl-La"
INSTRUMENT_HOST_ID = MEX
INSTRUMENT_HOST_NAME = "MARS EXPRESS"
INSTRUMENT_ID = HRSC
INSTRUMENT_NAME = "HIGH RESOLUTION STEREO CAMERA"
MISSION_NAME = "MARS EXPRESS"
MISSION_PHASE_NAME = ME_Phase_36
PROCESSING_LEVEL_ID = 3
PRODUCT_CREATION_TIME = 2018-06-28T11:48:36.000Z
PRODUCT_ID = "HG707_0000_RE3.JP2"
RELEASE_ID = 0138
REVISION_ID = 0000
/* QUALITY DATA ELEMENTS */
DATA_QUALITY_ID = 1
DATA_QUALITY_DESC = "Data calculated based on original SPICE kernels"
/* TIME DATA ELEMENTS */
SPACECRAFT_CLOCK_START_COUNT = "1/0437303518.09039"
SPACECRAFT_CLOCK_STOP_COUNT = "1/0437303767.08632"
START_TIME = 2017-03-11T09:12:11.961Z
STOP_TIME = 2017-03-11T09:15:17.651Z
/* ORBITAL DATA ELEMENTS */
ASCENDING_NODE_LONGITUDE = 260.11
MAXIMUM_RESOLUTION = 55.7
FOOTPRINT_POINT_LATITUDE = (-30.8103,-30.7911,-30.7805,-30.7693, -30.7573,-30.7446,-30.5543,-30.3207, -30.0869,-29.8535,-29.6194,-29.3857, -29.1531,-28.924,-28.6921,-28.3469, -28.114,-27.7578,-27.5166,-27.2873, -27.0509,-26.8161,-26.5806,-26.3415, -25.9861,-25.7481,-25.5097,-25.1522, -24.7957,-24.4338,-24.1938,-23.962, -23.7138,-23.4768,-23.2371,-22.9952, -22.6339,-22.275,-22.0363,-21.8018, -21.5613,-21.3329,-20.986,-20.7491, -20.5133,-20.2803,-20.0449,-19.812, -19.5802,-19.3418,-19.1051,-18.8314, -18.848,-18.8602,-18.8705,-19.1137, -19.3496,-19.5861,-19.9379,-20.1758, -20.5272,-20.7637,-20.998,-21.2255, -21.4583,-21.6918,-21.9266,-22.284, -22.524,-22.7646,-23.0045,-23.2459, -23.6058,-23.846,-24.0861,-24.3263, -24.5661,-24.8064,-25.0434,-25.2808, -25.5196,-25.8801,-26.1195,-26.3558, -26.7135,-27.0688,-27.3062,-27.5447, -27.7796,-28.1322,-28.4864,-28.721, -29.0667,-29.3,-29.533,-29.7677, -30.0015,-30.3518,-30.5851,-30.8103)
FOOTPRINT_POINT_LONGITUDE = (71.2713,70.8341,70.6126,70.3894, 70.1643,69.9369,69.7257,69.7342,69.7426 ,69.7513,69.7596,69.7682,69.7778, 69.7905,69.8008,69.8187,69.8284,69.837, 69.8398,69.8526,69.8596,69.8679,69.8756 ,69.8803,69.8902,69.896,69.9015,69.9099 ,69.9192,69.924,69.9282,69.9396,69.9369 ,69.9438,69.9485,69.9513,69.9569, 69.9645,69.9701,69.9755,69.9728,69.9805 ,69.9883,69.9888,69.9901,69.9939, 69.9956,69.9994,70.0042,70.0034,70.0039 ,70.1869,70.5312,70.8115,71.0877, 71.2628,71.2631,71.2635,71.2638,71.2644 ,71.2647,71.2652,71.2654,71.2649,71.265 ,71.2651,71.2654,71.2655,71.2656, 71.2657,71.2658,71.2661,71.2663,71.2665 ,71.2667,71.2669,71.2671,71.2673, 71.2672,71.2672,71.2674,71.2678,71.268, 71.268,71.2682,71.2682,71.2683,71.2685, 71.2684,71.2683,71.2684,71.2683,71.2678 ,71.2676,71.2675,71.2675,71.2674, 71.2673,71.2673,71.2713)
ORBIT_NUMBER = 16707
ORBITAL_ECCENTRICITY = 0.579
ORBITAL_INCLINATION = 86.95
ORBITAL_SEMIMAJOR_AXIS = 8850.67
PERIAPSIS_ALTITUDE = 333.38
PERIAPSIS_ARGUMENT_ANGLE = 339.26
PERIAPSIS_TIME = 2017-03-11T09:15:15.000Z
SPACECRAFT_ORIENTATION = (0.0,1.0,0.0)
^MEX_ORIENTATION_DESC = "MEX_ORIENTATION_DESC.TXT"
SPACECRAFT_POINTING_MODE = ACROSSTRACK
^MEX_POINTING_DESC = "MEX_POINTING_DESC.TXT"
RIGHT_ASCENSION = -1e+32
DECLINATION = -1e+32
OFFSET_ANGLE = 0.75
SPACECRAFT_SOLAR_DISTANCE = 2.2235e+08
TARGET_NAME = MARS
/* CAMERA DATA ELEMENTS */
DETECTOR_TEMPERATURE = 18.9822
FOCAL_PLANE_TEMPERATURE = 8.5833
INST_CMPRS_NAME = "DISCRETE COSINE TRANSFORMATION (DCT)"
INST_CMPRS_RATIO = 17.489
INST_CMPRS_QUALITY = 0
INST_CMPRS_QUANTZ_TBL_ID = 0
INSTRUMENT_TEMPERATURE = 11.8457
LENS_TEMPERATURE = 8.7872
MACROPIXEL_SIZE = 4
MISSING_FRAMES = 0
PIXEL_SUBSAMPLING_FLAG = N
SIGNAL_CHAIN_ID = 2
/* RADIOMETRIC DATA ELEMENTS */
BANDWIDTH = 48.0
CENTER_FILTER_WAVELENGTH = 748.0
RADIANCE_OFFSET = 0.943513
RADIANCE_SCALING_FACTOR = 0.00302731
REFLECTANCE_SCALING_FACTOR = 0.000341553
MEX:REFLECTANCE_OFFSET = 0.106451
/* IMAGE OBJECT DEFINITIONS */
OBJECT = IMAGE
  INTERCHANGE_FORMAT = BINARY
  LINES = 14134
  LINE_SAMPLES = 1624
  SAMPLE_TYPE = UNSIGNED_INTEGER
  SAMPLE_BITS = 8
  BANDS = 1
  BAND_STORAGE_TYPE = BAND_SEQUENTIAL
  MAXIMUM = 255
  MEAN = 122.73
  MINIMUM = 1
  STANDARD_DEVIATION = 40.7229
END_OBJECT = IMAGE
/* MAP OBJECT DEFINITIONS */
OBJECT = IMAGE_MAP_PROJECTION
  ^DATA_SET_MAP_PROJECTION_CATALOG= "DSMAP.CAT"
  A_AXIS_RADIUS = 3396.0
  B_AXIS_RADIUS = 3396.0
  C_AXIS_RADIUS = 3396.0
  CENTER_LATITUDE = 0.0
  CENTER_LONGITUDE = 71.0
  COORDINATE_SYSTEM_NAME = PLANETOGRAPHIC
  COORDINATE_SYSTEM_TYPE = "BODY-FIXED ROTATING"
  EASTERNMOST_LONGITUDE = 71.2713
  FIRST_STANDARD_PARALLEL = "N/A"
  LINE_FIRST_PIXEL = 1
  LINE_LAST_PIXEL = 14134
  LINE_PROJECTION_OFFSET = -22330.875
  MAP_PROJECTION_ROTATION = 0.0
  MAP_PROJECTION_TYPE = SINUSOIDAL
  MAP_RESOLUTION = 1185.42760773333
  MAP_SCALE = 0.05
  MAXIMUM_LATITUDE = -18.8314
  MINIMUM_LATITUDE = -30.8103
  POSITIVE_LONGITUDE_DIRECTION = EAST
  REFERENCE_LATITUDE = "N/A"
  REFERENCE_LONGITUDE = "N/A"
  SAMPLE_FIRST_PIXEL = 1
  SAMPLE_LAST_PIXEL = 1624
  SAMPLE_PROJECTION_OFFSET = 1325.125
  SECOND_STANDARD_PARALLEL = "N/A"
  WESTERNMOST_LONGITUDE = 69.7257
END_OBJECT = IMAGE_MAP_PROJECTION
/* The JPEG2000 image data file associated with this label. */
OBJECT = COMPRESSED_FILE
  FILE_NAME = "HG707_0000_RE3.JP2"
  RECORD_TYPE = UNDEFINED
  FILE_RECORDS = UNK
  ENCODING_TYPE = "JP2"
  INTERCHANGE_FORMAT = BINARY
  UNCOMPRESSED_FILE_NAME = "HG707_0000_RE3.IMG"
  REQUIRED_STORAGE_BYTES = "22973104"
  ^DESCRIPTION = "JP2INFO.TXT"
END_OBJECT = COMPRESSED_FILE
END
