PDS_VERSION_ID = PDS3
/* FILE DATA ELEMENTS */
RECORD_TYPE = STREAM
/* POINTERS TO DATA OBJECTS */
^COMPRESSED_FILE = "HG709_0000_GR3.JP2"
/* IDENTIFICATION DATA ELEMENTS */
DATA_SET_ID = "MEX-M-HRSC-5-REFDR-MAPPROJECTED-V3.0"
DATA_SET_NAME = "MARS EXPRESS HRSC MAP PROJECTED REFDR V3.0"
DETECTOR_ID = MEX_HRSC_GREEN
EVENT_TYPE = "MARS-REGIONAL-MAPPING-Vo"
INSTRUMENT_HOST_ID = MEX
INSTRUMENT_HOST_NAME = "MARS EXPRESS"
INSTRUMENT_ID = HRSC
INSTRUMENT_NAME = "HIGH RESOLUTION STEREO CAMERA"
MISSION_NAME = "MARS EXPRESS"
MISSION_PHASE_NAME = ME_Phase_36
PROCESSING_LEVEL_ID = 3
PRODUCT_CREATION_TIME = 2018-06-28T11:48:36.000Z
PRODUCT_ID = "HG709_0000_GR3.JP2"
RELEASE_ID = 0138
REVISION_ID = 0000
/* QUALITY DATA ELEMENTS */
DATA_QUALITY_ID = 1
DATA_QUALITY_DESC = "Data calculated based on original SPICE kernels"
/* TIME DATA ELEMENTS */
SPACECRAFT_CLOCK_START_COUNT = "1/0437354069.07304"
SPACECRAFT_CLOCK_STOP_COUNT = "1/0437354381.54338"
START_TIME = 2017-03-11T23:15:12.750Z
STOP_TIME = 2017-03-11T23:19:14.796Z
/* ORBITAL DATA ELEMENTS */
ASCENDING_NODE_LONGITUDE = 260.08
MAXIMUM_RESOLUTION = 106.8
FOOTPRINT_POINT_LATITUDE = (-18.6305,-18.6295,-18.6279,-18.1836, -17.8901,-17.5967,-17.1567,-16.8635, -16.5706,-16.1313,-15.8386,-15.546, -15.2535,-14.9613,-14.6691,-14.3771, -14.0854,-13.7938,-13.5023,-13.2111, -12.92,-12.629,-12.3383,-12.0478, -11.7575,-11.4675,-11.1776,-10.888, -10.5985,-10.3095,-9.87614,-9.58764, -9.01133,-8.6827,-8.33965,-7.9969, -7.65462,-7.3128,-6.97143,-6.63034, -6.11988,-5.77969,-5.44023,-5.10127, -4.7628,-4.42476,-4.08719,-3.75015, -3.41356,-3.08355,-3.08309,-3.08252, -3.25208,-3.58852,-3.92544,-4.26282, -4.60074,-4.93918,-5.27801,-5.6174, -5.95721,-6.29741,-6.63802,-6.97917, -7.32075,-7.66274,-8.00516,-8.34784, -8.69107,-9.01848,-9.59497,-9.8836, -10.1724,-10.4616,-10.7509,-11.0404, -11.3303,-11.6205,-11.9107,-12.2012, -12.4919,-12.7828,-13.074,-13.3653, -13.6568,-13.9485,-14.2403,-14.5322, -14.8243,-15.2629,-15.5553,-15.9946, -16.4339,-16.7269,-17.1669,-17.4602, -17.7537,-18.0473,-18.3409,-18.6305)
FOOTPRINT_POINT_LONGITUDE = (228.478,228.09,227.715,227.53,227.527, 227.524,227.52,227.516,227.513,227.508, 227.505,227.501,227.498,227.494,227.49, 227.486,227.483,227.479,227.475,227.47, 227.466,227.462,227.457,227.453,227.448 ,227.444,227.439,227.434,227.429, 227.424,227.417,227.412,227.401,227.395 ,227.389,227.382,227.375,227.369, 227.362,227.355,227.345,227.337,227.33, 227.323,227.315,227.308,227.3,227.292, 227.285,227.277,227.745,228.338,228.706 ,228.706,228.706,228.705,228.705, 228.705,228.705,228.706,228.706,228.706 ,228.707,228.708,228.709,228.71,228.711 ,228.712,228.714,228.715,228.718, 228.719,228.721,228.722,228.724,228.725 ,228.728,228.73,228.732,228.734,228.737 ,228.739,228.742,228.745,228.748, 228.751,228.753,228.756,228.759,228.764 ,228.766,228.772,228.777,228.78,228.786 ,228.79,228.793,228.797,228.801, 228.478)
ORBIT_NUMBER = 16709
ORBITAL_ECCENTRICITY = 0.579
ORBITAL_INCLINATION = 86.95
ORBITAL_SEMIMAJOR_AXIS = 8850.29
PERIAPSIS_ALTITUDE = 333.48
PERIAPSIS_ARGUMENT_ANGLE = 338.89
PERIAPSIS_TIME = 2017-03-11T23:14:31.000Z
SPACECRAFT_ORIENTATION = (0.0,1.0,0.0)
^MEX_ORIENTATION_DESC = "MEX_ORIENTATION_DESC.TXT"
SPACECRAFT_POINTING_MODE = ACROSSTRACK
^MEX_POINTING_DESC = "MEX_POINTING_DESC.TXT"
RIGHT_ASCENSION = -1e+32
DECLINATION = -1e+32
OFFSET_ANGLE = -1.2
SPACECRAFT_SOLAR_DISTANCE = 2.22463e+08
TARGET_NAME = MARS
/* CAMERA DATA ELEMENTS */
DETECTOR_TEMPERATURE = 18.9822
FOCAL_PLANE_TEMPERATURE = 10.2145
INST_CMPRS_NAME = "DISCRETE COSINE TRANSFORMATION (DCT)"
INST_CMPRS_RATIO = 13.5863
INST_CMPRS_QUALITY = 0
INST_CMPRS_QUANTZ_TBL_ID = 0
INSTRUMENT_TEMPERATURE = 12.8652
LENS_TEMPERATURE = 10.8262
MACROPIXEL_SIZE = 8
MISSING_FRAMES = 0
PIXEL_SUBSAMPLING_FLAG = N
SIGNAL_CHAIN_ID = 2
/* RADIOMETRIC DATA ELEMENTS */
BANDWIDTH = 88.0
CENTER_FILTER_WAVELENGTH = 538.0
RADIANCE_OFFSET = 1.32643
RADIANCE_SCALING_FACTOR = 0.00471553
REFLECTANCE_SCALING_FACTOR = 0.000200924
MEX:REFLECTANCE_OFFSET = 0.0565177
/* IMAGE OBJECT DEFINITIONS */
OBJECT = IMAGE
  INTERCHANGE_FORMAT = BINARY
  LINES = 9230
  LINE_SAMPLES = 967
  SAMPLE_TYPE = UNSIGNED_INTEGER
  SAMPLE_BITS = 8
  BANDS = 1
  BAND_STORAGE_TYPE = BAND_SEQUENTIAL
  MAXIMUM = 255
  MEAN = 135.407
  MINIMUM = 1
  STANDARD_DEVIATION = 11.1415
END_OBJECT = IMAGE
/* MAP OBJECT DEFINITIONS */
OBJECT = IMAGE_MAP_PROJECTION
  ^DATA_SET_MAP_PROJECTION_CATALOG= "DSMAP.CAT"
  A_AXIS_RADIUS = 3396.0
  B_AXIS_RADIUS = 3396.0
  C_AXIS_RADIUS = 3396.0
  CENTER_LATITUDE = 0.0
  CENTER_LONGITUDE = 228.0
  COORDINATE_SYSTEM_NAME = PLANETOGRAPHIC
  COORDINATE_SYSTEM_TYPE = "BODY-FIXED ROTATING"
  EASTERNMOST_LONGITUDE = 228.801
  FIRST_STANDARD_PARALLEL = "N/A"
  LINE_FIRST_PIXEL = 1
  LINE_LAST_PIXEL = 9230
  LINE_PROJECTION_OFFSET = -1819.4375
  MAP_PROJECTION_ROTATION = 0.0
  MAP_PROJECTION_TYPE = SINUSOIDAL
  MAP_RESOLUTION = 592.713803866667
  MAP_SCALE = 0.1
  MAXIMUM_LATITUDE = -3.08252
  MINIMUM_LATITUDE = -18.6305
  POSITIVE_LONGITUDE_DIRECTION = EAST
  REFERENCE_LATITUDE = "N/A"
  REFERENCE_LONGITUDE = "N/A"
  SAMPLE_FIRST_PIXEL = 1
  SAMPLE_LAST_PIXEL = 967
  SAMPLE_PROJECTION_OFFSET = 432.4375
  SECOND_STANDARD_PARALLEL = "N/A"
  WESTERNMOST_LONGITUDE = 227.277
END_OBJECT = IMAGE_MAP_PROJECTION
/* The JPEG2000 image data file associated with this label. */
OBJECT = COMPRESSED_FILE
  FILE_NAME = "HG709_0000_GR3.JP2"
  RECORD_TYPE = UNDEFINED
  FILE_RECORDS = UNK
  ENCODING_TYPE = "JP2"
  INTERCHANGE_FORMAT = BINARY
  UNCOMPRESSED_FILE_NAME = "HG709_0000_GR3.IMG"
  REQUIRED_STORAGE_BYTES = "8943783"
  ^DESCRIPTION = "JP2INFO.TXT"
END_OBJECT = COMPRESSED_FILE
END
