PDS_VERSION_ID = PDS3
/* FILE DATA ELEMENTS */
RECORD_TYPE = STREAM
/* POINTERS TO DATA OBJECTS */
^COMPRESSED_FILE = "HG709_0000_IR3.JP2"
/* IDENTIFICATION DATA ELEMENTS */
DATA_SET_ID = "MEX-M-HRSC-5-REFDR-MAPPROJECTED-V3.0"
DATA_SET_NAME = "MARS EXPRESS HRSC MAP PROJECTED REFDR V3.0"
DETECTOR_ID = MEX_HRSC_IR
EVENT_TYPE = "MARS-REGIONAL-MAPPING-Vo"
INSTRUMENT_HOST_ID = MEX
INSTRUMENT_HOST_NAME = "MARS EXPRESS"
INSTRUMENT_ID = HRSC
INSTRUMENT_NAME = "HIGH RESOLUTION STEREO CAMERA"
MISSION_NAME = "MARS EXPRESS"
MISSION_PHASE_NAME = ME_Phase_36
PROCESSING_LEVEL_ID = 3
PRODUCT_CREATION_TIME = 2018-06-28T11:48:36.000Z
PRODUCT_ID = "HG709_0000_IR3.JP2"
RELEASE_ID = 0138
REVISION_ID = 0000
/* QUALITY DATA ELEMENTS */
DATA_QUALITY_ID = 1
DATA_QUALITY_DESC = "Data calculated based on original SPICE kernels"
/* TIME DATA ELEMENTS */
SPACECRAFT_CLOCK_START_COUNT = "1/0437354069.07304"
SPACECRAFT_CLOCK_STOP_COUNT = "1/0437354381.54338"
START_TIME = 2017-03-11T23:15:33.068Z
STOP_TIME = 2017-03-11T23:19:40.791Z
/* ORBITAL DATA ELEMENTS */
ASCENDING_NODE_LONGITUDE = 260.08
MAXIMUM_RESOLUTION = 112.1
FOOTPRINT_POINT_LATITUDE = (-18.6458,-18.6253,-18.6053,-18.5784, -18.2833,-17.9886,-17.6944,-17.3996, -17.1055,-16.812,-16.5191,-16.2259, -15.9333,-15.6409,-15.2026,-14.911, -14.4741,-14.1832,-13.8928,-13.6027, -13.3132,-12.8791,-12.5898,-12.3014, -12.0135,-11.5819,-11.295,-10.8647, -10.4358,-9.94773,-9.60815,-9.26913, -8.93036,-8.59216,-8.2548,-7.91772, -7.58162,-7.24659,-6.91215,-6.57782, -6.24711,-5.91183,-5.57978,-5.24866, -4.9184,-4.58874,-4.25978,-3.92542, -3.58926,-3.25373,-3.05981,-3.08177, -3.10533,-3.44024,-3.77615,-4.27962, -4.60869,-4.93872,-5.269,-5.60053, -5.93246,-6.26489,-6.59774,-7.0993, -7.4341,-7.93845,-8.27466,-8.61219, -8.95044,-9.28906,-9.79811,-10.1378, -10.4624,-10.7481,-11.0339,-11.3212, -11.6088,-12.04,-12.3282,-12.617, -12.9061,-13.1957,-13.4854,-13.7757, -14.2113,-14.5018,-14.793,-15.0847, -15.3767,-15.6683,-15.9616,-16.2546, -16.5479,-16.8406,-17.135,-17.429, -17.7235,-18.0181,-18.3129,-18.6458)
FOOTPRINT_POINT_LONGITUDE = (228.674,228.276,227.891,227.532, 227.529,227.526,227.523,227.52,227.516, 227.513,227.509,227.506,227.502,227.498 ,227.493,227.489,227.482,227.478, 227.474,227.47,227.465,227.458,227.454, 227.449,227.444,227.437,227.432,227.424 ,227.417,227.408,227.401,227.395, 227.388,227.381,227.375,227.368,227.361 ,227.354,227.347,227.339,227.333, 227.324,227.317,227.309,227.301,227.294 ,227.286,227.278,227.269,227.261, 227.673,228.229,228.739,228.738,228.737 ,228.735,228.735,228.734,228.734, 228.734,228.733,228.733,228.733,228.733 ,228.733,228.735,228.735,228.736, 228.737,228.738,228.74,228.741,228.743, 228.744,228.745,228.747,228.749,228.751 ,228.753,228.756,228.758,228.76,228.763 ,228.765,228.769,228.771,228.774, 228.777,228.779,228.782,228.785,228.789 ,228.792,228.794,228.798,228.802, 228.805,228.809,228.812,228.674)
ORBIT_NUMBER = 16709
ORBITAL_ECCENTRICITY = 0.579
ORBITAL_INCLINATION = 86.95
ORBITAL_SEMIMAJOR_AXIS = 8850.29
PERIAPSIS_ALTITUDE = 333.48
PERIAPSIS_ARGUMENT_ANGLE = 338.89
PERIAPSIS_TIME = 2017-03-11T23:14:31.000Z
SPACECRAFT_ORIENTATION = (0.0,1.0,0.0)
^MEX_ORIENTATION_DESC = "MEX_ORIENTATION_DESC.TXT"
SPACECRAFT_POINTING_MODE = ACROSSTRACK
^MEX_POINTING_DESC = "MEX_POINTING_DESC.TXT"
RIGHT_ASCENSION = -1e+32
DECLINATION = -1e+32
OFFSET_ANGLE = -1.2
SPACECRAFT_SOLAR_DISTANCE = 2.22463e+08
TARGET_NAME = MARS
/* CAMERA DATA ELEMENTS */
DETECTOR_TEMPERATURE = 18.1666
FOCAL_PLANE_TEMPERATURE = 10.2145
INST_CMPRS_NAME = "DISCRETE COSINE TRANSFORMATION (DCT)"
INST_CMPRS_RATIO = 11.0782
INST_CMPRS_QUALITY = 0
INST_CMPRS_QUANTZ_TBL_ID = 0
INSTRUMENT_TEMPERATURE = 12.8652
LENS_TEMPERATURE = 10.8262
MACROPIXEL_SIZE = 8
MISSING_FRAMES = 0
PIXEL_SUBSAMPLING_FLAG = N
SIGNAL_CHAIN_ID = 2
/* RADIOMETRIC DATA ELEMENTS */
BANDWIDTH = 81.0
CENTER_FILTER_WAVELENGTH = 955.5
RADIANCE_OFFSET = 1.14246
RADIANCE_SCALING_FACTOR = 0.00497802
REFLECTANCE_SCALING_FACTOR = 0.000531492
MEX:REFLECTANCE_OFFSET = 0.121977
/* IMAGE OBJECT DEFINITIONS */
OBJECT = IMAGE
  INTERCHANGE_FORMAT = BINARY
  LINES = 9230
  LINE_SAMPLES = 967
  SAMPLE_TYPE = UNSIGNED_INTEGER
  SAMPLE_BITS = 8
  BANDS = 1
  BAND_STORAGE_TYPE = BAND_SEQUENTIAL
  MAXIMUM = 255
  MEAN = 127.558
  MINIMUM = 1
  STANDARD_DEVIATION = 13.9592
END_OBJECT = IMAGE
/* MAP OBJECT DEFINITIONS */
OBJECT = IMAGE_MAP_PROJECTION
  ^DATA_SET_MAP_PROJECTION_CATALOG= "DSMAP.CAT"
  A_AXIS_RADIUS = 3396.0
  B_AXIS_RADIUS = 3396.0
  C_AXIS_RADIUS = 3396.0
  CENTER_LATITUDE = 0.0
  CENTER_LONGITUDE = 228.0
  COORDINATE_SYSTEM_NAME = PLANETOGRAPHIC
  COORDINATE_SYSTEM_TYPE = "BODY-FIXED ROTATING"
  EASTERNMOST_LONGITUDE = 228.812
  FIRST_STANDARD_PARALLEL = "N/A"
  LINE_FIRST_PIXEL = 1
  LINE_LAST_PIXEL = 9230
  LINE_PROJECTION_OFFSET = -1819.4375
  MAP_PROJECTION_ROTATION = 0.0
  MAP_PROJECTION_TYPE = SINUSOIDAL
  MAP_RESOLUTION = 592.713803866667
  MAP_SCALE = 0.1
  MAXIMUM_LATITUDE = -3.05981
  MINIMUM_LATITUDE = -18.6458
  POSITIVE_LONGITUDE_DIRECTION = EAST
  REFERENCE_LATITUDE = "N/A"
  REFERENCE_LONGITUDE = "N/A"
  SAMPLE_FIRST_PIXEL = 1
  SAMPLE_LAST_PIXEL = 967
  SAMPLE_PROJECTION_OFFSET = 432.4375
  SECOND_STANDARD_PARALLEL = "N/A"
  WESTERNMOST_LONGITUDE = 227.261
END_OBJECT = IMAGE_MAP_PROJECTION
/* The JPEG2000 image data file associated with this label. */
OBJECT = COMPRESSED_FILE
  FILE_NAME = "HG709_0000_IR3.JP2"
  RECORD_TYPE = UNDEFINED
  FILE_RECORDS = UNK
  ENCODING_TYPE = "JP2"
  INTERCHANGE_FORMAT = BINARY
  UNCOMPRESSED_FILE_NAME = "HG709_0000_IR3.IMG"
  REQUIRED_STORAGE_BYTES = "8943783"
  ^DESCRIPTION = "JP2INFO.TXT"
END_OBJECT = COMPRESSED_FILE
END
