PDS_VERSION_ID = PDS3
/* FILE DATA ELEMENTS */
RECORD_TYPE = STREAM
/* POINTERS TO DATA OBJECTS */
^COMPRESSED_FILE = "HG709_0000_RE3.JP2"
/* IDENTIFICATION DATA ELEMENTS */
DATA_SET_ID = "MEX-M-HRSC-5-REFDR-MAPPROJECTED-V3.0"
DATA_SET_NAME = "MARS EXPRESS HRSC MAP PROJECTED REFDR V3.0"
DETECTOR_ID = MEX_HRSC_RED
EVENT_TYPE = "MARS-REGIONAL-MAPPING-Vo"
INSTRUMENT_HOST_ID = MEX
INSTRUMENT_HOST_NAME = "MARS EXPRESS"
INSTRUMENT_ID = HRSC
INSTRUMENT_NAME = "HIGH RESOLUTION STEREO CAMERA"
MISSION_NAME = "MARS EXPRESS"
MISSION_PHASE_NAME = ME_Phase_36
PROCESSING_LEVEL_ID = 3
PRODUCT_CREATION_TIME = 2018-06-28T11:48:36.000Z
PRODUCT_ID = "HG709_0000_RE3.JP2"
RELEASE_ID = 0138
REVISION_ID = 0000
/* QUALITY DATA ELEMENTS */
DATA_QUALITY_ID = 1
DATA_QUALITY_DESC = "Data calculated based on original SPICE kernels"
/* TIME DATA ELEMENTS */
SPACECRAFT_CLOCK_START_COUNT = "1/0437354069.07304"
SPACECRAFT_CLOCK_STOP_COUNT = "1/0437354381.54338"
START_TIME = 2017-03-11T23:14:42.274Z
STOP_TIME = 2017-03-11T23:18:38.675Z
/* ORBITAL DATA ELEMENTS */
ASCENDING_NODE_LONGITUDE = 260.08
MAXIMUM_RESOLUTION = 111.3
FOOTPRINT_POINT_LATITUDE = (-18.6213,-18.6501,-18.6766,-18.5465, -18.2525,-17.9579,-17.6631,-17.3689, -17.0742,-16.7788,-16.3358,-16.0402, -15.7447,-15.4493,-15.1537,-14.7101, -14.4141,-14.1179,-13.6737,-13.3772, -13.0808,-12.7849,-12.4885,-12.1917, -11.8954,-11.5988,-11.302,-11.0056, -10.7097,-10.412,-10.1154,-9.81861, -9.52152,-9.22483,-8.9283,-8.63158, -8.18665,-7.89023,-7.5936,-7.29658, -6.85159,-6.49899,-5.96979,-5.61608, -5.26224,-4.73163,-4.37811,-4.02486, -3.49524,-3.14172,-3.11246,-3.09963, -3.0825,-3.05639,-3.21415,-3.56719, -4.09741,-4.45087,-4.80417,-5.15803, -5.6885,-6.04229,-6.39668,-6.7499, -7.04639,-7.34319,-7.78794,-8.08471, -8.53028,-8.97532,-9.2722,-9.56916, -9.86588,-10.1633,-10.6087,-10.9057, -11.3506,-11.6468,-11.9439,-12.2407, -12.5368,-12.8332,-13.1292,-13.4255, -13.8697,-14.1659,-14.4624,-14.7584, -15.202,-15.4981,-15.941,-16.2362, -16.5315,-16.8272,-17.1218,-17.4169, -17.7115,-18.1532,-18.4479,-18.6213)
FOOTPRINT_POINT_LONGITUDE = (228.483,228.094,227.717,227.535, 227.532,227.53,227.527,227.525,227.522, 227.519,227.515,227.512,227.509,227.506 ,227.502,227.497,227.494,227.49,227.485 ,227.481,227.477,227.473,227.469, 227.465,227.461,227.456,227.452,227.447 ,227.443,227.438,227.434,227.429, 227.424,227.419,227.414,227.409,227.401 ,227.396,227.391,227.385,227.377, 227.371,227.36,227.353,227.347,227.336, 227.329,227.321,227.31,227.303,227.59, 227.781,228.027,228.396,228.688,228.688 ,228.688,228.689,228.69,228.69,228.692, 228.693,228.694,228.695,228.696,228.697 ,228.7,228.702,228.704,228.707,228.708, 228.71,228.713,228.714,228.717,228.719, 228.723,228.727,228.729,228.731,228.735 ,228.738,228.741,228.744,228.749, 228.753,228.755,228.759,228.764,228.768 ,228.774,228.778,228.782,228.785,228.79 ,228.794,228.798,228.805,228.809, 228.483)
ORBIT_NUMBER = 16709
ORBITAL_ECCENTRICITY = 0.579
ORBITAL_INCLINATION = 86.95
ORBITAL_SEMIMAJOR_AXIS = 8850.29
PERIAPSIS_ALTITUDE = 333.48
PERIAPSIS_ARGUMENT_ANGLE = 338.89
PERIAPSIS_TIME = 2017-03-11T23:14:31.000Z
SPACECRAFT_ORIENTATION = (0.0,1.0,0.0)
^MEX_ORIENTATION_DESC = "MEX_ORIENTATION_DESC.TXT"
SPACECRAFT_POINTING_MODE = ACROSSTRACK
^MEX_POINTING_DESC = "MEX_POINTING_DESC.TXT"
RIGHT_ASCENSION = -1e+32
DECLINATION = -1e+32
OFFSET_ANGLE = -1.2
SPACECRAFT_SOLAR_DISTANCE = 2.22463e+08
TARGET_NAME = MARS
/* CAMERA DATA ELEMENTS */
DETECTOR_TEMPERATURE = 19.1861
FOCAL_PLANE_TEMPERATURE = 10.2145
INST_CMPRS_NAME = "DISCRETE COSINE TRANSFORMATION (DCT)"
INST_CMPRS_RATIO = 13.8097
INST_CMPRS_QUALITY = 0
INST_CMPRS_QUANTZ_TBL_ID = 0
INSTRUMENT_TEMPERATURE = 12.8652
LENS_TEMPERATURE = 10.8262
MACROPIXEL_SIZE = 8
MISSING_FRAMES = 0
PIXEL_SUBSAMPLING_FLAG = N
SIGNAL_CHAIN_ID = 2
/* RADIOMETRIC DATA ELEMENTS */
BANDWIDTH = 48.0
CENTER_FILTER_WAVELENGTH = 748.0
RADIANCE_OFFSET = 1.26789
RADIANCE_SCALING_FACTOR = 0.00510773
REFLECTANCE_SCALING_FACTOR = 0.000576858
MEX:REFLECTANCE_OFFSET = 0.143194
/* IMAGE OBJECT DEFINITIONS */
OBJECT = IMAGE
  INTERCHANGE_FORMAT = BINARY
  LINES = 9230
  LINE_SAMPLES = 967
  SAMPLE_TYPE = UNSIGNED_INTEGER
  SAMPLE_BITS = 8
  BANDS = 1
  BAND_STORAGE_TYPE = BAND_SEQUENTIAL
  MAXIMUM = 255
  MEAN = 126.742
  MINIMUM = 1
  STANDARD_DEVIATION = 11.7817
END_OBJECT = IMAGE
/* MAP OBJECT DEFINITIONS */
OBJECT = IMAGE_MAP_PROJECTION
  ^DATA_SET_MAP_PROJECTION_CATALOG= "DSMAP.CAT"
  A_AXIS_RADIUS = 3396.0
  B_AXIS_RADIUS = 3396.0
  C_AXIS_RADIUS = 3396.0
  CENTER_LATITUDE = 0.0
  CENTER_LONGITUDE = 228.0
  COORDINATE_SYSTEM_NAME = PLANETOGRAPHIC
  COORDINATE_SYSTEM_TYPE = "BODY-FIXED ROTATING"
  EASTERNMOST_LONGITUDE = 228.809
  FIRST_STANDARD_PARALLEL = "N/A"
  LINE_FIRST_PIXEL = 1
  LINE_LAST_PIXEL = 9230
  LINE_PROJECTION_OFFSET = -1819.4375
  MAP_PROJECTION_ROTATION = 0.0
  MAP_PROJECTION_TYPE = SINUSOIDAL
  MAP_RESOLUTION = 592.713803866667
  MAP_SCALE = 0.1
  MAXIMUM_LATITUDE = -3.05639
  MINIMUM_LATITUDE = -18.6766
  POSITIVE_LONGITUDE_DIRECTION = EAST
  REFERENCE_LATITUDE = "N/A"
  REFERENCE_LONGITUDE = "N/A"
  SAMPLE_FIRST_PIXEL = 1
  SAMPLE_LAST_PIXEL = 967
  SAMPLE_PROJECTION_OFFSET = 432.4375
  SECOND_STANDARD_PARALLEL = "N/A"
  WESTERNMOST_LONGITUDE = 227.303
END_OBJECT = IMAGE_MAP_PROJECTION
/* The JPEG2000 image data file associated with this label. */
OBJECT = COMPRESSED_FILE
  FILE_NAME = "HG709_0000_RE3.JP2"
  RECORD_TYPE = UNDEFINED
  FILE_RECORDS = UNK
  ENCODING_TYPE = "JP2"
  INTERCHANGE_FORMAT = BINARY
  UNCOMPRESSED_FILE_NAME = "HG709_0000_RE3.IMG"
  REQUIRED_STORAGE_BYTES = "8943783"
  ^DESCRIPTION = "JP2INFO.TXT"
END_OBJECT = COMPRESSED_FILE
END
