PDS_VERSION_ID = PDS3
/* FILE DATA ELEMENTS */
RECORD_TYPE = STREAM
/* POINTERS TO DATA OBJECTS */
^COMPRESSED_FILE = "HG719_0001_P23.JP2"
/* IDENTIFICATION DATA ELEMENTS */
DATA_SET_ID = "MEX-M-HRSC-5-REFDR-MAPPROJECTED-V3.0"
DATA_SET_NAME = "MARS EXPRESS HRSC MAP PROJECTED REFDR V3.0"
DETECTOR_ID = MEX_HRSC_P2
EVENT_TYPE = "MARS-REGIONAL-STEREO-Lc-La-Tc"
INSTRUMENT_HOST_ID = MEX
INSTRUMENT_HOST_NAME = "MARS EXPRESS"
INSTRUMENT_ID = HRSC
INSTRUMENT_NAME = "HIGH RESOLUTION STEREO CAMERA"
MISSION_NAME = "MARS EXPRESS"
MISSION_PHASE_NAME = ME_Phase_36
PROCESSING_LEVEL_ID = 3
PRODUCT_CREATION_TIME = 2018-06-28T11:48:36.000Z
PRODUCT_ID = "HG719_0001_P23.JP2"
RELEASE_ID = 0138
REVISION_ID = 0000
/* QUALITY DATA ELEMENTS */
DATA_QUALITY_ID = 1
DATA_QUALITY_DESC = "Data calculated based on original SPICE kernels"
/* TIME DATA ELEMENTS */
SPACECRAFT_CLOCK_START_COUNT = "1/0437606038.05503"
SPACECRAFT_CLOCK_STOP_COUNT = "1/0437606233.64484"
START_TIME = 2017-03-14T21:14:16.559Z
STOP_TIME = 2017-03-14T21:15:48.864Z
/* ORBITAL DATA ELEMENTS */
ASCENDING_NODE_LONGITUDE = 259.89
MAXIMUM_RESOLUTION = 28.8
FOOTPRINT_POINT_LATITUDE = (-11.2235,-11.2247,-11.2259,-11.2272, -11.2281,-11.2288,-11.2291,-11.0736, -10.9602,-10.8478,-10.7349,-10.5656, -10.4528,-10.3398,-10.2258,-10.0996, -9.98167,-9.81054,-9.58701,-9.41237, -9.29572,-9.18235,-9.06968,-8.89992, -8.78686,-8.67442,-8.56236,-8.44994, -8.3369,-8.1675,-8.00193,-7.84196, -7.57853,-7.45131,-7.31873,-7.1179, -6.98398,-6.77231,-6.63283,-6.49893, -6.36675,-6.23314,-6.09935,-5.96615, -5.77186,-5.56515,-5.42842,-5.29447, -5.18466,-5.18153,-5.17935,-5.17684, -5.17413,-5.16878,-5.16491,-5.15936, -5.29183,-5.4284,-5.5704,-5.70675, -5.91088,-6.04409,-6.18203,-6.31905, -6.45423,-6.64968,-6.77808,-6.91217, -7.05205,-7.20021,-7.33458,-7.46845, -7.6942,-7.8549,-8.01605,-8.1817, -8.35057,-8.46334,-8.57717,-8.74914, -8.91542,-9.02667,-9.19567,-9.30838, -9.42416,-9.53936,-9.65304,-9.76435, -9.87848,-10.051,-10.1685,-10.2799, -10.3936,-10.5101,-10.6344,-10.7503, -10.8636,-11.0329,-11.2024,-11.2235)
FOOTPRINT_POINT_LONGITUDE = (284.193,284.059,283.913,283.718, 283.535,283.34,283.218,283.17,283.169, 283.167,283.166,283.164,283.162,283.161 ,283.159,283.151,283.147,283.144, 283.141,283.136,283.133,283.131,283.129 ,283.126,283.124,283.123,283.121,283.12 ,283.118,283.115,283.113,283.115, 283.118,283.116,283.114,283.111,283.108 ,283.1,283.095,283.093,283.091,283.089, 283.086,283.084,283.083,283.076,283.072 ,283.07,283.223,283.38,283.537,283.667, 283.903,284.074,284.193,284.423,284.424 ,284.423,284.42,284.419,284.417,284.418 ,284.416,284.415,284.414,284.417,284.42 ,284.42,284.418,284.412,284.412,284.412 ,284.416,284.42,284.424,284.426,284.426 ,284.426,284.426,284.425,284.426, 284.427,284.427,284.428,284.426,284.426 ,284.425,284.426,284.426,284.425, 284.423,284.424,284.424,284.423,284.418 ,284.417,284.417,284.417,284.418, 284.193)
ORBIT_NUMBER = 16719
ORBITAL_ECCENTRICITY = 0.579
ORBITAL_INCLINATION = 86.93
ORBITAL_SEMIMAJOR_AXIS = 8849.35
PERIAPSIS_ALTITUDE = 333.29
PERIAPSIS_ARGUMENT_ANGLE = 337.21
PERIAPSIS_TIME = 2017-03-14T21:11:41.000Z
SPACECRAFT_ORIENTATION = (0.0,1.0,0.0)
^MEX_ORIENTATION_DESC = "MEX_ORIENTATION_DESC.TXT"
SPACECRAFT_POINTING_MODE = NADIR
^MEX_POINTING_DESC = "MEX_POINTING_DESC.TXT"
RIGHT_ASCENSION = -1e+32
DECLINATION = -1e+32
OFFSET_ANGLE = -1e+32
SPACECRAFT_SOLAR_DISTANCE = 2.23026e+08
TARGET_NAME = MARS
/* CAMERA DATA ELEMENTS */
DETECTOR_TEMPERATURE = 0.0
FOCAL_PLANE_TEMPERATURE = 0.0
INST_CMPRS_NAME = "DISCRETE COSINE TRANSFORMATION (DCT)"
INST_CMPRS_RATIO = 5.38944
INST_CMPRS_QUALITY = 0
INST_CMPRS_QUANTZ_TBL_ID = 0
INSTRUMENT_TEMPERATURE = 0.0
LENS_TEMPERATURE = 0.0
MACROPIXEL_SIZE = 2
MISSING_FRAMES = 0
PIXEL_SUBSAMPLING_FLAG = N
SIGNAL_CHAIN_ID = 3
/* RADIOMETRIC DATA ELEMENTS */
BANDWIDTH = 177.0
CENTER_FILTER_WAVELENGTH = 676.5
RADIANCE_OFFSET = 2.71736
RADIANCE_SCALING_FACTOR = 0.0196024
REFLECTANCE_SCALING_FACTOR = 0.000516988
MEX:REFLECTANCE_OFFSET = 0.071667
/* IMAGE OBJECT DEFINITIONS */
OBJECT = IMAGE
  INTERCHANGE_FORMAT = BINARY
  LINES = 10844
  LINE_SAMPLES = 3365
  SAMPLE_TYPE = UNSIGNED_INTEGER
  SAMPLE_BITS = 8
  BANDS = 1
  BAND_STORAGE_TYPE = BAND_SEQUENTIAL
  MAXIMUM = 255
  MEAN = 104.766
  MINIMUM = 1
  STANDARD_DEVIATION = 26.5269
END_OBJECT = IMAGE
/* MAP OBJECT DEFINITIONS */
OBJECT = IMAGE_MAP_PROJECTION
  ^DATA_SET_MAP_PROJECTION_CATALOG= "DSMAP.CAT"
  A_AXIS_RADIUS = 3396.0
  B_AXIS_RADIUS = 3396.0
  C_AXIS_RADIUS = 3396.0
  CENTER_LATITUDE = 0.0
  CENTER_LONGITUDE = 284.0
  COORDINATE_SYSTEM_NAME = PLANETOGRAPHIC
  COORDINATE_SYSTEM_TYPE = "BODY-FIXED ROTATING"
  EASTERNMOST_LONGITUDE = 284.428
  FIRST_STANDARD_PARALLEL = "N/A"
  LINE_FIRST_PIXEL = 1
  LINE_LAST_PIXEL = 10844
  LINE_PROJECTION_OFFSET = -15756.75
  MAP_PROJECTION_ROTATION = 0.0
  MAP_PROJECTION_TYPE = SINUSOIDAL
  MAP_RESOLUTION = 2370.85521546667
  MAP_SCALE = 0.025
  MAXIMUM_LATITUDE = -5.15936
  MINIMUM_LATITUDE = -11.2291
  POSITIVE_LONGITUDE_DIRECTION = EAST
  REFERENCE_LATITUDE = "N/A"
  REFERENCE_LONGITUDE = "N/A"
  SAMPLE_FIRST_PIXEL = 1
  SAMPLE_LAST_PIXEL = 3365
  SAMPLE_PROJECTION_OFFSET = 2246.25
  SECOND_STANDARD_PARALLEL = "N/A"
  WESTERNMOST_LONGITUDE = 283.07
END_OBJECT = IMAGE_MAP_PROJECTION
/* The JPEG2000 image data file associated with this label. */
OBJECT = COMPRESSED_FILE
  FILE_NAME = "HG719_0001_P23.JP2"
  RECORD_TYPE = UNDEFINED
  FILE_RECORDS = UNK
  ENCODING_TYPE = "JP2"
  INTERCHANGE_FORMAT = BINARY
  UNCOMPRESSED_FILE_NAME = "HG719_0001_P23.IMG"
  REQUIRED_STORAGE_BYTES = "36513615"
  ^DESCRIPTION = "JP2INFO.TXT"
END_OBJECT = COMPRESSED_FILE
END
