PDS_VERSION_ID = PDS3
/* FILE DATA ELEMENTS */
RECORD_TYPE = STREAM
/* POINTERS TO DATA OBJECTS */
^COMPRESSED_FILE = "HG720_0000_GR3.JP2"
/* IDENTIFICATION DATA ELEMENTS */
DATA_SET_ID = "MEX-M-HRSC-5-REFDR-MAPPROJECTED-V3.0"
DATA_SET_NAME = "MARS EXPRESS HRSC MAP PROJECTED REFDR V3.0"
DETECTOR_ID = MEX_HRSC_GREEN
EVENT_TYPE = "MARS-REGIONAL-MAPPING-Fl-La"
INSTRUMENT_HOST_ID = MEX
INSTRUMENT_HOST_NAME = "MARS EXPRESS"
INSTRUMENT_ID = HRSC
INSTRUMENT_NAME = "HIGH RESOLUTION STEREO CAMERA"
MISSION_NAME = "MARS EXPRESS"
MISSION_PHASE_NAME = ME_Phase_36
PROCESSING_LEVEL_ID = 3
PRODUCT_CREATION_TIME = 2018-06-28T11:48:36.000Z
PRODUCT_ID = "HG720_0000_GR3.JP2"
RELEASE_ID = 0138
REVISION_ID = 0000
/* QUALITY DATA ELEMENTS */
DATA_QUALITY_ID = 1
DATA_QUALITY_DESC = "Data calculated based on original SPICE kernels"
/* TIME DATA ELEMENTS */
SPACECRAFT_CLOCK_START_COUNT = "1/0437630957.07319"
SPACECRAFT_CLOCK_STOP_COUNT = "1/0437631139.29676"
START_TIME = 2017-03-15T04:10:01.626Z
STOP_TIME = 2017-03-15T04:12:00.671Z
/* ORBITAL DATA ELEMENTS */
ASCENDING_NODE_LONGITUDE = 259.87
MAXIMUM_RESOLUTION = 53.2
FOOTPRINT_POINT_LATITUDE = (-28.3523,-28.3518,-28.3508,-28.3497, -28.3484,-28.3467,-28.2678,-28.0295, -27.8705,-27.6323,-27.3947,-27.164, -26.9334,-26.7796,-26.5486,-26.3941, -26.2406,-26.0868,-25.8562,-25.7023, -25.5483,-25.3946,-25.2408,-25.0868, -24.8558,-24.7019,-24.548,-24.317, -24.1631,-24.0093,-23.8554,-23.7014, -23.5475,-23.3939,-23.2401,-23.0862, -22.8555,-22.6248,-22.471,-22.317, -22.1632,-22.0095,-21.8557,-21.7018, -21.5481,-21.3944,-21.2406,-21.0868, -20.8561,-20.7023,-20.5738,-20.5742, -20.5741,-20.5738,-20.5734,-20.6502, -20.804,-21.0347,-21.1887,-21.3426, -21.4965,-21.6508,-21.8815,-22.0355, -22.1895,-22.3435,-22.4974,-22.6514, -22.8052,-22.9594,-23.1133,-23.3443, -23.4982,-23.7291,-23.8836,-24.1146, -24.3458,-24.5768,-24.7309,-24.8848, -25.0389,-25.1928,-25.3467,-25.5779, -25.732,-25.9632,-26.1173,-26.2714, -26.5023,-26.6565,-26.8104,-26.9645, -27.1955,-27.3494,-27.5067,-27.666, -27.8248,-27.9838,-28.1433,-28.3523)
FOOTPRINT_POINT_LONGITUDE = (181.801,181.616,181.369,181.171, 180.972,180.772,180.572,180.578,180.581 ,180.586,180.588,180.592,180.596, 180.599,180.603,180.608,180.609,180.612 ,180.614,180.617,180.619,180.621, 180.623,180.625,180.628,180.63,180.632, 180.635,180.637,180.638,180.639,180.641 ,180.643,180.643,180.645,180.646, 180.647,180.649,180.65,180.652,180.653, 180.653,180.654,180.655,180.656,180.657 ,180.658,180.658,180.66,180.661,180.801 ,181.08,181.323,181.531,181.692,181.903 ,181.903,181.904,181.904,181.904, 181.905,181.905,181.905,181.906,181.906 ,181.906,181.907,181.907,181.907, 181.907,181.907,181.908,181.908,181.908 ,181.909,181.909,181.91,181.91,181.91, 181.91,181.91,181.91,181.91,181.911, 181.911,181.912,181.912,181.912,181.913 ,181.913,181.913,181.914,181.914, 181.914,181.914,181.915,181.915,181.915 ,181.916,181.801)
ORBIT_NUMBER = 16720
ORBITAL_ECCENTRICITY = 0.578
ORBITAL_INCLINATION = 86.95
ORBITAL_SEMIMAJOR_AXIS = 8840.31
PERIAPSIS_ALTITUDE = 333.58
PERIAPSIS_ARGUMENT_ANGLE = 337.03
PERIAPSIS_TIME = 2017-03-15T04:11:20.000Z
SPACECRAFT_ORIENTATION = (0.0,1.0,0.0)
^MEX_ORIENTATION_DESC = "MEX_ORIENTATION_DESC.TXT"
SPACECRAFT_POINTING_MODE = ACROSSTRACK
^MEX_POINTING_DESC = "MEX_POINTING_DESC.TXT"
RIGHT_ASCENSION = -1e+32
DECLINATION = -1e+32
OFFSET_ANGLE = 0.25
SPACECRAFT_SOLAR_DISTANCE = 2.23083e+08
TARGET_NAME = MARS
/* CAMERA DATA ELEMENTS */
DETECTOR_TEMPERATURE = 18.3705
FOCAL_PLANE_TEMPERATURE = 8.7872
INST_CMPRS_NAME = "DISCRETE COSINE TRANSFORMATION (DCT)"
INST_CMPRS_RATIO = 10.8736
INST_CMPRS_QUALITY = 0
INST_CMPRS_QUANTZ_TBL_ID = 0
INSTRUMENT_TEMPERATURE = 12.0496
LENS_TEMPERATURE = 10.2145
MACROPIXEL_SIZE = 4
MISSING_FRAMES = 0
PIXEL_SUBSAMPLING_FLAG = N
SIGNAL_CHAIN_ID = 2
/* RADIOMETRIC DATA ELEMENTS */
BANDWIDTH = 88.0
CENTER_FILTER_WAVELENGTH = 538.0
RADIANCE_OFFSET = 1.34295
RADIANCE_SCALING_FACTOR = 0.00383537
REFLECTANCE_SCALING_FACTOR = 0.000164334
MEX:REFLECTANCE_OFFSET = 0.0575414
/* IMAGE OBJECT DEFINITIONS */
OBJECT = IMAGE
  INTERCHANGE_FORMAT = BINARY
  LINES = 9216
  LINE_SAMPLES = 1535
  SAMPLE_TYPE = UNSIGNED_INTEGER
  SAMPLE_BITS = 8
  BANDS = 1
  BAND_STORAGE_TYPE = BAND_SEQUENTIAL
  MAXIMUM = 255
  MEAN = 123.051
  MINIMUM = 1
  STANDARD_DEVIATION = 26.7437
END_OBJECT = IMAGE
/* MAP OBJECT DEFINITIONS */
OBJECT = IMAGE_MAP_PROJECTION
  ^DATA_SET_MAP_PROJECTION_CATALOG= "DSMAP.CAT"
  A_AXIS_RADIUS = 3396.0
  B_AXIS_RADIUS = 3396.0
  C_AXIS_RADIUS = 3396.0
  CENTER_LATITUDE = 0.0
  CENTER_LONGITUDE = 181.0
  COORDINATE_SYSTEM_NAME = PLANETOGRAPHIC
  COORDINATE_SYSTEM_TYPE = "BODY-FIXED ROTATING"
  EASTERNMOST_LONGITUDE = 181.916
  FIRST_STANDARD_PARALLEL = "N/A"
  LINE_FIRST_PIXEL = 1
  LINE_LAST_PIXEL = 9216
  LINE_PROJECTION_OFFSET = -24405.125
  MAP_PROJECTION_ROTATION = 0.0
  MAP_PROJECTION_TYPE = SINUSOIDAL
  MAP_RESOLUTION = 1185.42760773333
  MAP_SCALE = 0.05
  MAXIMUM_LATITUDE = -20.5734
  MINIMUM_LATITUDE = -28.3523
  POSITIVE_LONGITUDE_DIRECTION = EAST
  REFERENCE_LATITUDE = "N/A"
  REFERENCE_LONGITUDE = "N/A"
  SAMPLE_FIRST_PIXEL = 1
  SAMPLE_LAST_PIXEL = 1535
  SAMPLE_PROJECTION_OFFSET = 508.875
  SECOND_STANDARD_PARALLEL = "N/A"
  WESTERNMOST_LONGITUDE = 180.572
END_OBJECT = IMAGE_MAP_PROJECTION
/* The JPEG2000 image data file associated with this label. */
OBJECT = COMPRESSED_FILE
  FILE_NAME = "HG720_0000_GR3.JP2"
  RECORD_TYPE = UNDEFINED
  FILE_RECORDS = UNK
  ENCODING_TYPE = "JP2"
  INTERCHANGE_FORMAT = BINARY
  UNCOMPRESSED_FILE_NAME = "HG720_0000_GR3.IMG"
  REQUIRED_STORAGE_BYTES = "14166515"
  ^DESCRIPTION = "JP2INFO.TXT"
END_OBJECT = COMPRESSED_FILE
END
