PDS_VERSION_ID = PDS3
/* FILE DATA ELEMENTS */
RECORD_TYPE = STREAM
/* POINTERS TO DATA OBJECTS */
^COMPRESSED_FILE = "HG721_0000_GR3.JP2"
/* IDENTIFICATION DATA ELEMENTS */
DATA_SET_ID = "MEX-M-HRSC-5-REFDR-MAPPROJECTED-V3.0"
DATA_SET_NAME = "MARS EXPRESS HRSC MAP PROJECTED REFDR V3.0"
DETECTOR_ID = MEX_HRSC_GREEN
EVENT_TYPE = "MARS-REGIONAL-MAPPING-Im-Gl-La"
INSTRUMENT_HOST_ID = MEX
INSTRUMENT_HOST_NAME = "MARS EXPRESS"
INSTRUMENT_ID = HRSC
INSTRUMENT_NAME = "HIGH RESOLUTION STEREO CAMERA"
MISSION_NAME = "MARS EXPRESS"
MISSION_PHASE_NAME = ME_Phase_36
PROCESSING_LEVEL_ID = 3
PRODUCT_CREATION_TIME = 2018-06-28T11:48:36.000Z
PRODUCT_ID = "HG721_0000_GR3.JP2"
RELEASE_ID = 0138
REVISION_ID = 0000
/* QUALITY DATA ELEMENTS */
DATA_QUALITY_ID = 1
DATA_QUALITY_DESC = "Data calculated based on original SPICE kernels"
/* TIME DATA ELEMENTS */
SPACECRAFT_CLOCK_START_COUNT = "1/0437656058.09047"
SPACECRAFT_CLOCK_STOP_COUNT = "1/0437656292.49612"
START_TIME = 2017-03-15T11:08:25.972Z
STOP_TIME = 2017-03-15T11:11:13.577Z
/* ORBITAL DATA ELEMENTS */
ASCENDING_NODE_LONGITUDE = 259.85
MAXIMUM_RESOLUTION = 53.5
FOOTPRINT_POINT_LATITUDE = (-33.4924,-33.4914,-33.4899,-33.4859, -33.4896,-33.273,-33.0563,-32.7312, -32.4058,-32.1889,-31.9709,-31.7536, -31.5367,-31.3194,-31.1019,-30.8843, -30.5582,-30.2318,-30.014,-29.7957, -29.5783,-29.3605,-29.1424,-28.9247, -28.7068,-28.4888,-28.2707,-27.9439, -27.7257,-27.5071,-27.2899,-26.962, -26.6348,-26.3073,-26.089,-25.7614, -25.5431,-25.3249,-25.1065,-24.8882, -24.6697,-24.4514,-24.2338,-24.0156, -23.7972,-23.5784,-23.2515,-23.0334, -22.8152,-22.597,-22.539,-22.5403, -22.5413,-22.5419,-22.7609,-22.979, -23.1977,-23.4154,-23.6338,-23.8519, -24.0717,-24.2903,-24.6179,-24.9456, -25.1631,-25.4895,-25.7076,-25.926, -26.2543,-26.473,-26.6914,-26.9097, -27.2372,-27.5645,-27.7826,-28.1092, -28.3284,-28.5465,-28.7635,-28.982, -29.2003,-29.4184,-29.638,-29.8559, -30.0735,-30.3996,-30.6175,-30.8358, -31.0534,-31.3799,-31.5969,-31.8144, -32.0317,-32.249,-32.4661,-32.6832, -32.9001,-33.1169,-33.3337,-33.4924)
FOOTPRINT_POINT_LONGITUDE = (81.2603,81.0244,80.7918,80.3372, 79.9145,79.9173,79.9199,79.9236,79.9271 ,79.9294,79.9294,79.9309,79.9338, 79.9354,79.9369,79.9382,79.9407,79.9426 ,79.9436,79.9435,79.9453,79.9465, 79.9469,79.948,79.9489,79.9497,79.9498, 79.9514,79.9517,79.9508,79.9533,79.9519 ,79.9525,79.9521,79.9516,79.9508, 79.9505,79.9502,79.9495,79.949,79.9479, 79.9473,79.9481,79.9474,79.9464,79.9441 ,79.9435,79.9426,79.9416,79.9403, 80.3068,80.5616,80.8343,81.1381,81.2605 ,81.2629,81.2689,81.268,81.2724,81.2744 ,81.2879,81.2933,81.2996,81.3056, 81.3035,81.3006,81.3024,81.3068,81.3183 ,81.3244,81.3292,81.3334,81.34,81.3456, 81.3496,81.3506,81.3634,81.3674,81.3638 ,81.3722,81.3784,81.3843,81.4016, 81.4068,81.4099,81.4134,81.4194,81.4294 ,81.4347,81.4443,81.4468,81.4531, 81.4583,81.4644,81.4696,81.4754,81.4804 ,81.4851,81.4907,81.2603)
ORBIT_NUMBER = 16721
ORBITAL_ECCENTRICITY = 0.579
ORBITAL_INCLINATION = 86.95
ORBITAL_SEMIMAJOR_AXIS = 8848.05
PERIAPSIS_ALTITUDE = 332.48
PERIAPSIS_ARGUMENT_ANGLE = 336.84
PERIAPSIS_TIME = 2017-03-15T11:11:00.000Z
SPACECRAFT_ORIENTATION = (0.0,1.0,0.0)
^MEX_ORIENTATION_DESC = "MEX_ORIENTATION_DESC.TXT"
SPACECRAFT_POINTING_MODE = ACROSSTRACK
^MEX_POINTING_DESC = "MEX_POINTING_DESC.TXT"
RIGHT_ASCENSION = -1e+32
DECLINATION = -1e+32
OFFSET_ANGLE = -1.2
SPACECRAFT_SOLAR_DISTANCE = 2.23139e+08
TARGET_NAME = MARS
/* CAMERA DATA ELEMENTS */
DETECTOR_TEMPERATURE = 18.3705
FOCAL_PLANE_TEMPERATURE = 8.5833
INST_CMPRS_NAME = "DISCRETE COSINE TRANSFORMATION (DCT)"
INST_CMPRS_RATIO = 17.8775
INST_CMPRS_QUALITY = 0
INST_CMPRS_QUANTZ_TBL_ID = 0
INSTRUMENT_TEMPERATURE = 12.0496
LENS_TEMPERATURE = 7.7677
MACROPIXEL_SIZE = 4
MISSING_FRAMES = 0
PIXEL_SUBSAMPLING_FLAG = N
SIGNAL_CHAIN_ID = 2
/* RADIOMETRIC DATA ELEMENTS */
BANDWIDTH = 88.0
CENTER_FILTER_WAVELENGTH = 538.0
RADIANCE_OFFSET = 1.29023
RADIANCE_SCALING_FACTOR = 0.00342755
REFLECTANCE_SCALING_FACTOR = 0.000146934
MEX:REFLECTANCE_OFFSET = 0.0553103
/* IMAGE OBJECT DEFINITIONS */
OBJECT = IMAGE
  INTERCHANGE_FORMAT = BINARY
  LINES = 12992
  LINE_SAMPLES = 1730
  SAMPLE_TYPE = UNSIGNED_INTEGER
  SAMPLE_BITS = 8
  BANDS = 1
  BAND_STORAGE_TYPE = BAND_SEQUENTIAL
  MAXIMUM = 255
  MEAN = 149.478
  MINIMUM = 1
  STANDARD_DEVIATION = 32.5432
END_OBJECT = IMAGE
/* MAP OBJECT DEFINITIONS */
OBJECT = IMAGE_MAP_PROJECTION
  ^DATA_SET_MAP_PROJECTION_CATALOG= "DSMAP.CAT"
  A_AXIS_RADIUS = 3396.0
  B_AXIS_RADIUS = 3396.0
  C_AXIS_RADIUS = 3396.0
  CENTER_LATITUDE = 0.0
  CENTER_LONGITUDE = 81.0
  COORDINATE_SYSTEM_NAME = PLANETOGRAPHIC
  COORDINATE_SYSTEM_TYPE = "BODY-FIXED ROTATING"
  EASTERNMOST_LONGITUDE = 81.4907
  FIRST_STANDARD_PARALLEL = "N/A"
  LINE_FIRST_PIXEL = 1
  LINE_LAST_PIXEL = 12992
  LINE_PROJECTION_OFFSET = -26719.625
  MAP_PROJECTION_ROTATION = 0.0
  MAP_PROJECTION_TYPE = SINUSOIDAL
  MAP_RESOLUTION = 1185.42760773333
  MAP_SCALE = 0.05
  MAXIMUM_LATITUDE = -22.539
  MINIMUM_LATITUDE = -33.4924
  POSITIVE_LONGITUDE_DIRECTION = EAST
  REFERENCE_LATITUDE = "N/A"
  REFERENCE_LONGITUDE = "N/A"
  SAMPLE_FIRST_PIXEL = 1
  SAMPLE_LAST_PIXEL = 1730
  SAMPLE_PROJECTION_OFFSET = 1172.125
  SECOND_STANDARD_PARALLEL = "N/A"
  WESTERNMOST_LONGITUDE = 79.9145
END_OBJECT = IMAGE_MAP_PROJECTION
/* The JPEG2000 image data file associated with this label. */
OBJECT = COMPRESSED_FILE
  FILE_NAME = "HG721_0000_GR3.JP2"
  RECORD_TYPE = UNDEFINED
  FILE_RECORDS = UNK
  ENCODING_TYPE = "JP2"
  INTERCHANGE_FORMAT = BINARY
  UNCOMPRESSED_FILE_NAME = "HG721_0000_GR3.IMG"
  REQUIRED_STORAGE_BYTES = "22496920"
  ^DESCRIPTION = "JP2INFO.TXT"
END_OBJECT = COMPRESSED_FILE
END
