PDS_VERSION_ID = PDS3
/* FILE DATA ELEMENTS */
RECORD_TYPE = STREAM
/* POINTERS TO DATA OBJECTS */
^COMPRESSED_FILE = "HG721_0000_ND3.JP2"
/* IDENTIFICATION DATA ELEMENTS */
DATA_SET_ID = "MEX-M-HRSC-5-REFDR-MAPPROJECTED-V3.0"
DATA_SET_NAME = "MARS EXPRESS HRSC MAP PROJECTED REFDR V3.0"
DETECTOR_ID = MEX_HRSC_NADIR
EVENT_TYPE = "MARS-REGIONAL-MAPPING-Im-Gl-La"
INSTRUMENT_HOST_ID = MEX
INSTRUMENT_HOST_NAME = "MARS EXPRESS"
INSTRUMENT_ID = HRSC
INSTRUMENT_NAME = "HIGH RESOLUTION STEREO CAMERA"
MISSION_NAME = "MARS EXPRESS"
MISSION_PHASE_NAME = ME_Phase_36
PROCESSING_LEVEL_ID = 3
PRODUCT_CREATION_TIME = 2018-06-28T11:48:36.000Z
PRODUCT_ID = "HG721_0000_ND3.JP2"
RELEASE_ID = 0138
REVISION_ID = 0000
/* QUALITY DATA ELEMENTS */
DATA_QUALITY_ID = 1
DATA_QUALITY_DESC = "Data calculated based on original SPICE kernels"
/* TIME DATA ELEMENTS */
SPACECRAFT_CLOCK_START_COUNT = "1/0437656058.09047"
SPACECRAFT_CLOCK_STOP_COUNT = "1/0437656292.49612"
START_TIME = 2017-03-15T11:08:20.316Z
STOP_TIME = 2017-03-15T11:11:08.327Z
/* ORBITAL DATA ELEMENTS */
ASCENDING_NODE_LONGITUDE = 259.85
MAXIMUM_RESOLUTION = 13.4
FOOTPRINT_POINT_LATITUDE = (-33.5002,-33.5015,-33.4994,-33.0652, -32.6306,-32.4131,-32.1955,-31.9779, -31.7602,-31.5422,-31.3243,-31.1062, -30.8881,-30.6698,-30.4515,-30.2331, -30.0146,-29.7961,-29.5774,-29.3587, -29.1399,-28.921,-28.7021,-28.4831, -28.264,-28.0449,-27.7161,-27.3872, -27.1679,-26.9485,-26.729,-26.5095, -26.29,-25.9608,-25.7411,-25.5215, -25.3018,-25.0821,-24.8624,-24.5328, -24.3129,-24.093,-23.8732,-23.5436, -23.3237,-23.1038,-22.884,-22.5518, -22.5497,-22.5462,-22.5435,-22.7611, -22.9811,-23.201,-23.4211,-23.641, -23.861,-24.0806,-24.3005,-24.5203, -24.8501,-25.0701,-25.29,-25.62, -25.9496,-26.1694,-26.3888,-26.6084, -26.8279,-27.0475,-27.267,-27.4864, -27.7058,-27.9252,-28.1446,-28.3636, -28.5828,-28.8021,-29.0211,-29.24, -29.4587,-29.6773,-29.896,-30.1148, -30.3335,-30.552,-30.7703,-30.9886, -31.2068,-31.4249,-31.7521,-31.9701, -32.1879,-32.4056,-32.6233,-32.8408, -33.0583,-33.2756,-33.4929,-33.5002)
FOOTPRINT_POINT_LONGITUDE = (80.8459,80.3594,79.9028,79.9084, 79.9137,79.9162,79.9185,79.9188,79.9203 ,79.9233,79.9252,79.9267,79.9282, 79.9301,79.9316,79.9331,79.934,79.9341, 79.9359,79.9372,79.9377,79.9388,79.94, 79.9408,79.9416,79.9428,79.9432,79.9435 ,79.9438,79.9441,79.9445,79.9446, 79.9441,79.9423,79.9431,79.9428,79.9425 ,79.942,79.9414,79.9396,79.941,79.9407, 79.9397,79.9374,79.937,79.936,79.9351, 80.1333,80.4267,80.8059,81.0471,81.2604 ,81.2628,81.2689,81.2681,81.2724, 81.2747,81.2882,81.2937,81.2984,81.3046 ,81.3063,81.3052,81.3034,81.3078, 81.3089,81.3231,81.3286,81.3325,81.3373 ,81.3419,81.3452,81.3495,81.3537, 81.3525,81.3663,81.3694,81.3686,81.3744 ,81.3807,81.3911,81.404,81.4094,81.4125 ,81.4122,81.4202,81.4286,81.4351, 81.4416,81.452,81.4539,81.459,81.4656, 81.471,81.4765,81.482,81.4867,81.4925, 81.4965,80.8459)
ORBIT_NUMBER = 16721
ORBITAL_ECCENTRICITY = 0.579
ORBITAL_INCLINATION = 86.95
ORBITAL_SEMIMAJOR_AXIS = 8848.05
PERIAPSIS_ALTITUDE = 332.48
PERIAPSIS_ARGUMENT_ANGLE = 336.84
PERIAPSIS_TIME = 2017-03-15T11:11:00.000Z
SPACECRAFT_ORIENTATION = (0.0,1.0,0.0)
^MEX_ORIENTATION_DESC = "MEX_ORIENTATION_DESC.TXT"
SPACECRAFT_POINTING_MODE = ACROSSTRACK
^MEX_POINTING_DESC = "MEX_POINTING_DESC.TXT"
RIGHT_ASCENSION = -1e+32
DECLINATION = -1e+32
OFFSET_ANGLE = -1.2
SPACECRAFT_SOLAR_DISTANCE = 2.23139e+08
TARGET_NAME = MARS
/* CAMERA DATA ELEMENTS */
DETECTOR_TEMPERATURE = 18.3705
FOCAL_PLANE_TEMPERATURE = 8.5833
INST_CMPRS_NAME = "DISCRETE COSINE TRANSFORMATION (DCT)"
INST_CMPRS_RATIO = 6.68903
INST_CMPRS_QUALITY = 0
INST_CMPRS_QUANTZ_TBL_ID = 0
INSTRUMENT_TEMPERATURE = 12.0496
LENS_TEMPERATURE = 7.7677
MACROPIXEL_SIZE = 1
MISSING_FRAMES = 0
PIXEL_SUBSAMPLING_FLAG = N
SIGNAL_CHAIN_ID = 0
/* RADIOMETRIC DATA ELEMENTS */
BANDWIDTH = 177.0
CENTER_FILTER_WAVELENGTH = 677.5
RADIANCE_OFFSET = 2.94088
RADIANCE_SCALING_FACTOR = 0.0115329
REFLECTANCE_SCALING_FACTOR = 0.00030505
MEX:REFLECTANCE_OFFSET = 0.0777878
/* IMAGE OBJECT DEFINITIONS */
OBJECT = IMAGE
  INTERCHANGE_FORMAT = BINARY
  LINES = 51967
  LINE_SAMPLES = 6918
  SAMPLE_TYPE = UNSIGNED_INTEGER
  SAMPLE_BITS = 8
  BANDS = 1
  BAND_STORAGE_TYPE = BAND_SEQUENTIAL
  MAXIMUM = 255
  MEAN = 137.593
  MINIMUM = 1
  STANDARD_DEVIATION = 31.9583
END_OBJECT = IMAGE
/* MAP OBJECT DEFINITIONS */
OBJECT = IMAGE_MAP_PROJECTION
  ^DATA_SET_MAP_PROJECTION_CATALOG= "DSMAP.CAT"
  A_AXIS_RADIUS = 3396.0
  B_AXIS_RADIUS = 3396.0
  C_AXIS_RADIUS = 3396.0
  CENTER_LATITUDE = 0.0
  CENTER_LONGITUDE = 81.0
  COORDINATE_SYSTEM_NAME = PLANETOGRAPHIC
  COORDINATE_SYSTEM_TYPE = "BODY-FIXED ROTATING"
  EASTERNMOST_LONGITUDE = 81.4965
  FIRST_STANDARD_PARALLEL = "N/A"
  LINE_FIRST_PIXEL = 1
  LINE_LAST_PIXEL = 51967
  LINE_PROJECTION_OFFSET = -106877.0
  MAP_PROJECTION_ROTATION = 0.0
  MAP_PROJECTION_TYPE = SINUSOIDAL
  MAP_RESOLUTION = 4741.71043093333
  MAP_SCALE = 0.0125
  MAXIMUM_LATITUDE = -22.5435
  MINIMUM_LATITUDE = -33.5015
  POSITIVE_LONGITUDE_DIRECTION = EAST
  REFERENCE_LATITUDE = "N/A"
  REFERENCE_LONGITUDE = "N/A"
  SAMPLE_FIRST_PIXEL = 1
  SAMPLE_LAST_PIXEL = 6918
  SAMPLE_PROJECTION_OFFSET = 4690.0
  SECOND_STANDARD_PARALLEL = "N/A"
  WESTERNMOST_LONGITUDE = 79.9028
END_OBJECT = IMAGE_MAP_PROJECTION
/* The JPEG2000 image data file associated with this label. */
OBJECT = COMPRESSED_FILE
  FILE_NAME = "HG721_0000_ND3.JP2"
  RECORD_TYPE = UNDEFINED
  FILE_RECORDS = UNK
  ENCODING_TYPE = "JP2"
  INTERCHANGE_FORMAT = BINARY
  UNCOMPRESSED_FILE_NAME = "HG721_0000_ND3.IMG"
  REQUIRED_STORAGE_BYTES = "359542296"
  ^DESCRIPTION = "JP2INFO.TXT"
END_OBJECT = COMPRESSED_FILE
END
