PDS_VERSION_ID = PDS3
/* FILE DATA ELEMENTS */
RECORD_TYPE = STREAM
/* POINTERS TO DATA OBJECTS */
^COMPRESSED_FILE = "HG721_0000_S13.JP2"
/* IDENTIFICATION DATA ELEMENTS */
DATA_SET_ID = "MEX-M-HRSC-5-REFDR-MAPPROJECTED-V3.0"
DATA_SET_NAME = "MARS EXPRESS HRSC MAP PROJECTED REFDR V3.0"
DETECTOR_ID = MEX_HRSC_S1
EVENT_TYPE = "MARS-REGIONAL-MAPPING-Im-Gl-La"
INSTRUMENT_HOST_ID = MEX
INSTRUMENT_HOST_NAME = "MARS EXPRESS"
INSTRUMENT_ID = HRSC
INSTRUMENT_NAME = "HIGH RESOLUTION STEREO CAMERA"
MISSION_NAME = "MARS EXPRESS"
MISSION_PHASE_NAME = ME_Phase_36
PROCESSING_LEVEL_ID = 3
PRODUCT_CREATION_TIME = 2018-06-28T11:48:36.000Z
PRODUCT_ID = "HG721_0000_S13.JP2"
RELEASE_ID = 0138
REVISION_ID = 0000
/* QUALITY DATA ELEMENTS */
DATA_QUALITY_ID = 1
DATA_QUALITY_DESC = "Data calculated based on original SPICE kernels"
/* TIME DATA ELEMENTS */
SPACECRAFT_CLOCK_START_COUNT = "1/0437656058.09047"
SPACECRAFT_CLOCK_STOP_COUNT = "1/0437656292.49612"
START_TIME = 2017-03-15T11:08:52.589Z
STOP_TIME = 2017-03-15T11:11:38.719Z
/* ORBITAL DATA ELEMENTS */
ASCENDING_NODE_LONGITUDE = 259.85
MAXIMUM_RESOLUTION = 28.4
FOOTPRINT_POINT_LATITUDE = (-33.4899,-33.4757,-33.4614,-33.4471, -33.4328,-33.4185,-33.2557,-33.0348, -32.8144,-32.5934,-32.3726,-32.1527, -31.9255,-31.704,-31.3717,-31.1498, -30.9291,-30.5993,-30.3786,-30.158, -29.935,-29.6048,-29.3854,-29.056, -28.726,-28.5064,-28.2834,-28.0682, -27.8486,-27.6277,-27.3042,-27.0842, -26.8614,-26.6432,-26.3151,-26.0956, -25.7656,-25.5474,-25.3297,-25.111, -24.7834,-24.5642,-24.3508,-24.0258, -23.8082,-23.5874,-23.2643,-23.048, -22.8314,-22.6149,-22.5226,-22.5374, -22.5613,-22.5816,-22.9118,-23.1272, -23.4526,-23.6699,-23.8855,-24.1113, -24.4413,-24.6589,-24.8772,-25.0932, -25.3023,-25.5163,-25.7325,-25.9522, -26.2801,-26.506,-26.7254,-26.9439, -27.1629,-27.382,-27.5994,-27.8195, -28.1467,-28.3714,-28.5865,-28.8066, -29.1363,-29.3572,-29.5884,-29.8099, -30.0287,-30.2416,-30.4654,-30.6869, -30.9114,-31.1324,-31.3562,-31.5757, -31.7979,-32.0185,-32.3501,-32.5715, -32.7921,-33.1225,-33.4531,-33.4899)
FOOTPRINT_POINT_LONGITUDE = (81.1958,80.9537,80.7154,80.4811, 80.2505,80.0232,79.9324,79.9346,79.9369 ,79.9389,79.9408,79.9429,79.9422, 79.9435,79.9466,79.9474,79.9486,79.9507 ,79.9516,79.9524,79.9523,79.9535, 79.9544,79.9554,79.956,79.9564,79.9554, 79.9572,79.9572,79.9567,79.9586,79.9581 ,79.9565,79.9564,79.9559,79.9551, 79.9534,79.9529,79.9524,79.9514,79.9499 ,79.9484,79.949,79.9479,79.9466,79.9441 ,79.9431,79.9419,79.9405,79.9391, 80.2361,80.4642,80.8403,81.1603,81.276, 81.2778,81.2827,81.2862,81.2878,81.3001 ,81.3092,81.3127,81.3167,81.3183, 81.3124,81.3117,81.3132,81.3184,81.3242 ,81.3358,81.3404,81.344,81.3479,81.3521 ,81.3542,81.3593,81.3636,81.3734, 81.3729,81.3777,81.3844,81.39,81.4067, 81.4129,81.4161,81.4128,81.4214,81.4276 ,81.4369,81.4423,81.4509,81.4509, 81.4576,81.4626,81.4709,81.4767,81.4818 ,81.4886,81.4957,81.1958)
ORBIT_NUMBER = 16721
ORBITAL_ECCENTRICITY = 0.579
ORBITAL_INCLINATION = 86.95
ORBITAL_SEMIMAJOR_AXIS = 8848.05
PERIAPSIS_ALTITUDE = 332.48
PERIAPSIS_ARGUMENT_ANGLE = 336.84
PERIAPSIS_TIME = 2017-03-15T11:11:00.000Z
SPACECRAFT_ORIENTATION = (0.0,1.0,0.0)
^MEX_ORIENTATION_DESC = "MEX_ORIENTATION_DESC.TXT"
SPACECRAFT_POINTING_MODE = ACROSSTRACK
^MEX_POINTING_DESC = "MEX_POINTING_DESC.TXT"
RIGHT_ASCENSION = -1e+32
DECLINATION = -1e+32
OFFSET_ANGLE = -1.2
SPACECRAFT_SOLAR_DISTANCE = 2.23139e+08
TARGET_NAME = MARS
/* CAMERA DATA ELEMENTS */
DETECTOR_TEMPERATURE = 18.1666
FOCAL_PLANE_TEMPERATURE = 8.5833
INST_CMPRS_NAME = "DISCRETE COSINE TRANSFORMATION (DCT)"
INST_CMPRS_RATIO = 12.5478
INST_CMPRS_QUALITY = 0
INST_CMPRS_QUANTZ_TBL_ID = 0
INSTRUMENT_TEMPERATURE = 12.0496
LENS_TEMPERATURE = 7.7677
MACROPIXEL_SIZE = 2
MISSING_FRAMES = 1
PIXEL_SUBSAMPLING_FLAG = N
SIGNAL_CHAIN_ID = 1
/* RADIOMETRIC DATA ELEMENTS */
BANDWIDTH = 180.0
CENTER_FILTER_WAVELENGTH = 677.0
RADIANCE_OFFSET = 3.60244
RADIANCE_SCALING_FACTOR = 0.0115111
REFLECTANCE_SCALING_FACTOR = 0.000299026
MEX:REFLECTANCE_OFFSET = 0.0935815
/* IMAGE OBJECT DEFINITIONS */
OBJECT = IMAGE
  INTERCHANGE_FORMAT = BINARY
  LINES = 25984
  LINE_SAMPLES = 3459
  SAMPLE_TYPE = UNSIGNED_INTEGER
  SAMPLE_BITS = 8
  BANDS = 1
  BAND_STORAGE_TYPE = BAND_SEQUENTIAL
  MAXIMUM = 255
  MEAN = 143.224
  MINIMUM = 1
  STANDARD_DEVIATION = 37.2411
END_OBJECT = IMAGE
/* MAP OBJECT DEFINITIONS */
OBJECT = IMAGE_MAP_PROJECTION
  ^DATA_SET_MAP_PROJECTION_CATALOG= "DSMAP.CAT"
  A_AXIS_RADIUS = 3396.0
  B_AXIS_RADIUS = 3396.0
  C_AXIS_RADIUS = 3396.0
  CENTER_LATITUDE = 0.0
  CENTER_LONGITUDE = 81.0
  COORDINATE_SYSTEM_NAME = PLANETOGRAPHIC
  COORDINATE_SYSTEM_TYPE = "BODY-FIXED ROTATING"
  EASTERNMOST_LONGITUDE = 81.4957
  FIRST_STANDARD_PARALLEL = "N/A"
  LINE_FIRST_PIXEL = 1
  LINE_LAST_PIXEL = 25984
  LINE_PROJECTION_OFFSET = -53438.75
  MAP_PROJECTION_ROTATION = 0.0
  MAP_PROJECTION_TYPE = SINUSOIDAL
  MAP_RESOLUTION = 2370.85521546667
  MAP_SCALE = 0.025
  MAXIMUM_LATITUDE = -22.5226
  MINIMUM_LATITUDE = -33.4899
  POSITIVE_LONGITUDE_DIRECTION = EAST
  REFERENCE_LATITUDE = "N/A"
  REFERENCE_LONGITUDE = "N/A"
  SAMPLE_FIRST_PIXEL = 1
  SAMPLE_LAST_PIXEL = 3459
  SAMPLE_PROJECTION_OFFSET = 2344.75
  SECOND_STANDARD_PARALLEL = "N/A"
  WESTERNMOST_LONGITUDE = 79.9324
END_OBJECT = IMAGE_MAP_PROJECTION
/* The JPEG2000 image data file associated with this label. */
OBJECT = COMPRESSED_FILE
  FILE_NAME = "HG721_0000_S13.JP2"
  RECORD_TYPE = UNDEFINED
  FILE_RECORDS = UNK
  ENCODING_TYPE = "JP2"
  INTERCHANGE_FORMAT = BINARY
  UNCOMPRESSED_FILE_NAME = "HG721_0000_S13.IMG"
  REQUIRED_STORAGE_BYTES = "89902869"
  ^DESCRIPTION = "JP2INFO.TXT"
END_OBJECT = COMPRESSED_FILE
END
