PDS_VERSION_ID = PDS3
/* FILE DATA ELEMENTS */
RECORD_TYPE = STREAM
/* POINTERS TO DATA OBJECTS */
^COMPRESSED_FILE = "HG722_0000_ND3.JP2"
/* IDENTIFICATION DATA ELEMENTS */
DATA_SET_ID = "MEX-M-HRSC-5-REFDR-MAPPROJECTED-V3.0"
DATA_SET_NAME = "MARS EXPRESS HRSC MAP PROJECTED REFDR V3.0"
DETECTOR_ID = MEX_HRSC_NADIR
EVENT_TYPE = "MARS-REGIONAL-MAPPING-Te-Fl-Lc"
INSTRUMENT_HOST_ID = MEX
INSTRUMENT_HOST_NAME = "MARS EXPRESS"
INSTRUMENT_ID = HRSC
INSTRUMENT_NAME = "HIGH RESOLUTION STEREO CAMERA"
MISSION_NAME = "MARS EXPRESS"
MISSION_PHASE_NAME = ME_Phase_36
PROCESSING_LEVEL_ID = 3
PRODUCT_CREATION_TIME = 2018-06-28T11:48:36.000Z
PRODUCT_ID = "HG722_0000_ND3.JP2"
RELEASE_ID = 0138
REVISION_ID = 0000
/* QUALITY DATA ELEMENTS */
DATA_QUALITY_ID = 1
DATA_QUALITY_DESC = "Data calculated based on original SPICE kernels"
/* TIME DATA ELEMENTS */
SPACECRAFT_CLOCK_START_COUNT = "1/0437681270.09034"
SPACECRAFT_CLOCK_STOP_COUNT = "1/0437681482.31804"
START_TIME = 2017-03-15T18:08:30.574Z
STOP_TIME = 2017-03-15T18:10:58.575Z
/* ORBITAL DATA ELEMENTS */
ASCENDING_NODE_LONGITUDE = 259.84
MAXIMUM_RESOLUTION = 13.3
FOOTPRINT_POINT_LATITUDE = (-31.6941,-31.6925,-31.6897,-31.6874, -31.6842,-31.3889,-31.1935,-30.998, -30.8025,-30.6069,-30.4112,-30.2154, -30.0196,-29.8237,-29.6277,-29.4317, -29.2356,-29.0395,-28.8433,-28.647, -28.4507,-28.2543,-28.0579,-27.8614, -27.6663,-27.2859,-26.9053,-26.7149, -26.4293,-26.1437,-25.9532,-25.6675, -25.477,-25.2865,-25.0959,-24.9053, -24.7147,-24.5241,-24.3333,-24.1427, -23.8566,-23.5705,-23.3798,-23.1891, -22.9031,-22.7124,-22.5217,-22.2356, -22.0391,-22.0396,-22.0399,-22.0398, -22.1345,-22.4209,-22.6119,-22.8028, -22.9937,-23.1845,-23.3754,-23.6616, -23.8525,-24.139,-24.3297,-24.5205, -24.7113,-24.9021,-25.093,-25.3792, -25.5701,-25.7608,-25.9515,-26.1421, -26.3328,-26.5234,-26.714,-26.9046, -27.0951,-27.2856,-27.4761,-27.6665, -27.8617,-28.0584,-28.2551,-28.4517, -28.6483,-28.8448,-29.0412,-29.2377, -29.434,-29.6303,-29.8265,-30.0226, -30.2187,-30.4148,-30.6107,-30.9047, -31.1005,-31.2962,-31.4919,-31.6941)
FOOTPRINT_POINT_LONGITUDE = (337.494,337.173,336.81,336.572,336.307 ,336.213,336.218,336.222,336.227, 336.232,336.237,336.242,336.246,336.25, 336.254,336.259,336.262,336.266,336.27, 336.273,336.277,336.28,336.283,336.286, 336.29,336.296,336.302,336.304,336.308, 336.312,336.314,336.318,336.321,336.323 ,336.326,336.328,336.329,336.331, 336.331,336.333,336.335,336.336,336.337 ,336.338,336.34,336.341,336.342,336.344 ,336.469,336.68,337.016,337.253,337.608 ,337.608,337.607,337.608,337.609, 337.609,337.61,337.614,337.614,337.612, 337.615,337.618,337.619,337.62,337.62, 337.62,337.619,337.621,337.621,337.622, 337.623,337.624,337.625,337.625,337.626 ,337.627,337.628,337.629,337.63,337.63, 337.631,337.632,337.633,337.633,337.634 ,337.635,337.635,337.636,337.637,337.64 ,337.641,337.641,337.642,337.642, 337.643,337.644,337.645,337.494)
ORBIT_NUMBER = 16722
ORBITAL_ECCENTRICITY = 0.578
ORBITAL_INCLINATION = 86.95
ORBITAL_SEMIMAJOR_AXIS = 8840.53
PERIAPSIS_ALTITUDE = 333.32
PERIAPSIS_ARGUMENT_ANGLE = 336.67
PERIAPSIS_TIME = 2017-03-15T18:10:40.000Z
SPACECRAFT_ORIENTATION = (0.0,1.0,0.0)
^MEX_ORIENTATION_DESC = "MEX_ORIENTATION_DESC.TXT"
SPACECRAFT_POINTING_MODE = NADIR
^MEX_POINTING_DESC = "MEX_POINTING_DESC.TXT"
RIGHT_ASCENSION = -1e+32
DECLINATION = -1e+32
OFFSET_ANGLE = -1e+32
SPACECRAFT_SOLAR_DISTANCE = 2.23196e+08
TARGET_NAME = MARS
/* CAMERA DATA ELEMENTS */
DETECTOR_TEMPERATURE = 18.1666
FOCAL_PLANE_TEMPERATURE = 7.9716
INST_CMPRS_NAME = "DISCRETE COSINE TRANSFORMATION (DCT)"
INST_CMPRS_RATIO = 6.97826
INST_CMPRS_QUALITY = 0
INST_CMPRS_QUANTZ_TBL_ID = 0
INSTRUMENT_TEMPERATURE = 11.0301
LENS_TEMPERATURE = 8.5833
MACROPIXEL_SIZE = 1
MISSING_FRAMES = 0
PIXEL_SUBSAMPLING_FLAG = N
SIGNAL_CHAIN_ID = 0
/* RADIOMETRIC DATA ELEMENTS */
BANDWIDTH = 177.0
CENTER_FILTER_WAVELENGTH = 677.5
RADIANCE_OFFSET = 5.12524
RADIANCE_SCALING_FACTOR = 0.00891181
REFLECTANCE_SCALING_FACTOR = 0.000235842
MEX:REFLECTANCE_OFFSET = 0.135634
/* IMAGE OBJECT DEFINITIONS */
OBJECT = IMAGE
  INTERCHANGE_FORMAT = BINARY
  LINES = 45790
  LINE_SAMPLES = 6172
  SAMPLE_TYPE = UNSIGNED_INTEGER
  SAMPLE_BITS = 8
  BANDS = 1
  BAND_STORAGE_TYPE = BAND_SEQUENTIAL
  MAXIMUM = 254
  MEAN = 139.452
  MINIMUM = 1
  STANDARD_DEVIATION = 38.8349
END_OBJECT = IMAGE
/* MAP OBJECT DEFINITIONS */
OBJECT = IMAGE_MAP_PROJECTION
  ^DATA_SET_MAP_PROJECTION_CATALOG= "DSMAP.CAT"
  A_AXIS_RADIUS = 3396.0
  B_AXIS_RADIUS = 3396.0
  C_AXIS_RADIUS = 3396.0
  CENTER_LATITUDE = 0.0
  CENTER_LONGITUDE = 337.0
  COORDINATE_SYSTEM_NAME = PLANETOGRAPHIC
  COORDINATE_SYSTEM_TYPE = "BODY-FIXED ROTATING"
  EASTERNMOST_LONGITUDE = 337.645
  FIRST_STANDARD_PARALLEL = "N/A"
  LINE_FIRST_PIXEL = 1
  LINE_LAST_PIXEL = 45790
  LINE_PROJECTION_OFFSET = -104498.0
  MAP_PROJECTION_ROTATION = 0.0
  MAP_PROJECTION_TYPE = SINUSOIDAL
  MAP_RESOLUTION = 4741.71043093333
  MAP_SCALE = 0.0125
  MAXIMUM_LATITUDE = -22.0391
  MINIMUM_LATITUDE = -31.6941
  POSITIVE_LONGITUDE_DIRECTION = EAST
  REFERENCE_LATITUDE = "N/A"
  REFERENCE_LONGITUDE = "N/A"
  SAMPLE_FIRST_PIXEL = 1
  SAMPLE_LAST_PIXEL = 6172
  SAMPLE_PROJECTION_OFFSET = 3346.0
  SECOND_STANDARD_PARALLEL = "N/A"
  WESTERNMOST_LONGITUDE = 336.213
END_OBJECT = IMAGE_MAP_PROJECTION
/* The JPEG2000 image data file associated with this label. */
OBJECT = COMPRESSED_FILE
  FILE_NAME = "HG722_0000_ND3.JP2"
  RECORD_TYPE = UNDEFINED
  FILE_RECORDS = UNK
  ENCODING_TYPE = "JP2"
  INTERCHANGE_FORMAT = BINARY
  UNCOMPRESSED_FILE_NAME = "HG722_0000_ND3.IMG"
  REQUIRED_STORAGE_BYTES = "282646740"
  ^DESCRIPTION = "JP2INFO.TXT"
END_OBJECT = COMPRESSED_FILE
END
