PDS_VERSION_ID = PDS3
/* FILE DATA ELEMENTS */
RECORD_TYPE = STREAM
/* POINTERS TO DATA OBJECTS */
^COMPRESSED_FILE = "HG725_0000_ND3.JP2"
/* IDENTIFICATION DATA ELEMENTS */
DATA_SET_ID = "MEX-M-HRSC-5-REFDR-MAPPROJECTED-V3.0"
DATA_SET_NAME = "MARS EXPRESS HRSC MAP PROJECTED REFDR V3.0"
DETECTOR_ID = MEX_HRSC_NADIR
EVENT_TYPE = "MARS-REGIONAL-MAPPING-Im-Eo"
INSTRUMENT_HOST_ID = MEX
INSTRUMENT_HOST_NAME = "MARS EXPRESS"
INSTRUMENT_ID = HRSC
INSTRUMENT_NAME = "HIGH RESOLUTION STEREO CAMERA"
MISSION_NAME = "MARS EXPRESS"
MISSION_PHASE_NAME = ME_Phase_36
PROCESSING_LEVEL_ID = 3
PRODUCT_CREATION_TIME = 2018-06-28T11:48:36.000Z
PRODUCT_ID = "HG725_0000_ND3.JP2"
RELEASE_ID = 0138
REVISION_ID = 0000
/* QUALITY DATA ELEMENTS */
DATA_QUALITY_ID = 1
DATA_QUALITY_DESC = "Data calculated based on original SPICE kernels"
/* TIME DATA ELEMENTS */
SPACECRAFT_CLOCK_START_COUNT = "1/0437756457.04896"
SPACECRAFT_CLOCK_STOP_COUNT = "1/0437756733.37663"
START_TIME = 2017-03-16T15:02:03.828Z
STOP_TIME = 2017-03-16T15:02:59.983Z
/* ORBITAL DATA ELEMENTS */
ASCENDING_NODE_LONGITUDE = 259.78
MAXIMUM_RESOLUTION = 19.5
FOOTPRINT_POINT_LATITUDE = (-53.383,-53.3809,-53.3787,-53.3763, -53.3738,-53.3692,-53.3664,-53.3634, -53.358,-53.3548,-53.3514,-53.3452, -53.3415,-53.3377,-53.3337,-53.3296, -53.3222,-53.3178,-53.311,-53.3051, -53.3002,-53.2953,-53.1885,-53.1195, -53.0506,-52.9816,-52.9126,-52.8449, -52.7772,-52.7094,-52.6415,-52.5737, -52.4716,-52.3696,-52.3016,-52.2336, -52.1659,-52.0326,-51.9326,-51.7992, -51.6988,-51.565,-51.4312,-51.3, -51.1686,-51.037,-50.9054,-50.7737, -50.6422,-50.5131,-50.3838,-50.2544, -50.1249,-49.9593,-49.9641,-49.9705, -49.9749,-49.9824,-49.9887,-49.9939, -49.9995,-50.0054,-50.0101,-50.0161, -50.0214,-50.0252,-50.1238,-50.2541, -50.3517,-50.4494,-50.5794,-50.7094, -50.8415,-50.9741,-51.1065,-51.2388, -51.3711,-51.5032,-51.604,-51.6714, -51.806,-51.9406,-52.1086,-52.2428, -52.3451,-52.4136,-52.482,-52.5504, -52.6187,-52.7213,-52.7895,-52.8578, -52.926,-52.9942,-53.0636,-53.1331, -53.2026,-53.2721,-53.3415,-53.383)
FOOTPRINT_POINT_LONGITUDE = (30.6137,30.4939,30.3741,30.2544, 30.1347,29.9255,29.8059,29.6862,29.4768 ,29.3573,29.2378,29.0288,28.9094, 28.7902,28.6709,28.5515,28.3426,28.2233 ,28.044,27.8946,27.7752,27.6558,27.6284 ,27.6392,27.6501,27.6614,27.6719, 27.6826,27.6928,27.703,27.7127,27.7228, 27.7341,27.748,27.7578,27.7677,27.7775, 27.7973,27.8129,27.8341,27.8474,27.8657 ,27.8838,27.9017,27.9192,27.9367, 27.9541,27.9713,27.9883,28.005,28.0215, 28.0379,28.0541,28.1527,28.2832,28.4661 ,28.5967,28.8314,29.0401,29.2224, 29.4311,29.666,29.875,30.1622,30.4491, 30.6843,30.7233,30.724,30.7236,30.722, 30.7215,30.7208,30.7196,30.7193,30.7189 ,30.7188,30.7183,30.7175,30.7167, 30.7161,30.7154,30.7149,30.7146,30.7157 ,30.7151,30.7146,30.7142,30.7138,30.713 ,30.7111,30.7113,30.7115,30.7106, 30.7096,30.7091,30.7092,30.7089,30.7084 ,30.7078,30.6137)
ORBIT_NUMBER = 16725
ORBITAL_ECCENTRICITY = 0.579
ORBITAL_INCLINATION = 86.93
ORBITAL_SEMIMAJOR_AXIS = 8846.51
PERIAPSIS_ALTITUDE = 333.17
PERIAPSIS_ARGUMENT_ANGLE = 336.17
PERIAPSIS_TIME = 2017-03-16T15:09:53.000Z
SPACECRAFT_ORIENTATION = (0.0,1.0,0.0)
^MEX_ORIENTATION_DESC = "MEX_ORIENTATION_DESC.TXT"
SPACECRAFT_POINTING_MODE = NADIR
^MEX_POINTING_DESC = "MEX_POINTING_DESC.TXT"
RIGHT_ASCENSION = -1e+32
DECLINATION = -1e+32
OFFSET_ANGLE = -1e+32
SPACECRAFT_SOLAR_DISTANCE = 2.23366e+08
TARGET_NAME = MARS
/* CAMERA DATA ELEMENTS */
DETECTOR_TEMPERATURE = 0.0
FOCAL_PLANE_TEMPERATURE = 0.0
INST_CMPRS_NAME = "DISCRETE COSINE TRANSFORMATION (DCT)"
INST_CMPRS_RATIO = 6.91798
INST_CMPRS_QUALITY = 0
INST_CMPRS_QUANTZ_TBL_ID = 0
INSTRUMENT_TEMPERATURE = 0.0
LENS_TEMPERATURE = 0.0
MACROPIXEL_SIZE = 1
MISSING_FRAMES = 0
PIXEL_SUBSAMPLING_FLAG = N
SIGNAL_CHAIN_ID = 0
/* RADIOMETRIC DATA ELEMENTS */
BANDWIDTH = 177.0
CENTER_FILTER_WAVELENGTH = 677.5
RADIANCE_OFFSET = 3.16954
RADIANCE_SCALING_FACTOR = 0.00936473
REFLECTANCE_SCALING_FACTOR = 0.000248203
MEX:REFLECTANCE_OFFSET = 0.0840055
/* IMAGE OBJECT DEFINITIONS */
OBJECT = IMAGE
  INTERCHANGE_FORMAT = BINARY
  LINES = 8124
  LINE_SAMPLES = 4615
  SAMPLE_TYPE = UNSIGNED_INTEGER
  SAMPLE_BITS = 8
  BANDS = 1
  BAND_STORAGE_TYPE = BAND_SEQUENTIAL
  MAXIMUM = 254
  MEAN = 145.34
  MINIMUM = 1
  STANDARD_DEVIATION = 26.134
END_OBJECT = IMAGE
/* MAP OBJECT DEFINITIONS */
OBJECT = IMAGE_MAP_PROJECTION
  ^DATA_SET_MAP_PROJECTION_CATALOG= "DSMAP.CAT"
  A_AXIS_RADIUS = 3396.0
  B_AXIS_RADIUS = 3396.0
  C_AXIS_RADIUS = 3396.0
  CENTER_LATITUDE = 0.0
  CENTER_LONGITUDE = 29.0
  COORDINATE_SYSTEM_NAME = PLANETOGRAPHIC
  COORDINATE_SYSTEM_TYPE = "BODY-FIXED ROTATING"
  EASTERNMOST_LONGITUDE = 30.724
  FIRST_STANDARD_PARALLEL = "N/A"
  LINE_FIRST_PIXEL = 1
  LINE_LAST_PIXEL = 8124
  LINE_PROJECTION_OFFSET = -118443.0
  MAP_PROJECTION_ROTATION = 0.0
  MAP_PROJECTION_TYPE = SINUSOIDAL
  MAP_RESOLUTION = 2370.85521546667
  MAP_SCALE = 0.025
  MAXIMUM_LATITUDE = -49.9593
  MINIMUM_LATITUDE = -53.383
  POSITIVE_LONGITUDE_DIRECTION = EAST
  REFERENCE_LATITUDE = "N/A"
  REFERENCE_LONGITUDE = "N/A"
  SAMPLE_FIRST_PIXEL = 1
  SAMPLE_LAST_PIXEL = 4615
  SAMPLE_PROJECTION_OFFSET = 1965.0
  SECOND_STANDARD_PARALLEL = "N/A"
  WESTERNMOST_LONGITUDE = 27.6284
END_OBJECT = IMAGE_MAP_PROJECTION
/* The JPEG2000 image data file associated with this label. */
OBJECT = COMPRESSED_FILE
  FILE_NAME = "HG725_0000_ND3.JP2"
  RECORD_TYPE = UNDEFINED
  FILE_RECORDS = UNK
  ENCODING_TYPE = "JP2"
  INTERCHANGE_FORMAT = BINARY
  UNCOMPRESSED_FILE_NAME = "HG725_0000_ND3.IMG"
  REQUIRED_STORAGE_BYTES = "37519950"
  ^DESCRIPTION = "JP2INFO.TXT"
END_OBJECT = COMPRESSED_FILE
END
