PDS_VERSION_ID = PDS3
/* FILE DATA ELEMENTS */
RECORD_TYPE = STREAM
/* POINTERS TO DATA OBJECTS */
^COMPRESSED_FILE = "HG728_0000_P13.JP2"
/* IDENTIFICATION DATA ELEMENTS */
DATA_SET_ID = "MEX-M-HRSC-5-REFDR-MAPPROJECTED-V3.0"
DATA_SET_NAME = "MARS EXPRESS HRSC MAP PROJECTED REFDR V3.0"
DETECTOR_ID = MEX_HRSC_P1
EVENT_TYPE = "MARS-REGIONAL-MAPPING-Im-Gl-La"
INSTRUMENT_HOST_ID = MEX
INSTRUMENT_HOST_NAME = "MARS EXPRESS"
INSTRUMENT_ID = HRSC
INSTRUMENT_NAME = "HIGH RESOLUTION STEREO CAMERA"
MISSION_NAME = "MARS EXPRESS"
MISSION_PHASE_NAME = ME_Phase_36
PROCESSING_LEVEL_ID = 3
PRODUCT_CREATION_TIME = 2018-06-28T11:48:36.000Z
PRODUCT_ID = "HG728_0000_P13.JP2"
RELEASE_ID = 0138
REVISION_ID = 0000
/* QUALITY DATA ELEMENTS */
DATA_QUALITY_ID = 1
DATA_QUALITY_DESC = "Data calculated based on original SPICE kernels"
/* TIME DATA ELEMENTS */
SPACECRAFT_CLOCK_START_COUNT = "1/0437832433.07328"
SPACECRAFT_CLOCK_STOP_COUNT = "1/0437832717.63342"
START_TIME = 2017-03-17T12:08:12.447Z
STOP_TIME = 2017-03-17T12:11:52.670Z
/* ORBITAL DATA ELEMENTS */
ASCENDING_NODE_LONGITUDE = 259.72
MAXIMUM_RESOLUTION = 27.3
FOOTPRINT_POINT_LATITUDE = (-28.8342,-28.8275,-28.8206,-28.8136, -28.8066,-28.7994,-28.6683,-28.3761, -27.9394,-27.6567,-27.3733,-27.0895, -26.7989,-26.5143,-26.231,-25.8069, -25.5241,-25.2405,-24.9583,-24.6765, -24.3928,-24.1111,-23.8286,-23.4058, -23.1236,-22.8417,-22.5635,-22.2799, -21.9991,-21.7227,-21.4316,-20.9968, -20.7073,-20.4186,-20.1281,-19.8397, -19.5517,-19.2635,-18.9746,-18.6862, -18.3974,-17.9674,-17.6802,-17.2501, -16.821,-16.3927,-15.8235,-15.5383, -15.1135,-14.8272,-14.5438,-14.5203, -14.526,-14.5327,-14.5467,-14.8291, -15.1128,-15.4013,-15.6836,-16.1075, -16.5366,-16.8227,-17.1091,-17.5402, -17.9707,-18.2581,-18.5462,-18.8341, -19.2661,-19.5563,-19.9868,-20.4215, -20.7156,-21.0048,-21.2947,-21.7284, -22.0088,-22.2865,-22.568,-22.9952, -23.2781,-23.5562,-23.8384,-24.1212, -24.545,-24.8267,-25.1131,-25.3932, -25.677,-25.9585,-26.2419,-26.5268, -26.9531,-27.2377,-27.6643,-27.9477, -28.2379,-28.5264,-28.8225,-28.8342)
FOOTPRINT_POINT_LONGITUDE = (84.7476,84.5305,84.3161,84.1046, 83.8959,83.6895,83.5406,83.5424,83.5452 ,83.5465,83.5475,83.5481,83.5462, 83.5461,83.5464,83.5467,83.5468,83.5463 ,83.5461,83.546,83.5449,83.5444,83.5435 ,83.542,83.5407,83.5394,83.5391,83.5368 ,83.5353,83.5351,83.532,83.5289,83.5267 ,83.5246,83.5217,83.5193,83.5169, 83.5142,83.5111,83.5079,83.5045,83.4999 ,83.4965,83.4912,83.4859,83.4803, 83.4727,83.4685,83.4627,83.4577,83.4533 ,83.8601,84.0366,84.3163,84.7655, 84.7658,84.7673,84.7746,84.7737,84.7722 ,84.7766,84.7792,84.7818,84.7871, 84.7909,84.7936,84.797,84.7998,84.8036, 84.8087,84.8095,84.8154,84.8247,84.8272 ,84.8305,84.8351,84.8375,84.8359, 84.8393,84.851,84.856,84.854,84.8577, 84.8619,84.8674,84.8698,84.8785,84.8783 ,84.8832,84.8847,84.8888,84.8949, 84.9024,84.9078,84.9153,84.9188,84.921, 84.9181,84.9262,84.7476)
ORBIT_NUMBER = 16728
ORBITAL_ECCENTRICITY = 0.579
ORBITAL_INCLINATION = 86.95
ORBITAL_SEMIMAJOR_AXIS = 8846.8
PERIAPSIS_ALTITUDE = 332.04
PERIAPSIS_ARGUMENT_ANGLE = 335.63
PERIAPSIS_TIME = 2017-03-17T12:09:02.000Z
SPACECRAFT_ORIENTATION = (0.0,1.0,0.0)
^MEX_ORIENTATION_DESC = "MEX_ORIENTATION_DESC.TXT"
SPACECRAFT_POINTING_MODE = ACROSSTRACK
^MEX_POINTING_DESC = "MEX_POINTING_DESC.TXT"
RIGHT_ASCENSION = -1e+32
DECLINATION = -1e+32
OFFSET_ANGLE = -0.95
SPACECRAFT_SOLAR_DISTANCE = 2.23536e+08
TARGET_NAME = MARS
/* CAMERA DATA ELEMENTS */
DETECTOR_TEMPERATURE = 17.351
FOCAL_PLANE_TEMPERATURE = 8.5833
INST_CMPRS_NAME = "DISCRETE COSINE TRANSFORMATION (DCT)"
INST_CMPRS_RATIO = 11.4647
INST_CMPRS_QUALITY = 0
INST_CMPRS_QUANTZ_TBL_ID = 0
INSTRUMENT_TEMPERATURE = 11.8457
LENS_TEMPERATURE = 8.7872
MACROPIXEL_SIZE = 2
MISSING_FRAMES = 0
PIXEL_SUBSAMPLING_FLAG = N
SIGNAL_CHAIN_ID = 3
/* RADIOMETRIC DATA ELEMENTS */
BANDWIDTH = 174.0
CENTER_FILTER_WAVELENGTH = 675.0
RADIANCE_OFFSET = 3.10148
RADIANCE_SCALING_FACTOR = 0.0108824
REFLECTANCE_SCALING_FACTOR = 0.000292485
MEX:REFLECTANCE_OFFSET = 0.0833583
/* IMAGE OBJECT DEFINITIONS */
OBJECT = IMAGE
  INTERCHANGE_FORMAT = BINARY
  LINES = 33935
  LINE_SAMPLES = 3340
  SAMPLE_TYPE = UNSIGNED_INTEGER
  SAMPLE_BITS = 8
  BANDS = 1
  BAND_STORAGE_TYPE = BAND_SEQUENTIAL
  MAXIMUM = 255
  MEAN = 119.495
  MINIMUM = 1
  STANDARD_DEVIATION = 27.9882
END_OBJECT = IMAGE
/* MAP OBJECT DEFINITIONS */
OBJECT = IMAGE_MAP_PROJECTION
  ^DATA_SET_MAP_PROJECTION_CATALOG= "DSMAP.CAT"
  A_AXIS_RADIUS = 3396.0
  B_AXIS_RADIUS = 3396.0
  C_AXIS_RADIUS = 3396.0
  CENTER_LATITUDE = 0.0
  CENTER_LONGITUDE = 84.0
  COORDINATE_SYSTEM_NAME = PLANETOGRAPHIC
  COORDINATE_SYSTEM_TYPE = "BODY-FIXED ROTATING"
  EASTERNMOST_LONGITUDE = 84.92619999999999
  FIRST_STANDARD_PARALLEL = "N/A"
  LINE_FIRST_PIXEL = 1
  LINE_LAST_PIXEL = 33935
  LINE_PROJECTION_OFFSET = -34459.75
  MAP_PROJECTION_ROTATION = 0.0
  MAP_PROJECTION_TYPE = SINUSOIDAL
  MAP_RESOLUTION = 2370.85521546667
  MAP_SCALE = 0.025
  MAXIMUM_LATITUDE = -14.5203
  MINIMUM_LATITUDE = -28.8342
  POSITIVE_LONGITUDE_DIRECTION = EAST
  REFERENCE_LATITUDE = "N/A"
  REFERENCE_LONGITUDE = "N/A"
  SAMPLE_FIRST_PIXEL = 1
  SAMPLE_LAST_PIXEL = 3340
  SAMPLE_PROJECTION_OFFSET = 1232.75
  SECOND_STANDARD_PARALLEL = "N/A"
  WESTERNMOST_LONGITUDE = 83.4533
END_OBJECT = IMAGE_MAP_PROJECTION
/* The JPEG2000 image data file associated with this label. */
OBJECT = COMPRESSED_FILE
  FILE_NAME = "HG728_0000_P13.JP2"
  RECORD_TYPE = UNDEFINED
  FILE_RECORDS = UNK
  ENCODING_TYPE = "JP2"
  INTERCHANGE_FORMAT = BINARY
  UNCOMPRESSED_FILE_NAME = "HG728_0000_P13.IMG"
  REQUIRED_STORAGE_BYTES = "113366280"
  ^DESCRIPTION = "JP2INFO.TXT"
END_OBJECT = COMPRESSED_FILE
END
