PDS_VERSION_ID = PDS3
/* FILE DATA ELEMENTS */
RECORD_TYPE = STREAM
/* POINTERS TO DATA OBJECTS */
^COMPRESSED_FILE = "HG730_0000_ND3.JP2"
/* IDENTIFICATION DATA ELEMENTS */
DATA_SET_ID = "MEX-M-HRSC-5-REFDR-MAPPROJECTED-V3.0"
DATA_SET_NAME = "MARS EXPRESS HRSC MAP PROJECTED REFDR V3.0"
DETECTOR_ID = MEX_HRSC_NADIR
EVENT_TYPE = "MARS-REGIONAL-STEREO-Vo-Te"
INSTRUMENT_HOST_ID = MEX
INSTRUMENT_HOST_NAME = "MARS EXPRESS"
INSTRUMENT_ID = HRSC
INSTRUMENT_NAME = "HIGH RESOLUTION STEREO CAMERA"
MISSION_NAME = "MARS EXPRESS"
MISSION_PHASE_NAME = ME_Phase_36
PROCESSING_LEVEL_ID = 3
PRODUCT_CREATION_TIME = 2018-06-28T11:48:36.000Z
PRODUCT_ID = "HG730_0000_ND3.JP2"
RELEASE_ID = 0138
REVISION_ID = 0000
/* QUALITY DATA ELEMENTS */
DATA_QUALITY_ID = 1
DATA_QUALITY_DESC = "Data calculated based on original SPICE kernels"
/* TIME DATA ELEMENTS */
SPACECRAFT_CLOCK_START_COUNT = "1/0437883061.07301"
SPACECRAFT_CLOCK_STOP_COUNT = "1/0437883249.64535"
START_TIME = 2017-03-18T02:11:41.183Z
STOP_TIME = 2017-03-18T02:13:35.186Z
/* ORBITAL DATA ELEMENTS */
ASCENDING_NODE_LONGITUDE = 259.69
MAXIMUM_RESOLUTION = 14
FOOTPRINT_POINT_LATITUDE = (-11.9105,-11.9129,-11.9145,-11.9156, -11.9166,-11.7291,-11.4758,-11.2228, -10.97,-10.7175,-10.4981,-10.3475, -10.1971,-10.0467,-9.82113,-9.67086, -9.52066,-9.37051,-9.22045,-9.07044, -8.92051,-8.77065,-8.62088,-8.47115, -8.32152,-8.17193,-8.02242,-7.873, -7.72363,-7.57435,-7.42515,-7.27606, -7.12705,-6.97813,-6.82932,-6.68058, -6.53193,-6.30902,-6.16061,-6.01232, -5.86402,-5.7159,-5.56783,-5.4199, -5.19811,-5.05037,-4.90275,-4.75181, -4.67243,-4.67084,-4.66799,-4.66549, -4.66162,-4.73491,-4.88603,-5.03378, -5.18163,-5.3296,-5.47762,-5.62575, -5.77399,-5.92232,-6.07072,-6.21925, -6.36791,-6.51671,-6.66548,-6.81442, -6.96348,-7.11257,-7.26171,-7.411, -7.56034,-7.70978,-7.85925,-8.00878, -8.1584,-8.30799,-8.45767,-8.60743, -8.75731,-8.90727,-9.05731,-9.20743, -9.35762,-9.50788,-9.65823,-9.80865, -9.95914,-10.1097,-10.2604,-10.4112, -10.5618,-10.7062,-10.9589,-11.2118, -11.4649,-11.7182,-11.845,-11.9105)
FOOTPRINT_POINT_LONGITUDE = (239.09,238.807,238.603,238.45,238.298, 238.1,238.096,238.092,238.09,238.087, 238.084,238.082,238.08,238.079,238.075, 238.073,238.07,238.067,238.065,238.062, 238.059,238.056,238.053,238.05,238.046, 238.043,238.039,238.036,238.032,238.028 ,238.024,238.02,238.016,238.013,238.009 ,238.005,238.002,237.995,237.991, 237.988,237.983,237.98,237.976,237.972, 237.966,237.962,237.958,237.954,238.161 ,238.315,238.579,238.803,239.139, 239.369,239.368,239.368,239.367,239.365 ,239.365,239.364,239.363,239.362, 239.361,239.36,239.358,239.355,239.354, 239.352,239.35,239.348,239.346,239.344, 239.342,239.34,239.339,239.338,239.338, 239.338,239.339,239.339,239.339,239.339 ,239.339,239.339,239.339,239.339, 239.339,239.339,239.339,239.339,239.339 ,239.337,239.339,239.34,239.343,239.347 ,239.351,239.353,239.353,239.09)
ORBIT_NUMBER = 16730
ORBITAL_ECCENTRICITY = 0.579
ORBITAL_INCLINATION = 86.94
ORBITAL_SEMIMAJOR_AXIS = 8849.11
PERIAPSIS_ALTITUDE = 332.14
PERIAPSIS_ARGUMENT_ANGLE = 335.27
PERIAPSIS_TIME = 2017-03-18T02:08:26.000Z
SPACECRAFT_ORIENTATION = (0.0,1.0,0.0)
^MEX_ORIENTATION_DESC = "MEX_ORIENTATION_DESC.TXT"
SPACECRAFT_POINTING_MODE = ACROSSTRACK
^MEX_POINTING_DESC = "MEX_POINTING_DESC.TXT"
RIGHT_ASCENSION = -1e+32
DECLINATION = -1e+32
OFFSET_ANGLE = -0.23
SPACECRAFT_SOLAR_DISTANCE = 2.23649e+08
TARGET_NAME = MARS
/* CAMERA DATA ELEMENTS */
DETECTOR_TEMPERATURE = 17.1471
FOCAL_PLANE_TEMPERATURE = 8.3794
INST_CMPRS_NAME = "DISCRETE COSINE TRANSFORMATION (DCT)"
INST_CMPRS_RATIO = 5.9454
INST_CMPRS_QUALITY = 0
INST_CMPRS_QUANTZ_TBL_ID = 0
INSTRUMENT_TEMPERATURE = 12.0496
LENS_TEMPERATURE = 9.195
MACROPIXEL_SIZE = 1
MISSING_FRAMES = 0
PIXEL_SUBSAMPLING_FLAG = N
SIGNAL_CHAIN_ID = 0
/* RADIOMETRIC DATA ELEMENTS */
BANDWIDTH = 177.0
CENTER_FILTER_WAVELENGTH = 677.5
RADIANCE_OFFSET = 1.58402
RADIANCE_SCALING_FACTOR = 0.03405
REFLECTANCE_SCALING_FACTOR = 0.000904773
MEX:REFLECTANCE_OFFSET = 0.0420903
/* IMAGE OBJECT DEFINITIONS */
OBJECT = IMAGE
  INTERCHANGE_FORMAT = BINARY
  LINES = 34427
  LINE_SAMPLES = 7214
  SAMPLE_TYPE = UNSIGNED_INTEGER
  SAMPLE_BITS = 8
  BANDS = 1
  BAND_STORAGE_TYPE = BAND_SEQUENTIAL
  MAXIMUM = 255
  MEAN = 145.34
  MINIMUM = 1
  STANDARD_DEVIATION = 24.5936
END_OBJECT = IMAGE
/* MAP OBJECT DEFINITIONS */
OBJECT = IMAGE_MAP_PROJECTION
  ^DATA_SET_MAP_PROJECTION_CATALOG= "DSMAP.CAT"
  A_AXIS_RADIUS = 3396.0
  B_AXIS_RADIUS = 3396.0
  C_AXIS_RADIUS = 3396.0
  CENTER_LATITUDE = 0.0
  CENTER_LONGITUDE = 239.0
  COORDINATE_SYSTEM_NAME = PLANETOGRAPHIC
  COORDINATE_SYSTEM_TYPE = "BODY-FIXED ROTATING"
  EASTERNMOST_LONGITUDE = 239.369
  FIRST_STANDARD_PARALLEL = "N/A"
  LINE_FIRST_PIXEL = 1
  LINE_LAST_PIXEL = 34427
  LINE_PROJECTION_OFFSET = -22085.0
  MAP_PROJECTION_ROTATION = 0.0
  MAP_PROJECTION_TYPE = SINUSOIDAL
  MAP_RESOLUTION = 4741.71043093333
  MAP_SCALE = 0.0125
  MAXIMUM_LATITUDE = -4.66162
  MINIMUM_LATITUDE = -11.9166
  POSITIVE_LONGITUDE_DIRECTION = EAST
  REFERENCE_LATITUDE = "N/A"
  REFERENCE_LONGITUDE = "N/A"
  SAMPLE_FIRST_PIXEL = 1
  SAMPLE_LAST_PIXEL = 7214
  SAMPLE_PROJECTION_OFFSET = 5094.0
  SECOND_STANDARD_PARALLEL = "N/A"
  WESTERNMOST_LONGITUDE = 237.954
END_OBJECT = IMAGE_MAP_PROJECTION
/* The JPEG2000 image data file associated with this label. */
OBJECT = COMPRESSED_FILE
  FILE_NAME = "HG730_0000_ND3.JP2"
  RECORD_TYPE = UNDEFINED
  FILE_RECORDS = UNK
  ENCODING_TYPE = "JP2"
  INTERCHANGE_FORMAT = BINARY
  UNCOMPRESSED_FILE_NAME = "HG730_0000_ND3.IMG"
  REQUIRED_STORAGE_BYTES = "248385234"
  ^DESCRIPTION = "JP2INFO.TXT"
END_OBJECT = COMPRESSED_FILE
END
