PDS_VERSION_ID = PDS3
/* FILE DATA ELEMENTS */
RECORD_TYPE = STREAM
/* POINTERS TO DATA OBJECTS */
^COMPRESSED_FILE = "HG733_0000_BL3.JP2"
/* IDENTIFICATION DATA ELEMENTS */
DATA_SET_ID = "MEX-M-HRSC-5-REFDR-MAPPROJECTED-V3.0"
DATA_SET_NAME = "MARS EXPRESS HRSC MAP PROJECTED REFDR V3.0"
DETECTOR_ID = MEX_HRSC_BLUE
EVENT_TYPE = "MARS-REGIONAL-STEREO-Vo-Te-La"
INSTRUMENT_HOST_ID = MEX
INSTRUMENT_HOST_NAME = "MARS EXPRESS"
INSTRUMENT_ID = HRSC
INSTRUMENT_NAME = "HIGH RESOLUTION STEREO CAMERA"
MISSION_NAME = "MARS EXPRESS"
MISSION_PHASE_NAME = ME_Phase_36
PROCESSING_LEVEL_ID = 3
PRODUCT_CREATION_TIME = 2018-06-28T11:48:36.000Z
PRODUCT_ID = "HG733_0000_BL3.JP2"
RELEASE_ID = 0138
REVISION_ID = 0000
/* QUALITY DATA ELEMENTS */
DATA_QUALITY_ID = 1
DATA_QUALITY_DESC = "Data calculated based on original SPICE kernels"
/* TIME DATA ELEMENTS */
SPACECRAFT_CLOCK_START_COUNT = "1/0437958578.09028"
SPACECRAFT_CLOCK_STOP_COUNT = "1/0437958756.30850"
START_TIME = 2017-03-18T23:10:11.800Z
STOP_TIME = 2017-03-18T23:11:58.978Z
/* ORBITAL DATA ELEMENTS */
ASCENDING_NODE_LONGITUDE = 259.63
MAXIMUM_RESOLUTION = 110.6
FOOTPRINT_POINT_LATITUDE = (-15.3232,-15.3229,-15.3224,-15.3217, -15.3208,-15.3198,-15.2542,-15.1234, -14.9928,-14.8622,-14.6662,-14.5357, -14.4051,-14.2746,-14.144,-14.0135, -13.883,-13.6874,-13.5554,-13.4215, -13.2891,-13.158,-13.0275,-12.7687, -12.6379,-12.4419,-12.3115,-12.1812, -12.051,-11.9211,-11.7912,-11.6615, -11.5318,-11.4022,-11.2725,-11.0137, -10.8705,-10.7162,-10.5619,-10.3309, -10.1781,-10.0262,-9.87384,-9.72081, -9.49305,-9.33914,-9.18519,-9.03138, -8.87769,-8.72426,-8.57099,-8.41799, -8.40622,-8.40611,-8.40588,-8.40522, -8.40464,-8.40599,-8.5596,-8.71339, -8.94358,-9.17468,-9.32884,-9.48279, -9.63695,-9.86806,-10.099,-10.2493, -10.4817,-10.709,-10.8622,-11.0067, -11.1362,-11.3308,-11.4605,-11.5904, -11.8495,-11.9806,-12.1108,-12.2461, -12.5032,-12.6332,-12.8924,-13.0227, -13.1545,-13.2855,-13.4166,-13.5479, -13.6827,-13.8134,-13.9438,-14.0743, -14.2703,-14.401,-14.5317,-14.6624, -14.8582,-14.9893,-15.12,-15.3232)
FOOTPRINT_POINT_LONGITUDE = (291.577,291.392,291.205,291.017, 290.828,290.638,290.413,290.412,290.411 ,290.41,290.408,290.407,290.406,290.405 ,290.404,290.402,290.401,290.399, 290.393,290.381,290.374,290.37,290.368, 290.369,290.366,290.361,290.358,290.356 ,290.354,290.352,290.35,290.349,290.347 ,290.346,290.344,290.342,290.339, 290.338,290.336,290.334,290.336,290.34, 290.343,290.344,290.349,290.347,290.344 ,290.341,290.339,290.337,290.335, 290.334,290.587,290.789,290.978,291.277 ,291.476,291.669,291.669,291.668, 291.668,291.668,291.667,291.667,291.667 ,291.666,291.666,291.667,291.666, 291.668,291.668,291.668,291.667,291.667 ,291.667,291.667,291.666,291.666, 291.665,291.663,291.664,291.664,291.664 ,291.663,291.663,291.662,291.662, 291.661,291.66,291.66,291.66,291.659, 291.659,291.659,291.659,291.658,291.658 ,291.658,291.658,291.577)
ORBIT_NUMBER = 16733
ORBITAL_ECCENTRICITY = 0.579
ORBITAL_INCLINATION = 86.93
ORBITAL_SEMIMAJOR_AXIS = 8844.47
PERIAPSIS_ALTITUDE = 332.55
PERIAPSIS_ARGUMENT_ANGLE = 334.81
PERIAPSIS_TIME = 2017-03-18T23:07:47.000Z
SPACECRAFT_ORIENTATION = (0.0,1.0,0.0)
^MEX_ORIENTATION_DESC = "MEX_ORIENTATION_DESC.TXT"
SPACECRAFT_POINTING_MODE = ACROSSTRACK
^MEX_POINTING_DESC = "MEX_POINTING_DESC.TXT"
RIGHT_ASCENSION = -1e+32
DECLINATION = -1e+32
OFFSET_ANGLE = 0.5
SPACECRAFT_SOLAR_DISTANCE = 2.23819e+08
TARGET_NAME = MARS
/* CAMERA DATA ELEMENTS */
DETECTOR_TEMPERATURE = 18.3705
FOCAL_PLANE_TEMPERATURE = 8.7872
INST_CMPRS_NAME = "DISCRETE COSINE TRANSFORMATION (DCT)"
INST_CMPRS_RATIO = 18.1937
INST_CMPRS_QUALITY = 0
INST_CMPRS_QUANTZ_TBL_ID = 0
INSTRUMENT_TEMPERATURE = 11.4379
LENS_TEMPERATURE = 9.8067
MACROPIXEL_SIZE = 8
MISSING_FRAMES = 0
PIXEL_SUBSAMPLING_FLAG = N
SIGNAL_CHAIN_ID = 2
/* RADIOMETRIC DATA ELEMENTS */
BANDWIDTH = 76.0
CENTER_FILTER_WAVELENGTH = 444.0
RADIANCE_OFFSET = 0.455255
RADIANCE_SCALING_FACTOR = 0.00219249
REFLECTANCE_SCALING_FACTOR = 0.000112847
MEX:REFLECTANCE_OFFSET = 0.0234319
/* IMAGE OBJECT DEFINITIONS */
OBJECT = IMAGE
  INTERCHANGE_FORMAT = BINARY
  LINES = 4111
  LINE_SAMPLES = 859
  SAMPLE_TYPE = UNSIGNED_INTEGER
  SAMPLE_BITS = 8
  BANDS = 1
  BAND_STORAGE_TYPE = BAND_SEQUENTIAL
  MAXIMUM = 254
  MEAN = 136.438
  MINIMUM = 1
  STANDARD_DEVIATION = 27.6843
END_OBJECT = IMAGE
/* MAP OBJECT DEFINITIONS */
OBJECT = IMAGE_MAP_PROJECTION
  ^DATA_SET_MAP_PROJECTION_CATALOG= "DSMAP.CAT"
  A_AXIS_RADIUS = 3396.0
  B_AXIS_RADIUS = 3396.0
  C_AXIS_RADIUS = 3396.0
  CENTER_LATITUDE = 0.0
  CENTER_LONGITUDE = 291.0
  COORDINATE_SYSTEM_NAME = PLANETOGRAPHIC
  COORDINATE_SYSTEM_TYPE = "BODY-FIXED ROTATING"
  EASTERNMOST_LONGITUDE = 291.669
  FIRST_STANDARD_PARALLEL = "N/A"
  LINE_FIRST_PIXEL = 1
  LINE_LAST_PIXEL = 4111
  LINE_PROJECTION_OFFSET = -4972.1875
  MAP_PROJECTION_ROTATION = 0.0
  MAP_PROJECTION_TYPE = SINUSOIDAL
  MAP_RESOLUTION = 592.713803866667
  MAP_SCALE = 0.1
  MAXIMUM_LATITUDE = -8.404640000000001
  MINIMUM_LATITUDE = -15.3232
  POSITIVE_LONGITUDE_DIRECTION = EAST
  REFERENCE_LATITUDE = "N/A"
  REFERENCE_LONGITUDE = "N/A"
  SAMPLE_FIRST_PIXEL = 1
  SAMPLE_LAST_PIXEL = 859
  SAMPLE_PROJECTION_OFFSET = 454.9375
  SECOND_STANDARD_PARALLEL = "N/A"
  WESTERNMOST_LONGITUDE = 290.334
END_OBJECT = IMAGE_MAP_PROJECTION
/* The JPEG2000 image data file associated with this label. */
OBJECT = COMPRESSED_FILE
  FILE_NAME = "HG733_0000_BL3.JP2"
  RECORD_TYPE = UNDEFINED
  FILE_RECORDS = UNK
  ENCODING_TYPE = "JP2"
  INTERCHANGE_FORMAT = BINARY
  UNCOMPRESSED_FILE_NAME = "HG733_0000_BL3.IMG"
  REQUIRED_STORAGE_BYTES = "3550247"
  ^DESCRIPTION = "JP2INFO.TXT"
END_OBJECT = COMPRESSED_FILE
END
