PDS_VERSION_ID = PDS3
/* FILE DATA ELEMENTS */
RECORD_TYPE = STREAM
/* POINTERS TO DATA OBJECTS */
^COMPRESSED_FILE = "HG733_0000_ND3.JP2"
/* IDENTIFICATION DATA ELEMENTS */
DATA_SET_ID = "MEX-M-HRSC-5-REFDR-MAPPROJECTED-V3.0"
DATA_SET_NAME = "MARS EXPRESS HRSC MAP PROJECTED REFDR V3.0"
DETECTOR_ID = MEX_HRSC_NADIR
EVENT_TYPE = "MARS-REGIONAL-STEREO-Vo-Te-La"
INSTRUMENT_HOST_ID = MEX
INSTRUMENT_HOST_NAME = "MARS EXPRESS"
INSTRUMENT_ID = HRSC
INSTRUMENT_NAME = "HIGH RESOLUTION STEREO CAMERA"
MISSION_NAME = "MARS EXPRESS"
MISSION_PHASE_NAME = ME_Phase_36
PROCESSING_LEVEL_ID = 3
PRODUCT_CREATION_TIME = 2018-06-28T11:48:36.000Z
PRODUCT_ID = "HG733_0000_ND3.JP2"
RELEASE_ID = 0138
REVISION_ID = 0000
/* QUALITY DATA ELEMENTS */
DATA_QUALITY_ID = 1
DATA_QUALITY_DESC = "Data calculated based on original SPICE kernels"
/* TIME DATA ELEMENTS */
SPACECRAFT_CLOCK_START_COUNT = "1/0437958578.09028"
SPACECRAFT_CLOCK_STOP_COUNT = "1/0437958756.30850"
START_TIME = 2017-03-18T23:10:17.102Z
STOP_TIME = 2017-03-18T23:12:05.081Z
/* ORBITAL DATA ELEMENTS */
ASCENDING_NODE_LONGITUDE = 259.63
MAXIMUM_RESOLUTION = 13.9
FOOTPRINT_POINT_LATITUDE = (-15.3203,-15.3212,-15.3218,-15.3223, -15.3226,-15.3227,-15.2576,-15.1275, -14.9975,-14.8675,-14.6725,-14.4777, -14.3478,-14.218,-14.0882,-13.9584, -13.8287,-13.6991,-13.5692,-13.4394, -13.2446,-13.1152,-12.9858,-12.8564, -12.7272,-12.5978,-12.4038,-12.2746, -12.1454,-11.8872,-11.6293,-11.3716, -11.2264,-11.0728,-10.9192,-10.689, -10.5356,-10.3824,-10.2292,-10.0763, -9.9235,-9.77066,-9.61788,-9.46525, -9.31248,-9.15979,-9.00718,-8.85467, -8.70225,-8.54992,-8.39756,-8.39627, -8.39476,-8.39363,-8.39201,-8.39029, -8.38877,-8.54121,-8.77004,-8.92261, -9.07535,-9.22822,-9.38111,-9.53408, -9.68713,-9.91684,-10.07,-10.2228, -10.3762,-10.5298,-10.7596,-10.9131, -11.0668,-11.2206,-11.3658,-11.6239, -11.9467,-12.0759,-12.2055,-12.3997, -12.6581,-12.7875,-12.9169,-13.0465, -13.1763,-13.306,-13.4357,-13.6306, -13.7608,-13.8906,-14.0204,-14.1503, -14.2803,-14.4103,-14.5403,-14.6703, -14.8655,-14.9957,-15.1258,-15.3203)
FOOTPRINT_POINT_LONGITUDE = (291.661,291.463,291.264,291.064, 290.863,290.66,290.394,290.393,290.392, 290.391,290.389,290.388,290.387,290.385 ,290.384,290.382,290.381,290.38,290.373 ,290.366,290.352,290.351,290.349, 290.349,290.35,290.347,290.34,290.338, 290.334,290.33,290.328,290.324,290.323, 290.321,290.319,290.316,290.314,290.314 ,290.313,290.317,290.321,290.323, 290.324,290.327,290.325,290.322,290.319 ,290.317,290.315,290.313,290.435, 290.653,290.882,291.043,291.257,291.469 ,291.674,291.673,291.673,291.673, 291.672,291.672,291.671,291.671,291.671 ,291.67,291.67,291.671,291.671,291.67, 291.672,291.672,291.672,291.671,291.671 ,291.67,291.669,291.669,291.668,291.667 ,291.667,291.667,291.667,291.667, 291.666,291.666,291.665,291.664,291.663 ,291.663,291.662,291.662,291.662, 291.662,291.661,291.661,291.661,291.661 ,291.66,291.661)
ORBIT_NUMBER = 16733
ORBITAL_ECCENTRICITY = 0.579
ORBITAL_INCLINATION = 86.93
ORBITAL_SEMIMAJOR_AXIS = 8844.47
PERIAPSIS_ALTITUDE = 332.55
PERIAPSIS_ARGUMENT_ANGLE = 334.81
PERIAPSIS_TIME = 2017-03-18T23:07:47.000Z
SPACECRAFT_ORIENTATION = (0.0,1.0,0.0)
^MEX_ORIENTATION_DESC = "MEX_ORIENTATION_DESC.TXT"
SPACECRAFT_POINTING_MODE = ACROSSTRACK
^MEX_POINTING_DESC = "MEX_POINTING_DESC.TXT"
RIGHT_ASCENSION = -1e+32
DECLINATION = -1e+32
OFFSET_ANGLE = 0.5
SPACECRAFT_SOLAR_DISTANCE = 2.23819e+08
TARGET_NAME = MARS
/* CAMERA DATA ELEMENTS */
DETECTOR_TEMPERATURE = 18.3705
FOCAL_PLANE_TEMPERATURE = 8.7872
INST_CMPRS_NAME = "DISCRETE COSINE TRANSFORMATION (DCT)"
INST_CMPRS_RATIO = 6.86437
INST_CMPRS_QUALITY = 0
INST_CMPRS_QUANTZ_TBL_ID = 0
INSTRUMENT_TEMPERATURE = 11.4379
LENS_TEMPERATURE = 9.8067
MACROPIXEL_SIZE = 1
MISSING_FRAMES = 0
PIXEL_SUBSAMPLING_FLAG = N
SIGNAL_CHAIN_ID = 0
/* RADIOMETRIC DATA ELEMENTS */
BANDWIDTH = 177.0
CENTER_FILTER_WAVELENGTH = 677.5
RADIANCE_OFFSET = 2.5227
RADIANCE_SCALING_FACTOR = 0.0273781
REFLECTANCE_SCALING_FACTOR = 0.000728593
MEX:REFLECTANCE_OFFSET = 0.0671346
/* IMAGE OBJECT DEFINITIONS */
OBJECT = IMAGE
  INTERCHANGE_FORMAT = BINARY
  LINES = 32883
  LINE_SAMPLES = 6866
  SAMPLE_TYPE = UNSIGNED_INTEGER
  SAMPLE_BITS = 8
  BANDS = 1
  BAND_STORAGE_TYPE = BAND_SEQUENTIAL
  MAXIMUM = 255
  MEAN = 91.1736
  MINIMUM = 1
  STANDARD_DEVIATION = 30.3268
END_OBJECT = IMAGE
/* MAP OBJECT DEFINITIONS */
OBJECT = IMAGE_MAP_PROJECTION
  ^DATA_SET_MAP_PROJECTION_CATALOG= "DSMAP.CAT"
  A_AXIS_RADIUS = 3396.0
  B_AXIS_RADIUS = 3396.0
  C_AXIS_RADIUS = 3396.0
  CENTER_LATITUDE = 0.0
  CENTER_LONGITUDE = 291.0
  COORDINATE_SYSTEM_NAME = PLANETOGRAPHIC
  COORDINATE_SYSTEM_TYPE = "BODY-FIXED ROTATING"
  EASTERNMOST_LONGITUDE = 291.674
  FIRST_STANDARD_PARALLEL = "N/A"
  LINE_FIRST_PIXEL = 1
  LINE_LAST_PIXEL = 32883
  LINE_PROJECTION_OFFSET = -39774.0
  MAP_PROJECTION_ROTATION = 0.0
  MAP_PROJECTION_TYPE = SINUSOIDAL
  MAP_RESOLUTION = 4741.71043093333
  MAP_SCALE = 0.0125
  MAXIMUM_LATITUDE = -8.388769999999999
  MINIMUM_LATITUDE = -15.3227
  POSITIVE_LONGITUDE_DIRECTION = EAST
  REFERENCE_LATITUDE = "N/A"
  REFERENCE_LONGITUDE = "N/A"
  SAMPLE_FIRST_PIXEL = 1
  SAMPLE_LAST_PIXEL = 6866
  SAMPLE_PROJECTION_OFFSET = 3643.0
  SECOND_STANDARD_PARALLEL = "N/A"
  WESTERNMOST_LONGITUDE = 290.313
END_OBJECT = IMAGE_MAP_PROJECTION
/* The JPEG2000 image data file associated with this label. */
OBJECT = COMPRESSED_FILE
  FILE_NAME = "HG733_0000_ND3.JP2"
  RECORD_TYPE = UNDEFINED
  FILE_RECORDS = UNK
  ENCODING_TYPE = "JP2"
  INTERCHANGE_FORMAT = BINARY
  UNCOMPRESSED_FILE_NAME = "HG733_0000_ND3.IMG"
  REQUIRED_STORAGE_BYTES = "225809008"
  ^DESCRIPTION = "JP2INFO.TXT"
END_OBJECT = COMPRESSED_FILE
END
