PDS_VERSION_ID = PDS3
/* FILE DATA ELEMENTS */
RECORD_TYPE = STREAM
/* POINTERS TO DATA OBJECTS */
^COMPRESSED_FILE = "HG733_0000_S23.JP2"
/* IDENTIFICATION DATA ELEMENTS */
DATA_SET_ID = "MEX-M-HRSC-5-REFDR-MAPPROJECTED-V3.0"
DATA_SET_NAME = "MARS EXPRESS HRSC MAP PROJECTED REFDR V3.0"
DETECTOR_ID = MEX_HRSC_S2
EVENT_TYPE = "MARS-REGIONAL-STEREO-Vo-Te-La"
INSTRUMENT_HOST_ID = MEX
INSTRUMENT_HOST_NAME = "MARS EXPRESS"
INSTRUMENT_ID = HRSC
INSTRUMENT_NAME = "HIGH RESOLUTION STEREO CAMERA"
MISSION_NAME = "MARS EXPRESS"
MISSION_PHASE_NAME = ME_Phase_36
PROCESSING_LEVEL_ID = 3
PRODUCT_CREATION_TIME = 2018-06-28T11:48:36.000Z
PRODUCT_ID = "HG733_0000_S23.JP2"
RELEASE_ID = 0138
REVISION_ID = 0000
/* QUALITY DATA ELEMENTS */
DATA_QUALITY_ID = 1
DATA_QUALITY_DESC = "Data calculated based on original SPICE kernels"
/* TIME DATA ELEMENTS */
SPACECRAFT_CLOCK_START_COUNT = "1/0437958578.09028"
SPACECRAFT_CLOCK_STOP_COUNT = "1/0437958756.30850"
START_TIME = 2017-03-18T23:09:46.096Z
STOP_TIME = 2017-03-18T23:11:30.849Z
/* ORBITAL DATA ELEMENTS */
ASCENDING_NODE_LONGITUDE = 259.63
MAXIMUM_RESOLUTION = 28.9
FOOTPRINT_POINT_LATITUDE = (-15.3426,-15.3371,-15.3311,-15.3247, -15.3178,-15.3104,-15.1184,-14.9827, -14.7791,-14.6432,-14.5072,-14.3033, -14.1672,-14.0306,-13.8945,-13.7581, -13.6216,-13.4579,-13.3106,-13.1711, -13.0332,-12.899,-12.7683,-12.6264, -12.4886,-12.3503,-12.1434,-12.0061, -11.8701,-11.6665,-11.5306,-11.3949, -11.2591,-11.1238,-10.9896,-10.8525, -10.7174,-10.5813,-10.3812,-10.2541, -10.1226,-9.93456,-9.73773,-9.60749, -9.48546,-9.34995,-9.2137,-8.98016, -8.81851,-8.6577,-8.41661,-8.40054, -8.40645,-8.41457,-8.42003,-8.42427, -8.42885,-8.59083,-8.83366,-8.99301, -9.15581,-9.30083,-9.50407,-9.63948, -9.77491,-9.97785,-10.1035,-10.2914, -10.4987,-10.6795,-10.81,-10.946, -11.0775,-11.2129,-11.4164,-11.5522, -11.7533,-11.959,-12.1884,-12.3295, -12.5864,-12.7184,-12.8517,-12.9872, -13.1291,-13.3389,-13.4809,-13.6349, -13.7791,-13.9828,-14.1869,-14.3232, -14.4593,-14.5956,-14.7314,-14.9346, -15.0711,-15.2066,-15.3422,-15.3426)
FOOTPRINT_POINT_LONGITUDE = (291.47,291.278,291.084,290.888,290.692 ,290.494,290.398,290.397,290.396, 290.395,290.394,290.393,290.392,290.39, 290.389,290.388,290.386,290.37,290.362, 290.359,290.357,290.356,290.358,290.353 ,290.351,290.348,290.344,290.342, 290.341,290.339,290.337,290.336,290.334 ,290.333,290.332,290.33,290.328,290.326 ,290.326,290.329,290.329,290.335, 290.335,290.336,290.342,290.34,290.338, 290.334,290.332,290.33,290.327,290.511, 290.718,291.026,291.255,291.458,291.652 ,291.651,291.651,291.651,291.651, 291.651,291.651,291.651,291.651,291.651 ,291.651,291.652,291.652,291.653, 291.653,291.653,291.653,291.653,291.653 ,291.653,291.653,291.653,291.651, 291.651,291.652,291.652,291.652,291.652 ,291.652,291.651,291.651,291.65,291.65, 291.65,291.649,291.649,291.649,291.649, 291.649,291.649,291.649,291.649,291.649 ,291.47)
ORBIT_NUMBER = 16733
ORBITAL_ECCENTRICITY = 0.579
ORBITAL_INCLINATION = 86.93
ORBITAL_SEMIMAJOR_AXIS = 8844.47
PERIAPSIS_ALTITUDE = 332.55
PERIAPSIS_ARGUMENT_ANGLE = 334.81
PERIAPSIS_TIME = 2017-03-18T23:07:47.000Z
SPACECRAFT_ORIENTATION = (0.0,1.0,0.0)
^MEX_ORIENTATION_DESC = "MEX_ORIENTATION_DESC.TXT"
SPACECRAFT_POINTING_MODE = ACROSSTRACK
^MEX_POINTING_DESC = "MEX_POINTING_DESC.TXT"
RIGHT_ASCENSION = -1e+32
DECLINATION = -1e+32
OFFSET_ANGLE = 0.5
SPACECRAFT_SOLAR_DISTANCE = 2.23819e+08
TARGET_NAME = MARS
/* CAMERA DATA ELEMENTS */
DETECTOR_TEMPERATURE = 18.3705
FOCAL_PLANE_TEMPERATURE = 8.7872
INST_CMPRS_NAME = "DISCRETE COSINE TRANSFORMATION (DCT)"
INST_CMPRS_RATIO = 12.4299
INST_CMPRS_QUALITY = 0
INST_CMPRS_QUANTZ_TBL_ID = 0
INSTRUMENT_TEMPERATURE = 11.4379
LENS_TEMPERATURE = 9.8067
MACROPIXEL_SIZE = 2
MISSING_FRAMES = 0
PIXEL_SUBSAMPLING_FLAG = N
SIGNAL_CHAIN_ID = 1
/* RADIOMETRIC DATA ELEMENTS */
BANDWIDTH = 178.0
CENTER_FILTER_WAVELENGTH = 679.0
RADIANCE_OFFSET = 3.05237
RADIANCE_SCALING_FACTOR = 0.0266503
REFLECTANCE_SCALING_FACTOR = 0.000707014
MEX:REFLECTANCE_OFFSET = 0.0809771
/* IMAGE OBJECT DEFINITIONS */
OBJECT = IMAGE
  INTERCHANGE_FORMAT = BINARY
  LINES = 16442
  LINE_SAMPLES = 3433
  SAMPLE_TYPE = UNSIGNED_INTEGER
  SAMPLE_BITS = 8
  BANDS = 1
  BAND_STORAGE_TYPE = BAND_SEQUENTIAL
  MAXIMUM = 255
  MEAN = 98.4198
  MINIMUM = 1
  STANDARD_DEVIATION = 30.8359
END_OBJECT = IMAGE
/* MAP OBJECT DEFINITIONS */
OBJECT = IMAGE_MAP_PROJECTION
  ^DATA_SET_MAP_PROJECTION_CATALOG= "DSMAP.CAT"
  A_AXIS_RADIUS = 3396.0
  B_AXIS_RADIUS = 3396.0
  C_AXIS_RADIUS = 3396.0
  CENTER_LATITUDE = 0.0
  CENTER_LONGITUDE = 291.0
  COORDINATE_SYSTEM_NAME = PLANETOGRAPHIC
  COORDINATE_SYSTEM_TYPE = "BODY-FIXED ROTATING"
  EASTERNMOST_LONGITUDE = 291.653
  FIRST_STANDARD_PARALLEL = "N/A"
  LINE_FIRST_PIXEL = 1
  LINE_LAST_PIXEL = 16442
  LINE_PROJECTION_OFFSET = -19887.25
  MAP_PROJECTION_ROTATION = 0.0
  MAP_PROJECTION_TYPE = SINUSOIDAL
  MAP_RESOLUTION = 2370.85521546667
  MAP_SCALE = 0.025
  MAXIMUM_LATITUDE = -8.400539999999999
  MINIMUM_LATITUDE = -15.3426
  POSITIVE_LONGITUDE_DIRECTION = EAST
  REFERENCE_LATITUDE = "N/A"
  REFERENCE_LONGITUDE = "N/A"
  SAMPLE_FIRST_PIXEL = 1
  SAMPLE_LAST_PIXEL = 3433
  SAMPLE_PROJECTION_OFFSET = 1821.25
  SECOND_STANDARD_PARALLEL = "N/A"
  WESTERNMOST_LONGITUDE = 290.326
END_OBJECT = IMAGE_MAP_PROJECTION
/* The JPEG2000 image data file associated with this label. */
OBJECT = COMPRESSED_FILE
  FILE_NAME = "HG733_0000_S23.JP2"
  RECORD_TYPE = UNDEFINED
  FILE_RECORDS = UNK
  ENCODING_TYPE = "JP2"
  INTERCHANGE_FORMAT = BINARY
  UNCOMPRESSED_FILE_NAME = "HG733_0000_S23.IMG"
  REQUIRED_STORAGE_BYTES = "56469417"
  ^DESCRIPTION = "JP2INFO.TXT"
END_OBJECT = COMPRESSED_FILE
END
