PDS_VERSION_ID = PDS3
/* FILE DATA ELEMENTS */
RECORD_TYPE = STREAM
/* POINTERS TO DATA OBJECTS */
^COMPRESSED_FILE = "HG736_0000_GR3.JP2"
/* IDENTIFICATION DATA ELEMENTS */
DATA_SET_ID = "MEX-M-HRSC-5-REFDR-MAPPROJECTED-V3.0"
DATA_SET_NAME = "MARS EXPRESS HRSC MAP PROJECTED REFDR V3.0"
DETECTOR_ID = MEX_HRSC_GREEN
EVENT_TYPE = "MARS-REGIONAL-MAPPING-Im-Fl"
INSTRUMENT_HOST_ID = MEX
INSTRUMENT_HOST_NAME = "MARS EXPRESS"
INSTRUMENT_ID = HRSC
INSTRUMENT_NAME = "HIGH RESOLUTION STEREO CAMERA"
MISSION_NAME = "MARS EXPRESS"
MISSION_PHASE_NAME = ME_Phase_36
PROCESSING_LEVEL_ID = 3
PRODUCT_CREATION_TIME = 2018-06-28T11:48:36.000Z
PRODUCT_ID = "HG736_0000_GR3.JP2"
RELEASE_ID = 0138
REVISION_ID = 0000
/* QUALITY DATA ELEMENTS */
DATA_QUALITY_ID = 1
DATA_QUALITY_DESC = "Data calculated based on original SPICE kernels"
/* TIME DATA ELEMENTS */
SPACECRAFT_CLOCK_START_COUNT = "1/0438033816.08247"
SPACECRAFT_CLOCK_STOP_COUNT = "1/0438033936.07216"
START_TIME = 2017-03-19T20:04:23.157Z
STOP_TIME = 2017-03-19T20:05:17.006Z
/* ORBITAL DATA ELEMENTS */
ASCENDING_NODE_LONGITUDE = 259.58
MAXIMUM_RESOLUTION = 54.7
FOOTPRINT_POINT_LATITUDE = (-35.762,-35.7612,-35.7603,-35.7592, -35.7581,-35.7567,-35.7554,-35.754, -35.7525,-35.7509,-35.7491,-35.7469, -35.745,-35.6449,-35.5419,-35.4388, -35.3015,-35.1296,-35.0265,-34.8546, -34.7171,-34.614,-34.442,-34.27, -34.1667,-34.0979,-34.029,-33.9258, -33.8568,-33.7535,-33.6846,-33.6157, -33.5123,-33.4098,-33.3409,-33.272, -33.2028,-33.0988,-33.0299,-32.9609, -32.8573,-32.7537,-32.6503,-32.5813, -32.5123,-32.4433,-32.3743,-32.2449, -32.2463,-32.2477,-32.2502,-32.2523, -32.2535,-32.2545,-32.2554,-32.2562, -32.2573,-32.258,-32.2587,-32.2589, -32.3288,-32.3979,-32.4669,-32.5361, -32.605,-32.7083,-32.8117,-32.8807, -32.9844,-33.088,-33.1571,-33.2608, -33.3298,-33.3988,-33.4678,-33.5369, -33.6059,-33.6749,-33.7439,-33.8474, -33.9164,-33.9854,-34.0544,-34.1234, -34.2272,-34.3309,-34.4683,-34.5714, -34.6746,-34.7435,-34.8124,-34.8813, -34.9845,-35.0533,-35.1565,-35.2598, -35.3974,-35.5006,-35.6725,-35.762)
FOOTPRINT_POINT_LONGITUDE = (345.557,345.444,345.332,345.22,345.108 ,344.981,344.87,344.758,344.647,344.536 ,344.425,344.286,344.176,344.127,344.13 ,344.134,344.138,344.144,344.147, 344.152,344.156,344.159,344.164,344.169 ,344.172,344.174,344.176,344.179, 344.181,344.183,344.185,344.187,344.19, 344.191,344.193,344.195,344.197,344.201 ,344.202,344.204,344.207,344.209, 344.212,344.213,344.215,344.217,344.218 ,344.221,344.324,344.428,344.598, 344.703,344.795,344.887,344.979,345.072 ,345.218,345.311,345.443,345.575, 345.632,345.632,345.632,345.633,345.632 ,345.632,345.631,345.631,345.632, 345.633,345.633,345.634,345.634,345.634 ,345.635,345.635,345.636,345.636, 345.636,345.637,345.637,345.637,345.638 ,345.638,345.64,345.641,345.641,345.64, 345.64,345.64,345.641,345.641,345.641, 345.641,345.641,345.642,345.643,345.643 ,345.643,345.557)
ORBIT_NUMBER = 16736
ORBITAL_ECCENTRICITY = 0.579
ORBITAL_INCLINATION = 86.94
ORBITAL_SEMIMAJOR_AXIS = 8838.73
PERIAPSIS_ALTITUDE = 332.49
PERIAPSIS_ARGUMENT_ANGLE = 334.26
PERIAPSIS_TIME = 2017-03-19T20:06:53.000Z
SPACECRAFT_ORIENTATION = (0.0,1.0,0.0)
^MEX_ORIENTATION_DESC = "MEX_ORIENTATION_DESC.TXT"
SPACECRAFT_POINTING_MODE = ACROSSTRACK
^MEX_POINTING_DESC = "MEX_POINTING_DESC.TXT"
RIGHT_ASCENSION = -1e+32
DECLINATION = -1e+32
OFFSET_ANGLE = -0.25
SPACECRAFT_SOLAR_DISTANCE = 2.2399e+08
TARGET_NAME = MARS
/* CAMERA DATA ELEMENTS */
DETECTOR_TEMPERATURE = 18.5744
FOCAL_PLANE_TEMPERATURE = 8.1755
INST_CMPRS_NAME = "DISCRETE COSINE TRANSFORMATION (DCT)"
INST_CMPRS_RATIO = 16.2102
INST_CMPRS_QUALITY = 0
INST_CMPRS_QUANTZ_TBL_ID = 0
INSTRUMENT_TEMPERATURE = 11.8457
LENS_TEMPERATURE = 8.7872
MACROPIXEL_SIZE = 4
MISSING_FRAMES = 0
PIXEL_SUBSAMPLING_FLAG = N
SIGNAL_CHAIN_ID = 2
/* RADIOMETRIC DATA ELEMENTS */
BANDWIDTH = 88.0
CENTER_FILTER_WAVELENGTH = 538.0
RADIANCE_OFFSET = 1.86845
RADIANCE_SCALING_FACTOR = 0.00143111
REFLECTANCE_SCALING_FACTOR = 6.18182e-05
MEX:REFLECTANCE_OFFSET = 0.0807099
/* IMAGE OBJECT DEFINITIONS */
OBJECT = IMAGE
  INTERCHANGE_FORMAT = BINARY
  LINES = 4165
  LINE_SAMPLES = 1556
  SAMPLE_TYPE = UNSIGNED_INTEGER
  SAMPLE_BITS = 8
  BANDS = 1
  BAND_STORAGE_TYPE = BAND_SEQUENTIAL
  MAXIMUM = 255
  MEAN = 142.589
  MINIMUM = 1
  STANDARD_DEVIATION = 37.1705
END_OBJECT = IMAGE
/* MAP OBJECT DEFINITIONS */
OBJECT = IMAGE_MAP_PROJECTION
  ^DATA_SET_MAP_PROJECTION_CATALOG= "DSMAP.CAT"
  A_AXIS_RADIUS = 3396.0
  B_AXIS_RADIUS = 3396.0
  C_AXIS_RADIUS = 3396.0
  CENTER_LATITUDE = 0.0
  CENTER_LONGITUDE = 345.0
  COORDINATE_SYSTEM_NAME = PLANETOGRAPHIC
  COORDINATE_SYSTEM_TYPE = "BODY-FIXED ROTATING"
  EASTERNMOST_LONGITUDE = 345.643
  FIRST_STANDARD_PARALLEL = "N/A"
  LINE_FIRST_PIXEL = 1
  LINE_LAST_PIXEL = 4165
  LINE_PROJECTION_OFFSET = -38237.125
  MAP_PROJECTION_ROTATION = 0.0
  MAP_PROJECTION_TYPE = SINUSOIDAL
  MAP_RESOLUTION = 1185.42760773333
  MAP_SCALE = 0.05
  MAXIMUM_LATITUDE = -32.2449
  MINIMUM_LATITUDE = -35.762
  POSITIVE_LONGITUDE_DIRECTION = EAST
  REFERENCE_LATITUDE = "N/A"
  REFERENCE_LONGITUDE = "N/A"
  SAMPLE_FIRST_PIXEL = 1
  SAMPLE_LAST_PIXEL = 1556
  SAMPLE_PROJECTION_OFFSET = 869.875
  SECOND_STANDARD_PARALLEL = "N/A"
  WESTERNMOST_LONGITUDE = 344.127
END_OBJECT = IMAGE_MAP_PROJECTION
/* The JPEG2000 image data file associated with this label. */
OBJECT = COMPRESSED_FILE
  FILE_NAME = "HG736_0000_GR3.JP2"
  RECORD_TYPE = UNDEFINED
  FILE_RECORDS = UNK
  ENCODING_TYPE = "JP2"
  INTERCHANGE_FORMAT = BINARY
  UNCOMPRESSED_FILE_NAME = "HG736_0000_GR3.IMG"
  REQUIRED_STORAGE_BYTES = "6500968"
  ^DESCRIPTION = "JP2INFO.TXT"
END_OBJECT = COMPRESSED_FILE
END
