PDS_VERSION_ID = PDS3
/* FILE DATA ELEMENTS */
RECORD_TYPE = STREAM
/* POINTERS TO DATA OBJECTS */
^COMPRESSED_FILE = "HG742_0000_GR3.JP2"
/* IDENTIFICATION DATA ELEMENTS */
DATA_SET_ID = "MEX-M-HRSC-5-REFDR-MAPPROJECTED-V3.0"
DATA_SET_NAME = "MARS EXPRESS HRSC MAP PROJECTED REFDR V3.0"
DETECTOR_ID = MEX_HRSC_GREEN
EVENT_TYPE = "MARS-REGIONAL-MAPPING-Vo-Im-Fl"
INSTRUMENT_HOST_ID = MEX
INSTRUMENT_HOST_NAME = "MARS EXPRESS"
INSTRUMENT_ID = HRSC
INSTRUMENT_NAME = "HIGH RESOLUTION STEREO CAMERA"
MISSION_NAME = "MARS EXPRESS"
MISSION_PHASE_NAME = ME_Phase_36
PROCESSING_LEVEL_ID = 3
PRODUCT_CREATION_TIME = 2018-06-28T11:48:36.000Z
PRODUCT_ID = "HG742_0000_GR3.JP2"
RELEASE_ID = 0138
REVISION_ID = 0000
/* QUALITY DATA ELEMENTS */
DATA_QUALITY_ID = 1
DATA_QUALITY_DESC = "Data calculated based on original SPICE kernels"
/* TIME DATA ELEMENTS */
SPACECRAFT_CLOCK_START_COUNT = "1/0438185274.09044"
SPACECRAFT_CLOCK_STOP_COUNT = "1/0438185549.37845"
START_TIME = 2017-03-21T14:08:39.488Z
STOP_TIME = 2017-03-21T14:11:56.206Z
/* ORBITAL DATA ELEMENTS */
ASCENDING_NODE_LONGITUDE = 259.46
MAXIMUM_RESOLUTION = 57.6
FOOTPRINT_POINT_LATITUDE = (-14.3121,-14.3153,-14.3181,-14.2135, -14.0055,-13.6938,-13.3829,-13.1752, -12.9445,-12.6973,-12.4504,-12.2037, -11.9572,-11.7109,-11.4647,-11.2189, -10.8503,-10.6066,-10.3618,-9.99492, -9.62853,-9.26134,-9.01812,-8.77471, -8.532,-8.16788,-7.80446,-7.56261, -7.32089,-6.94963,-6.70212,-6.45574, -6.20863,-5.83078,-5.57895,-5.20083, -4.94633,-4.68958,-4.43219,-4.04631, -3.7833,-3.52073,-3.25944,-2.99623, -2.72924,-2.4616,-2.19525,-2.05564, -2.05115,-2.04496,-2.04124,-2.0355, -2.16932,-2.43591,-2.70523,-2.97323, -3.23679,-3.49699,-3.75954,-4.02306, -4.28012,-4.66555,-5.05309,-5.43157, -5.6841,-5.93704,-6.31246,-6.55961, -6.80717,-7.05486,-7.30215,-7.54331, -7.78666,-8.02941,-8.27227,-8.63597, -8.87952,-9.12287,-9.36667,-9.61098, -9.85524,-10.0999,-10.3448,-10.5907, -10.837,-11.0827,-11.3276,-11.574, -11.8205,-12.0671,-12.3141,-12.5612, -12.8085,-13.1633,-13.3709,-13.5786, -13.7865,-13.9945,-14.2028,-14.3121)
FOOTPRINT_POINT_LONGITUDE = (90.7122,90.3257,89.9349,89.6027, 89.6006,89.5972,89.5922,89.5906,89.588, 89.585,89.5816,89.5783,89.5752,89.5717, 89.5686,89.5652,89.5605,89.5516,89.5469 ,89.5406,89.5342,89.5322,89.5265, 89.5223,89.5165,89.5096,89.5022,89.4968 ,89.4919,89.4842,89.4789,89.4708,89.466 ,89.4565,89.4483,89.439,89.4327,89.423, 89.4163,89.4076,89.4016,89.3947,89.3849 ,89.3771,89.3673,89.3608,89.3516, 89.4834,89.7712,90.1767,90.4158,90.7721 ,90.9537,90.9517,90.9515,90.95,90.9484, 90.9454,90.9438,90.9428,90.9414,90.9388 ,90.9374,90.9357,90.9345,90.9333, 90.9316,90.9305,90.9294,90.9283,90.9271 ,90.9256,90.9253,90.9245,90.9237, 90.9217,90.9209,90.9198,90.9188,90.918, 90.917,90.9162,90.9153,90.9148,90.9144, 90.9136,90.9123,90.9116,90.9108,90.91, 90.9093,90.9085,90.9078,90.9067,90.906, 90.9054,90.9047,90.9041,90.9035, 90.7122)
ORBIT_NUMBER = 16742
ORBITAL_ECCENTRICITY = 0.579
ORBITAL_INCLINATION = 86.94
ORBITAL_SEMIMAJOR_AXIS = 8844.02
PERIAPSIS_ALTITUDE = 331.32
PERIAPSIS_ARGUMENT_ANGLE = 333.23
PERIAPSIS_TIME = 2017-03-21T14:05:24.000Z
SPACECRAFT_ORIENTATION = (0.0,1.0,0.0)
^MEX_ORIENTATION_DESC = "MEX_ORIENTATION_DESC.TXT"
SPACECRAFT_POINTING_MODE = ACROSSTRACK
^MEX_POINTING_DESC = "MEX_POINTING_DESC.TXT"
RIGHT_ASCENSION = -1e+32
DECLINATION = -1e+32
OFFSET_ANGLE = 0.5
SPACECRAFT_SOLAR_DISTANCE = 2.24331e+08
TARGET_NAME = MARS
/* CAMERA DATA ELEMENTS */
DETECTOR_TEMPERATURE = 18.5744
FOCAL_PLANE_TEMPERATURE = 8.3794
INST_CMPRS_NAME = "DISCRETE COSINE TRANSFORMATION (DCT)"
INST_CMPRS_RATIO = 10.3307
INST_CMPRS_QUALITY = 0
INST_CMPRS_QUANTZ_TBL_ID = 0
INSTRUMENT_TEMPERATURE = 12.0496
LENS_TEMPERATURE = 9.195
MACROPIXEL_SIZE = 4
MISSING_FRAMES = 0
PIXEL_SUBSAMPLING_FLAG = N
SIGNAL_CHAIN_ID = 2
/* RADIOMETRIC DATA ELEMENTS */
BANDWIDTH = 88.0
CENTER_FILTER_WAVELENGTH = 538.0
RADIANCE_OFFSET = 1.21081
RADIANCE_SCALING_FACTOR = 0.00422069
REFLECTANCE_SCALING_FACTOR = 0.000182874
MEX:REFLECTANCE_OFFSET = 0.0524621
/* IMAGE OBJECT DEFINITIONS */
OBJECT = IMAGE
  INTERCHANGE_FORMAT = BINARY
  LINES = 14573
  LINE_SAMPLES = 1981
  SAMPLE_TYPE = UNSIGNED_INTEGER
  SAMPLE_BITS = 8
  BANDS = 1
  BAND_STORAGE_TYPE = BAND_SEQUENTIAL
  MAXIMUM = 255
  MEAN = 125.047
  MINIMUM = 1
  STANDARD_DEVIATION = 31.5083
END_OBJECT = IMAGE
/* MAP OBJECT DEFINITIONS */
OBJECT = IMAGE_MAP_PROJECTION
  ^DATA_SET_MAP_PROJECTION_CATALOG= "DSMAP.CAT"
  A_AXIS_RADIUS = 3396.0
  B_AXIS_RADIUS = 3396.0
  C_AXIS_RADIUS = 3396.0
  CENTER_LATITUDE = 0.0
  CENTER_LONGITUDE = 90.0
  COORDINATE_SYSTEM_NAME = PLANETOGRAPHIC
  COORDINATE_SYSTEM_TYPE = "BODY-FIXED ROTATING"
  EASTERNMOST_LONGITUDE = 90.9537
  FIRST_STANDARD_PARALLEL = "N/A"
  LINE_FIRST_PIXEL = 1
  LINE_LAST_PIXEL = 14573
  LINE_PROJECTION_OFFSET = -2405.875
  MAP_PROJECTION_ROTATION = 0.0
  MAP_PROJECTION_TYPE = SINUSOIDAL
  MAP_RESOLUTION = 1185.42760773333
  MAP_SCALE = 0.05
  MAXIMUM_LATITUDE = -2.0355
  MINIMUM_LATITUDE = -14.3181
  POSITIVE_LONGITUDE_DIRECTION = EAST
  REFERENCE_LATITUDE = "N/A"
  REFERENCE_LONGITUDE = "N/A"
  SAMPLE_FIRST_PIXEL = 1
  SAMPLE_LAST_PIXEL = 1981
  SAMPLE_PROJECTION_OFFSET = 840.125
  SECOND_STANDARD_PARALLEL = "N/A"
  WESTERNMOST_LONGITUDE = 89.3516
END_OBJECT = IMAGE_MAP_PROJECTION
/* The JPEG2000 image data file associated with this label. */
OBJECT = COMPRESSED_FILE
  FILE_NAME = "HG742_0000_GR3.JP2"
  RECORD_TYPE = UNDEFINED
  FILE_RECORDS = UNK
  ENCODING_TYPE = "JP2"
  INTERCHANGE_FORMAT = BINARY
  UNCOMPRESSED_FILE_NAME = "HG742_0000_GR3.IMG"
  REQUIRED_STORAGE_BYTES = "28888923"
  ^DESCRIPTION = "JP2INFO.TXT"
END_OBJECT = COMPRESSED_FILE
END
