PDS_VERSION_ID = PDS3
/* FILE DATA ELEMENTS */
RECORD_TYPE = STREAM
/* POINTERS TO DATA OBJECTS */
^COMPRESSED_FILE = "HG742_0000_IR3.JP2"
/* IDENTIFICATION DATA ELEMENTS */
DATA_SET_ID = "MEX-M-HRSC-5-REFDR-MAPPROJECTED-V3.0"
DATA_SET_NAME = "MARS EXPRESS HRSC MAP PROJECTED REFDR V3.0"
DETECTOR_ID = MEX_HRSC_IR
EVENT_TYPE = "MARS-REGIONAL-MAPPING-Vo-Im-Fl"
INSTRUMENT_HOST_ID = MEX
INSTRUMENT_HOST_NAME = "MARS EXPRESS"
INSTRUMENT_ID = HRSC
INSTRUMENT_NAME = "HIGH RESOLUTION STEREO CAMERA"
MISSION_NAME = "MARS EXPRESS"
MISSION_PHASE_NAME = ME_Phase_36
PROCESSING_LEVEL_ID = 3
PRODUCT_CREATION_TIME = 2018-06-28T11:48:36.000Z
PRODUCT_ID = "HG742_0000_IR3.JP2"
RELEASE_ID = 0138
REVISION_ID = 0000
/* QUALITY DATA ELEMENTS */
DATA_QUALITY_ID = 1
DATA_QUALITY_DESC = "Data calculated based on original SPICE kernels"
/* TIME DATA ELEMENTS */
SPACECRAFT_CLOCK_START_COUNT = "1/0438185274.09044"
SPACECRAFT_CLOCK_STOP_COUNT = "1/0438185549.37845"
START_TIME = 2017-03-21T14:09:01.904Z
STOP_TIME = 2017-03-21T14:12:27.206Z
/* ORBITAL DATA ELEMENTS */
ASCENDING_NODE_LONGITUDE = 259.46
MAXIMUM_RESOLUTION = 61.5
FOOTPRINT_POINT_LATITUDE = (-14.2942,-14.3056,-14.3172,-14.3206, -14.0765,-13.8358,-13.4767,-13.1149, -12.8748,-12.6353,-12.3965,-12.0383, -11.8,-11.5615,-11.2039,-10.8467, -10.6171,-10.2649,-10.0295,-9.67656, -9.43762,-9.08397,-8.84974,-8.61126, -8.25313,-8.01222,-7.77447,-7.40858, -7.16442,-6.9213,-6.68018,-6.43597, -6.18552,-5.93497,-5.68916,-5.43654, -5.18483,-4.81081,-4.55699,-4.29848, -4.04165,-3.78093,-3.39098,-3.13382, -2.87087,-2.60625,-2.34388,-2.05982, -2.05005,-2.04075,-2.02901,-2.02137, -2.01494,-2.14554,-2.40881,-2.6823, -2.94827,-3.20918,-3.45835,-3.71833, -4.10608,-4.36309,-4.61598,-4.87355, -5.12635,-5.379,-5.6317,-5.88044, -6.12718,-6.37507,-6.6243,-6.86813, -7.11019,-7.47172,-7.84184,-8.08141, -8.31952,-8.55391,-8.79532,-9.14724, -9.49828,-9.84982,-10.0849,-10.3207, -10.561,-10.8027,-11.0402,-11.2721, -11.511,-11.8685,-12.1076,-12.3467, -12.7062,-12.9459,-13.186,-13.4263, -13.6669,-13.9077,-14.1498,-14.2942)
FOOTPRINT_POINT_LONGITUDE = (90.7473,90.3506,89.9493,89.5822, 89.5811,89.578,89.5721,89.5683,89.5652, 89.5618,89.558,89.5527,89.5489,89.5454, 89.5403,89.5353,89.5266,89.5189,89.5143 ,89.5075,89.5055,89.4997,89.4945, 89.4886,89.4803,89.4763,89.4704,89.4617 ,89.4563,89.4504,89.4428,89.4341, 89.4292,89.4246,89.4166,89.4098,89.4026 ,89.3902,89.381,89.3748,89.3678,89.3613 ,89.3488,89.339,89.3303,89.3217,89.312, 89.3988,89.7325,90.0016,90.3482,90.5988 ,90.8016,90.9923,90.9896,90.9888, 90.9867,90.9845,90.9806,90.9784,90.9755 ,90.9737,90.9712,90.9699,90.9682, 90.9665,90.9648,90.9631,90.9613,90.9597 ,90.9582,90.9566,90.955,90.9522,90.9508 ,90.9496,90.9481,90.9461,90.9449,90.943 ,90.941,90.939,90.9377,90.9365,90.9357, 90.9351,90.934,90.9322,90.9312,90.9295, 90.9284,90.9273,90.9257,90.9246,90.9235 ,90.9224,90.9213,90.9203,90.9193, 90.7473)
ORBIT_NUMBER = 16742
ORBITAL_ECCENTRICITY = 0.579
ORBITAL_INCLINATION = 86.94
ORBITAL_SEMIMAJOR_AXIS = 8844.02
PERIAPSIS_ALTITUDE = 331.32
PERIAPSIS_ARGUMENT_ANGLE = 333.23
PERIAPSIS_TIME = 2017-03-21T14:05:24.000Z
SPACECRAFT_ORIENTATION = (0.0,1.0,0.0)
^MEX_ORIENTATION_DESC = "MEX_ORIENTATION_DESC.TXT"
SPACECRAFT_POINTING_MODE = ACROSSTRACK
^MEX_POINTING_DESC = "MEX_POINTING_DESC.TXT"
RIGHT_ASCENSION = -1e+32
DECLINATION = -1e+32
OFFSET_ANGLE = 0.5
SPACECRAFT_SOLAR_DISTANCE = 2.24331e+08
TARGET_NAME = MARS
/* CAMERA DATA ELEMENTS */
DETECTOR_TEMPERATURE = 17.7588
FOCAL_PLANE_TEMPERATURE = 8.3794
INST_CMPRS_NAME = "DISCRETE COSINE TRANSFORMATION (DCT)"
INST_CMPRS_RATIO = 10.6056
INST_CMPRS_QUALITY = 0
INST_CMPRS_QUANTZ_TBL_ID = 0
INSTRUMENT_TEMPERATURE = 12.0496
LENS_TEMPERATURE = 9.195
MACROPIXEL_SIZE = 4
MISSING_FRAMES = 0
PIXEL_SUBSAMPLING_FLAG = N
SIGNAL_CHAIN_ID = 2
/* RADIOMETRIC DATA ELEMENTS */
BANDWIDTH = 81.0
CENTER_FILTER_WAVELENGTH = 955.5
RADIANCE_OFFSET = 0.710518
RADIANCE_SCALING_FACTOR = 0.0047122
REFLECTANCE_SCALING_FACTOR = 0.000511601
MEX:REFLECTANCE_OFFSET = 0.0771406
/* IMAGE OBJECT DEFINITIONS */
OBJECT = IMAGE
  INTERCHANGE_FORMAT = BINARY
  LINES = 14573
  LINE_SAMPLES = 1981
  SAMPLE_TYPE = UNSIGNED_INTEGER
  SAMPLE_BITS = 8
  BANDS = 1
  BAND_STORAGE_TYPE = BAND_SEQUENTIAL
  MAXIMUM = 255
  MEAN = 88.8881
  MINIMUM = 1
  STANDARD_DEVIATION = 37.8723
END_OBJECT = IMAGE
/* MAP OBJECT DEFINITIONS */
OBJECT = IMAGE_MAP_PROJECTION
  ^DATA_SET_MAP_PROJECTION_CATALOG= "DSMAP.CAT"
  A_AXIS_RADIUS = 3396.0
  B_AXIS_RADIUS = 3396.0
  C_AXIS_RADIUS = 3396.0
  CENTER_LATITUDE = 0.0
  CENTER_LONGITUDE = 90.0
  COORDINATE_SYSTEM_NAME = PLANETOGRAPHIC
  COORDINATE_SYSTEM_TYPE = "BODY-FIXED ROTATING"
  EASTERNMOST_LONGITUDE = 90.9923
  FIRST_STANDARD_PARALLEL = "N/A"
  LINE_FIRST_PIXEL = 1
  LINE_LAST_PIXEL = 14573
  LINE_PROJECTION_OFFSET = -2405.875
  MAP_PROJECTION_ROTATION = 0.0
  MAP_PROJECTION_TYPE = SINUSOIDAL
  MAP_RESOLUTION = 1185.42760773333
  MAP_SCALE = 0.05
  MAXIMUM_LATITUDE = -2.01494
  MINIMUM_LATITUDE = -14.3206
  POSITIVE_LONGITUDE_DIRECTION = EAST
  REFERENCE_LATITUDE = "N/A"
  REFERENCE_LONGITUDE = "N/A"
  SAMPLE_FIRST_PIXEL = 1
  SAMPLE_LAST_PIXEL = 1981
  SAMPLE_PROJECTION_OFFSET = 840.125
  SECOND_STANDARD_PARALLEL = "N/A"
  WESTERNMOST_LONGITUDE = 89.312
END_OBJECT = IMAGE_MAP_PROJECTION
/* The JPEG2000 image data file associated with this label. */
OBJECT = COMPRESSED_FILE
  FILE_NAME = "HG742_0000_IR3.JP2"
  RECORD_TYPE = UNDEFINED
  FILE_RECORDS = UNK
  ENCODING_TYPE = "JP2"
  INTERCHANGE_FORMAT = BINARY
  UNCOMPRESSED_FILE_NAME = "HG742_0000_IR3.IMG"
  REQUIRED_STORAGE_BYTES = "28888923"
  ^DESCRIPTION = "JP2INFO.TXT"
END_OBJECT = COMPRESSED_FILE
END
