PDS_VERSION_ID = PDS3
/* FILE DATA ELEMENTS */
RECORD_TYPE = STREAM
/* POINTERS TO DATA OBJECTS */
^COMPRESSED_FILE = "HG747_0000_ND3.JP2"
/* IDENTIFICATION DATA ELEMENTS */
DATA_SET_ID = "MEX-M-HRSC-5-REFDR-MAPPROJECTED-V3.0"
DATA_SET_NAME = "MARS EXPRESS HRSC MAP PROJECTED REFDR V3.0"
DETECTOR_ID = MEX_HRSC_NADIR
EVENT_TYPE = "MARS-REGIONAL-STEREO-Vo-Te-Lc"
INSTRUMENT_HOST_ID = MEX
INSTRUMENT_HOST_NAME = "MARS EXPRESS"
INSTRUMENT_ID = HRSC
INSTRUMENT_NAME = "HIGH RESOLUTION STEREO CAMERA"
MISSION_NAME = "MARS EXPRESS"
MISSION_PHASE_NAME = ME_Phase_36
PROCESSING_LEVEL_ID = 3
PRODUCT_CREATION_TIME = 2018-06-28T11:48:36.000Z
PRODUCT_ID = "HG747_0000_ND3.JP2"
RELEASE_ID = 0138
REVISION_ID = 0000
/* QUALITY DATA ELEMENTS */
DATA_QUALITY_ID = 1
DATA_QUALITY_DESC = "Data calculated based on original SPICE kernels"
/* TIME DATA ELEMENTS */
SPACECRAFT_CLOCK_START_COUNT = "1/0438311185.07342"
SPACECRAFT_CLOCK_STOP_COUNT = "1/0438311338.40263"
START_TIME = 2017-03-23T01:07:04.463Z
STOP_TIME = 2017-03-23T01:08:27.467Z
/* ORBITAL DATA ELEMENTS */
ASCENDING_NODE_LONGITUDE = 259.37
MAXIMUM_RESOLUTION = 14.1
FOOTPRINT_POINT_LATITUDE = (-16.3109,-16.3118,-16.3126,-16.3134, -16.3138,-16.3139,-16.3139,-16.2149, -16.1159,-16.0169,-15.918,-15.8191, -15.7202,-15.6213,-15.5225,-15.4236, -15.3248,-15.2261,-15.1273,-15.0286, -14.9299,-14.7819,-14.6336,-14.3876, -14.1905,-14.0429,-13.9443,-13.7964, -13.5996,-13.452,-13.2766,-13.1594, -13.0422,-12.9251,-12.8081,-12.6913, -12.5161,-12.3412,-12.1661,-12.0493, -11.9326,-11.8159,-11.6993,-11.5827, -11.4662,-11.3497,-11.2333,-11.1169, -10.9967,-10.9959,-10.9954,-10.9946, -10.9936,-10.9923,-10.9913,-10.9904, -10.9895,-10.9886,-11.046,-11.1625, -11.2791,-11.3957,-11.5123,-11.629, -11.7457,-11.8625,-11.9793,-12.0962, -12.2131,-12.3301,-12.4471,-12.5641, -12.7394,-12.8563,-12.9733,-13.0906, -13.2663,-13.4423,-13.6391,-13.8361, -13.9351,-14.0338,-14.1326,-14.3298, -14.6252,-14.724,-14.8725,-15.0701, -15.2185,-15.3668,-15.4657,-15.5647, -15.6637,-15.7627,-15.8617,-15.9607, -16.0598,-16.1589,-16.258,-16.3109)
FOOTPRINT_POINT_LONGITUDE = (299.486,299.297,299.094,298.827, 298.623,298.456,298.301,298.3,298.299, 298.299,298.298,298.297,298.296,298.295 ,298.295,298.294,298.293,298.292,298.29 ,298.29,298.289,298.287,298.277,298.283 ,298.278,298.279,298.274,298.263, 298.257,298.249,298.245,298.243,298.241 ,298.24,298.239,298.242,298.246,298.254 ,298.255,298.253,298.251,298.249, 298.248,298.246,298.244,298.242,298.24, 298.238,298.317,298.451,298.559,298.68, 298.841,299.029,299.149,299.27,299.376, 299.483,299.596,299.595,299.595,299.595 ,299.595,299.594,299.594,299.594, 299.593,299.593,299.593,299.593,299.592 ,299.592,299.596,299.598,299.599, 299.599,299.601,299.601,299.6,299.599, 299.594,299.592,299.589,299.589,299.594 ,299.593,299.589,299.589,299.587, 299.587,299.587,299.587,299.586,299.586 ,299.586,299.586,299.586,299.585, 299.585,299.486)
ORBIT_NUMBER = 16747
ORBITAL_ECCENTRICITY = 0.579
ORBITAL_INCLINATION = 86.93
ORBITAL_SEMIMAJOR_AXIS = 8839.19
PERIAPSIS_ALTITUDE = 332.0
PERIAPSIS_ARGUMENT_ANGLE = 332.42
PERIAPSIS_TIME = 2017-03-23T01:04:13.000Z
SPACECRAFT_ORIENTATION = (0.0,1.0,0.0)
^MEX_ORIENTATION_DESC = "MEX_ORIENTATION_DESC.TXT"
SPACECRAFT_POINTING_MODE = ACROSSTRACK
^MEX_POINTING_DESC = "MEX_POINTING_DESC.TXT"
RIGHT_ASCENSION = -1e+32
DECLINATION = -1e+32
OFFSET_ANGLE = 0.25
SPACECRAFT_SOLAR_DISTANCE = 2.24616e+08
TARGET_NAME = MARS
/* CAMERA DATA ELEMENTS */
DETECTOR_TEMPERATURE = 18.7783
FOCAL_PLANE_TEMPERATURE = 8.5833
INST_CMPRS_NAME = "DISCRETE COSINE TRANSFORMATION (DCT)"
INST_CMPRS_RATIO = 6.68427
INST_CMPRS_QUALITY = 0
INST_CMPRS_QUANTZ_TBL_ID = 0
INSTRUMENT_TEMPERATURE = 11.8457
LENS_TEMPERATURE = 8.9911
MACROPIXEL_SIZE = 1
MISSING_FRAMES = 0
PIXEL_SUBSAMPLING_FLAG = N
SIGNAL_CHAIN_ID = 0
/* RADIOMETRIC DATA ELEMENTS */
BANDWIDTH = 177.0
CENTER_FILTER_WAVELENGTH = 677.5
RADIANCE_OFFSET = 2.47119
RADIANCE_SCALING_FACTOR = 0.0212883
REFLECTANCE_SCALING_FACTOR = 0.000570567
MEX:REFLECTANCE_OFFSET = 0.0662326
/* IMAGE OBJECT DEFINITIONS */
OBJECT = IMAGE
  INTERCHANGE_FORMAT = BINARY
  LINES = 25271
  LINE_SAMPLES = 6788
  SAMPLE_TYPE = UNSIGNED_INTEGER
  SAMPLE_BITS = 8
  BANDS = 1
  BAND_STORAGE_TYPE = BAND_SEQUENTIAL
  MAXIMUM = 255
  MEAN = 82.4618
  MINIMUM = 1
  STANDARD_DEVIATION = 19.3692
END_OBJECT = IMAGE
/* MAP OBJECT DEFINITIONS */
OBJECT = IMAGE_MAP_PROJECTION
  ^DATA_SET_MAP_PROJECTION_CATALOG= "DSMAP.CAT"
  A_AXIS_RADIUS = 3396.0
  B_AXIS_RADIUS = 3396.0
  C_AXIS_RADIUS = 3396.0
  CENTER_LATITUDE = 0.0
  CENTER_LONGITUDE = 299.0
  COORDINATE_SYSTEM_NAME = PLANETOGRAPHIC
  COORDINATE_SYSTEM_TYPE = "BODY-FIXED ROTATING"
  EASTERNMOST_LONGITUDE = 299.601
  FIRST_STANDARD_PARALLEL = "N/A"
  LINE_FIRST_PIXEL = 1
  LINE_LAST_PIXEL = 25271
  LINE_PROJECTION_OFFSET = -52086.0
  MAP_PROJECTION_ROTATION = 0.0
  MAP_PROJECTION_TYPE = SINUSOIDAL
  MAP_RESOLUTION = 4741.71043093333
  MAP_SCALE = 0.0125
  MAXIMUM_LATITUDE = -10.9886
  MINIMUM_LATITUDE = -16.3139
  POSITIVE_LONGITUDE_DIRECTION = EAST
  REFERENCE_LATITUDE = "N/A"
  REFERENCE_LONGITUDE = "N/A"
  SAMPLE_FIRST_PIXEL = 1
  SAMPLE_LAST_PIXEL = 6788
  SAMPLE_PROJECTION_OFFSET = 3870.0
  SECOND_STANDARD_PARALLEL = "N/A"
  WESTERNMOST_LONGITUDE = 298.238
END_OBJECT = IMAGE_MAP_PROJECTION
/* The JPEG2000 image data file associated with this label. */
OBJECT = COMPRESSED_FILE
  FILE_NAME = "HG747_0000_ND3.JP2"
  RECORD_TYPE = UNDEFINED
  FILE_RECORDS = UNK
  ENCODING_TYPE = "JP2"
  INTERCHANGE_FORMAT = BINARY
  UNCOMPRESSED_FILE_NAME = "HG747_0000_ND3.IMG"
  REQUIRED_STORAGE_BYTES = "171573488"
  ^DESCRIPTION = "JP2INFO.TXT"
END_OBJECT = COMPRESSED_FILE
END
