PDS_VERSION_ID = PDS3
/* FILE DATA ELEMENTS */
RECORD_TYPE = STREAM
/* POINTERS TO DATA OBJECTS */
^COMPRESSED_FILE = "HG747_0000_P13.JP2"
/* IDENTIFICATION DATA ELEMENTS */
DATA_SET_ID = "MEX-M-HRSC-5-REFDR-MAPPROJECTED-V3.0"
DATA_SET_NAME = "MARS EXPRESS HRSC MAP PROJECTED REFDR V3.0"
DETECTOR_ID = MEX_HRSC_P1
EVENT_TYPE = "MARS-REGIONAL-STEREO-Vo-Te-Lc"
INSTRUMENT_HOST_ID = MEX
INSTRUMENT_HOST_NAME = "MARS EXPRESS"
INSTRUMENT_ID = HRSC
INSTRUMENT_NAME = "HIGH RESOLUTION STEREO CAMERA"
MISSION_NAME = "MARS EXPRESS"
MISSION_PHASE_NAME = ME_Phase_36
PROCESSING_LEVEL_ID = 3
PRODUCT_CREATION_TIME = 2018-06-28T11:48:36.000Z
PRODUCT_ID = "HG747_0000_P13.JP2"
RELEASE_ID = 0138
REVISION_ID = 0000
/* QUALITY DATA ELEMENTS */
DATA_QUALITY_ID = 1
DATA_QUALITY_DESC = "Data calculated based on original SPICE kernels"
/* TIME DATA ELEMENTS */
SPACECRAFT_CLOCK_START_COUNT = "1/0438311185.07342"
SPACECRAFT_CLOCK_STOP_COUNT = "1/0438311338.40263"
START_TIME = 2017-03-23T01:07:25.996Z
STOP_TIME = 2017-03-23T01:08:51.332Z
/* ORBITAL DATA ELEMENTS */
ASCENDING_NODE_LONGITUDE = 259.37
MAXIMUM_RESOLUTION = 29.5
FOOTPRINT_POINT_LATITUDE = (-16.2972,-16.2993,-16.3007,-16.3021, -16.3046,-16.306,-16.3074,-16.3088, -16.3101,-16.3115,-16.3128,-16.3142, -16.166,-16.0246,-15.9303,-15.742, -15.5068,-15.3188,-15.1336,-15.039, -14.897,-14.7925,-14.6369,-14.4664, -14.3496,-14.1812,-14.0672,-13.9591, -13.8059,-13.6466,-13.4868,-13.3259, -13.1613,-13.051,-12.9401,-12.8287, -12.7127,-12.5925,-12.4777,-12.3609, -12.2393,-12.1276,-12.0177,-11.9076, -11.7976,-11.6877,-11.5779,-11.4681, -11.3586,-11.1943,-11.0297,-10.9921, -10.9902,-10.9885,-10.9859,-10.9843, -10.9826,-10.98,-10.9768,-10.9751, -10.9738,-11.1379,-11.2476,-11.3574, -11.5221,-11.632,-11.7969,-11.9069, -12.0169,-12.1824,-12.3481,-12.4585, -12.569,-12.6959,-12.811,-12.9844, -13.095,-13.2116,-13.3247,-13.4915, -13.6025,-13.7112,-13.8725,-13.9683, -14.0718,-14.1796,-14.291,-14.4689, -14.5883,-14.7,-14.8513,-14.953, -15.1331,-15.3178,-15.4595,-15.6939, -15.8818,-16.0699,-16.1642,-16.2972)
FOOTPRINT_POINT_LONGITUDE = (299.602,299.463,299.361,299.26,299.082 ,298.98,298.878,298.776,298.674,298.571 ,298.468,298.365,298.288,298.286, 298.286,298.284,298.281,298.28,298.276, 298.275,298.275,298.273,298.263,298.264 ,298.266,298.264,298.265,298.261,298.25 ,298.243,298.236,298.23,298.226,298.225 ,298.223,298.222,298.224,298.228,298.23 ,298.232,298.238,298.237,298.235, 298.233,298.231,298.229,298.227,298.225 ,298.223,298.22,298.217,298.353,298.502 ,298.611,298.774,298.896,299.005, 299.181,299.383,299.505,299.617,299.617 ,299.616,299.616,299.615,299.615, 299.614,299.614,299.613,299.613,299.612 ,299.612,299.611,299.616,299.617, 299.618,299.618,299.619,299.62,299.619, 299.619,299.618,299.615,299.61,299.607, 299.606,299.605,299.608,299.61,299.61, 299.605,299.607,299.604,299.602,299.602 ,299.601,299.601,299.6,299.6,299.602)
ORBIT_NUMBER = 16747
ORBITAL_ECCENTRICITY = 0.579
ORBITAL_INCLINATION = 86.93
ORBITAL_SEMIMAJOR_AXIS = 8839.19
PERIAPSIS_ALTITUDE = 332.0
PERIAPSIS_ARGUMENT_ANGLE = 332.42
PERIAPSIS_TIME = 2017-03-23T01:04:13.000Z
SPACECRAFT_ORIENTATION = (0.0,1.0,0.0)
^MEX_ORIENTATION_DESC = "MEX_ORIENTATION_DESC.TXT"
SPACECRAFT_POINTING_MODE = ACROSSTRACK
^MEX_POINTING_DESC = "MEX_POINTING_DESC.TXT"
RIGHT_ASCENSION = -1e+32
DECLINATION = -1e+32
OFFSET_ANGLE = 0.25
SPACECRAFT_SOLAR_DISTANCE = 2.24616e+08
TARGET_NAME = MARS
/* CAMERA DATA ELEMENTS */
DETECTOR_TEMPERATURE = 18.1666
FOCAL_PLANE_TEMPERATURE = 8.5833
INST_CMPRS_NAME = "DISCRETE COSINE TRANSFORMATION (DCT)"
INST_CMPRS_RATIO = 10.0435
INST_CMPRS_QUALITY = 0
INST_CMPRS_QUANTZ_TBL_ID = 0
INSTRUMENT_TEMPERATURE = 11.8457
LENS_TEMPERATURE = 8.9911
MACROPIXEL_SIZE = 2
MISSING_FRAMES = 0
PIXEL_SUBSAMPLING_FLAG = N
SIGNAL_CHAIN_ID = 3
/* RADIOMETRIC DATA ELEMENTS */
BANDWIDTH = 174.0
CENTER_FILTER_WAVELENGTH = 675.0
RADIANCE_OFFSET = 2.80374
RADIANCE_SCALING_FACTOR = 0.0209175
REFLECTANCE_SCALING_FACTOR = 0.000567644
MEX:REFLECTANCE_OFFSET = 0.0760862
/* IMAGE OBJECT DEFINITIONS */
OBJECT = IMAGE
  INTERCHANGE_FORMAT = BINARY
  LINES = 12636
  LINE_SAMPLES = 3394
  SAMPLE_TYPE = UNSIGNED_INTEGER
  SAMPLE_BITS = 8
  BANDS = 1
  BAND_STORAGE_TYPE = BAND_SEQUENTIAL
  MAXIMUM = 255
  MEAN = 83.365
  MINIMUM = 1
  STANDARD_DEVIATION = 19.7058
END_OBJECT = IMAGE
/* MAP OBJECT DEFINITIONS */
OBJECT = IMAGE_MAP_PROJECTION
  ^DATA_SET_MAP_PROJECTION_CATALOG= "DSMAP.CAT"
  A_AXIS_RADIUS = 3396.0
  B_AXIS_RADIUS = 3396.0
  C_AXIS_RADIUS = 3396.0
  CENTER_LATITUDE = 0.0
  CENTER_LONGITUDE = 299.0
  COORDINATE_SYSTEM_NAME = PLANETOGRAPHIC
  COORDINATE_SYSTEM_TYPE = "BODY-FIXED ROTATING"
  EASTERNMOST_LONGITUDE = 299.62
  FIRST_STANDARD_PARALLEL = "N/A"
  LINE_FIRST_PIXEL = 1
  LINE_LAST_PIXEL = 12636
  LINE_PROJECTION_OFFSET = -26043.25
  MAP_PROJECTION_ROTATION = 0.0
  MAP_PROJECTION_TYPE = SINUSOIDAL
  MAP_RESOLUTION = 2370.85521546667
  MAP_SCALE = 0.025
  MAXIMUM_LATITUDE = -10.9738
  MINIMUM_LATITUDE = -16.3142
  POSITIVE_LONGITUDE_DIRECTION = EAST
  REFERENCE_LATITUDE = "N/A"
  REFERENCE_LONGITUDE = "N/A"
  SAMPLE_FIRST_PIXEL = 1
  SAMPLE_LAST_PIXEL = 3394
  SAMPLE_PROJECTION_OFFSET = 1934.75
  SECOND_STANDARD_PARALLEL = "N/A"
  WESTERNMOST_LONGITUDE = 298.217
END_OBJECT = IMAGE_MAP_PROJECTION
/* The JPEG2000 image data file associated with this label. */
OBJECT = COMPRESSED_FILE
  FILE_NAME = "HG747_0000_P13.JP2"
  RECORD_TYPE = UNDEFINED
  FILE_RECORDS = UNK
  ENCODING_TYPE = "JP2"
  INTERCHANGE_FORMAT = BINARY
  UNCOMPRESSED_FILE_NAME = "HG747_0000_P13.IMG"
  REQUIRED_STORAGE_BYTES = "42910342"
  ^DESCRIPTION = "JP2INFO.TXT"
END_OBJECT = COMPRESSED_FILE
END
