PDS_VERSION_ID = PDS3
/* FILE DATA ELEMENTS */
RECORD_TYPE = STREAM
/* POINTERS TO DATA OBJECTS */
^COMPRESSED_FILE = "HG753_0000_P23.JP2"
/* IDENTIFICATION DATA ELEMENTS */
DATA_SET_ID = "MEX-M-HRSC-5-REFDR-MAPPROJECTED-V3.0"
DATA_SET_NAME = "MARS EXPRESS HRSC MAP PROJECTED REFDR V3.0"
DETECTOR_ID = MEX_HRSC_P2
EVENT_TYPE = "MARS-REGIONAL-MAPPING-Im-Fl-Gl"
INSTRUMENT_HOST_ID = MEX
INSTRUMENT_HOST_NAME = "MARS EXPRESS"
INSTRUMENT_ID = HRSC
INSTRUMENT_NAME = "HIGH RESOLUTION STEREO CAMERA"
MISSION_NAME = "MARS EXPRESS"
MISSION_PHASE_NAME = ME_Phase_36
PROCESSING_LEVEL_ID = 3
PRODUCT_CREATION_TIME = 2018-06-28T11:48:36.000Z
PRODUCT_ID = "HG753_0000_P23.JP2"
RELEASE_ID = 0138
REVISION_ID = 0000
/* QUALITY DATA ELEMENTS */
DATA_QUALITY_ID = 1
DATA_QUALITY_DESC = "Data calculated based on original SPICE kernels"
/* TIME DATA ELEMENTS */
SPACECRAFT_CLOCK_START_COUNT = "1/0438461766.09039"
SPACECRAFT_CLOCK_STOP_COUNT = "1/0438462019.39436"
START_TIME = 2017-03-24T18:56:30.495Z
STOP_TIME = 2017-03-24T18:59:31.137Z
/* ORBITAL DATA ELEMENTS */
ASCENDING_NODE_LONGITUDE = 259.26
MAXIMUM_RESOLUTION = 30.6
FOOTPRINT_POINT_LATITUDE = (-50.3925,-50.403,-50.41,-50.4152, -50.4188,-50.4208,-50.4212,-50.0073, -49.7751,-49.5447,-49.3113,-49.0785, -48.85,-48.507,-48.2778,-48.0497, -47.8248,-47.6001,-47.373,-47.0341, -46.7022,-46.481,-46.1491,-45.9282, -45.7145,-45.4991,-45.2806,-45.0626, -44.8459,-44.5227,-44.3104,-43.9923, -43.7792,-43.4551,-43.2391,-43.0242, -42.8071,-42.4845,-42.2705,-42.0552, -41.8418,-41.6243,-41.298,-41.0816, -40.757,-40.5411,-40.3241,-39.9957, -39.7749,-39.4449,-39.3301,-39.3208, -39.3049,-39.276,-39.495,-39.7162, -39.9336,-40.2591,-40.477,-40.6956, -40.9132,-41.1303,-41.3469,-41.562, -41.7788,-42.1023,-42.3182,-42.5348, -42.7502,-42.9659,-43.1801,-43.5012, -43.8222,-44.0364,-44.2497,-44.4636, -44.6745,-44.8941,-45.1121,-45.4409, -45.6612,-45.8779,-46.1017,-46.3208, -46.5445,-46.8805,-47.1084,-47.3438, -47.5687,-47.789,-48.0136,-48.2415, -48.582,-48.8106,-49.0387,-49.2718, -49.509,-49.7418,-49.9751,-50.3925)
FOOTPRINT_POINT_LONGITUDE = (47.7046,47.2264,46.8293,46.4365, 46.0484,45.6646,45.2844,45.2324,45.2512 ,45.2688,45.2871,45.3049,45.3221, 45.3469,45.3632,45.3792,45.3947,45.4096 ,45.4251,45.4473,45.4682,45.4817, 45.5011,45.514,45.5251,45.5365,45.5488, 45.5606,45.5715,45.5891,45.5995,45.6143 ,45.6242,45.6403,45.6507,45.6603, 45.6706,45.6841,45.6923,45.7008,45.7081 ,45.717,45.7298,45.7375,45.7485,45.7552 ,45.7622,45.7735,45.7815,45.7925, 46.0562,46.3709,46.8773,47.5506,47.5549 ,47.5554,47.5616,47.5712,47.5757,47.579 ,47.5834,47.5883,47.5934,47.6007,47.605 ,47.6134,47.618,47.6214,47.6262,47.6302 ,47.6362,47.6448,47.6527,47.6571, 47.6625,47.6666,47.6752,47.6763,47.6819 ,47.6868,47.6876,47.6939,47.6954, 47.7062,47.7091,47.7118,47.709,47.7004, 47.7084,47.7236,47.731,47.7381,47.7558, 47.7642,47.7728,47.7803,47.7822,47.7907 ,47.7977,47.7046)
ORBIT_NUMBER = 16753
ORBITAL_ECCENTRICITY = 0.579
ORBITAL_INCLINATION = 86.94
ORBITAL_SEMIMAJOR_AXIS = 8840.39
PERIAPSIS_ALTITUDE = 331.67
PERIAPSIS_ARGUMENT_ANGLE = 331.39
PERIAPSIS_TIME = 2017-03-24T19:02:39.000Z
SPACECRAFT_ORIENTATION = (0.0,1.0,0.0)
^MEX_ORIENTATION_DESC = "MEX_ORIENTATION_DESC.TXT"
SPACECRAFT_POINTING_MODE = ACROSSTRACK
^MEX_POINTING_DESC = "MEX_POINTING_DESC.TXT"
RIGHT_ASCENSION = -1e+32
DECLINATION = -1e+32
OFFSET_ANGLE = -1.1
SPACECRAFT_SOLAR_DISTANCE = 2.24958e+08
TARGET_NAME = MARS
/* CAMERA DATA ELEMENTS */
DETECTOR_TEMPERATURE = 18.9822
FOCAL_PLANE_TEMPERATURE = 8.5833
INST_CMPRS_NAME = "DISCRETE COSINE TRANSFORMATION (DCT)"
INST_CMPRS_RATIO = 8.28076
INST_CMPRS_QUALITY = 0
INST_CMPRS_QUANTZ_TBL_ID = 0
INSTRUMENT_TEMPERATURE = 11.234
LENS_TEMPERATURE = 8.7872
MACROPIXEL_SIZE = 2
MISSING_FRAMES = 0
PIXEL_SUBSAMPLING_FLAG = N
SIGNAL_CHAIN_ID = 3
/* RADIOMETRIC DATA ELEMENTS */
BANDWIDTH = 177.0
CENTER_FILTER_WAVELENGTH = 676.5
RADIANCE_OFFSET = 4.38097
RADIANCE_SCALING_FACTOR = 0.00850985
REFLECTANCE_SCALING_FACTOR = 0.000228339
MEX:REFLECTANCE_OFFSET = 0.117551
/* IMAGE OBJECT DEFINITIONS */
OBJECT = IMAGE
  INTERCHANGE_FORMAT = BINARY
  LINES = 26196
  LINE_SAMPLES = 3876
  SAMPLE_TYPE = UNSIGNED_INTEGER
  SAMPLE_BITS = 8
  BANDS = 1
  BAND_STORAGE_TYPE = BAND_SEQUENTIAL
  MAXIMUM = 255
  MEAN = 141.868
  MINIMUM = 1
  STANDARD_DEVIATION = 27.1673
END_OBJECT = IMAGE
/* MAP OBJECT DEFINITIONS */
OBJECT = IMAGE_MAP_PROJECTION
  ^DATA_SET_MAP_PROJECTION_CATALOG= "DSMAP.CAT"
  A_AXIS_RADIUS = 3396.0
  B_AXIS_RADIUS = 3396.0
  C_AXIS_RADIUS = 3396.0
  CENTER_LATITUDE = 0.0
  CENTER_LONGITUDE = 47.0
  COORDINATE_SYSTEM_NAME = PLANETOGRAPHIC
  COORDINATE_SYSTEM_TYPE = "BODY-FIXED ROTATING"
  EASTERNMOST_LONGITUDE = 47.7977
  FIRST_STANDARD_PARALLEL = "N/A"
  LINE_FIRST_PIXEL = 1
  LINE_LAST_PIXEL = 26196
  LINE_PROJECTION_OFFSET = -93226.25
  MAP_PROJECTION_ROTATION = 0.0
  MAP_PROJECTION_TYPE = SINUSOIDAL
  MAP_RESOLUTION = 2370.85521546667
  MAP_SCALE = 0.025
  MAXIMUM_LATITUDE = -39.276
  MINIMUM_LATITUDE = -50.4212
  POSITIVE_LONGITUDE_DIRECTION = EAST
  REFERENCE_LATITUDE = "N/A"
  REFERENCE_LONGITUDE = "N/A"
  SAMPLE_FIRST_PIXEL = 1
  SAMPLE_LAST_PIXEL = 3876
  SAMPLE_PROJECTION_OFFSET = 2676.25
  SECOND_STANDARD_PARALLEL = "N/A"
  WESTERNMOST_LONGITUDE = 45.2324
END_OBJECT = IMAGE_MAP_PROJECTION
/* The JPEG2000 image data file associated with this label. */
OBJECT = COMPRESSED_FILE
  FILE_NAME = "HG753_0000_P23.JP2"
  RECORD_TYPE = UNDEFINED
  FILE_RECORDS = UNK
  ENCODING_TYPE = "JP2"
  INTERCHANGE_FORMAT = BINARY
  UNCOMPRESSED_FILE_NAME = "HG753_0000_P23.IMG"
  REQUIRED_STORAGE_BYTES = "101558952"
  ^DESCRIPTION = "JP2INFO.TXT"
END_OBJECT = COMPRESSED_FILE
END
