PDS_VERSION_ID = PDS3
/* FILE DATA ELEMENTS */
RECORD_TYPE = STREAM
/* POINTERS TO DATA OBJECTS */
^COMPRESSED_FILE = "HG761_0000_ND3.JP2"
/* IDENTIFICATION DATA ELEMENTS */
DATA_SET_ID = "MEX-M-HRSC-5-REFDR-MAPPROJECTED-V3.0"
DATA_SET_NAME = "MARS EXPRESS HRSC MAP PROJECTED REFDR V3.0"
DETECTOR_ID = MEX_HRSC_NADIR
EVENT_TYPE = "MARS-REGIONAL-STEREO-Eb-La-Tc"
INSTRUMENT_HOST_ID = MEX
INSTRUMENT_HOST_NAME = "MARS EXPRESS"
INSTRUMENT_ID = HRSC
INSTRUMENT_NAME = "HIGH RESOLUTION STEREO CAMERA"
MISSION_NAME = "MARS EXPRESS"
MISSION_PHASE_NAME = ME_Phase_36
PROCESSING_LEVEL_ID = 3
PRODUCT_CREATION_TIME = 2018-06-28T11:48:36.000Z
PRODUCT_ID = "HG761_0000_ND3.JP2"
RELEASE_ID = 0138
REVISION_ID = 0000
/* QUALITY DATA ELEMENTS */
DATA_QUALITY_ID = 1
DATA_QUALITY_DESC = "Data calculated based on original SPICE kernels"
/* TIME DATA ELEMENTS */
SPACECRAFT_CLOCK_START_COUNT = "1/0438663782.09064"
SPACECRAFT_CLOCK_STOP_COUNT = "1/0438663943.25630"
START_TIME = 2017-03-27T03:03:42.503Z
STOP_TIME = 2017-03-27T03:05:10.509Z
/* ORBITAL DATA ELEMENTS */
ASCENDING_NODE_LONGITUDE = 259.1
MAXIMUM_RESOLUTION = 14.4
FOOTPRINT_POINT_LATITUDE = (-17.5263,-17.5293,-17.532,-17.5345, -17.5366,-17.5385,-17.5402,-17.3452, -17.1501,-16.9552,-16.7603,-16.5367, -16.4206,-16.2464,-16.0723,-15.8983, -15.7239,-15.6077,-15.492,-15.3182, -15.2025,-15.0872,-14.9716,-14.8559, -14.7401,-14.6246,-14.4517,-14.2792, -14.164,-14.0487,-13.9335,-13.8183, -13.7032,-13.5881,-13.4731,-13.3581, -13.2432,-13.1283,-13.0134,-12.8986, -12.7839,-12.6692,-12.5546,-12.44, -12.3255,-12.211,-12.0965,-11.9822, -11.9173,-11.915,-11.9133,-11.9106, -11.909,-11.9074,-11.9056,-11.9028, -11.901,-11.957,-12.0715,-12.186, -12.3006,-12.4152,-12.5299,-12.6446, -12.7594,-12.8741,-12.9886,-13.1028, -13.2752,-13.4478,-13.5629,-13.678, -13.7933,-13.9085,-14.0238,-14.1391, -14.2546,-14.37,-14.4855,-14.6011, -14.7169,-14.8325,-14.9483,-15.0641, -15.2373,-15.3531,-15.469,-15.585, -15.7013,-15.8179,-15.934,-16.0501, -16.2244,-16.3405,-16.5149,-16.7397, -16.9347,-17.1298,-17.325,-17.5263)
FOOTPRINT_POINT_LONGITUDE = (308.691,308.468,308.249,308.033, 307.819,307.609,307.4,307.352,307.349, 307.346,307.342,307.338,307.336,307.334 ,307.33,307.328,307.33,307.331,307.328, 307.326,307.323,307.318,307.315,307.314 ,307.314,307.312,307.306,307.297, 307.294,307.291,307.289,307.286,307.284 ,307.282,307.279,307.277,307.274, 307.272,307.269,307.267,307.264,307.262 ,307.259,307.256,307.254,307.251, 307.248,307.246,307.354,307.563,307.704 ,307.916,308.044,308.16,308.291,308.481 ,308.599,308.695,308.696,308.696, 308.696,308.697,308.697,308.697,308.698 ,308.7,308.71,308.731,308.732,308.733, 308.735,308.736,308.736,308.737,308.738 ,308.739,308.737,308.74,308.741,308.74, 308.734,308.736,308.732,308.73,308.743, 308.744,308.746,308.744,308.732,308.716 ,308.716,308.716,308.714,308.715, 308.714,308.716,308.717,308.718,308.719 ,308.691)
ORBIT_NUMBER = 16761
ORBITAL_ECCENTRICITY = 0.579
ORBITAL_INCLINATION = 86.94
ORBITAL_SEMIMAJOR_AXIS = 8833.67
PERIAPSIS_ALTITUDE = 331.45
PERIAPSIS_ARGUMENT_ANGLE = 330.02
PERIAPSIS_TIME = 2017-03-27T03:00:33.000Z
SPACECRAFT_ORIENTATION = (0.0,1.0,0.0)
^MEX_ORIENTATION_DESC = "MEX_ORIENTATION_DESC.TXT"
SPACECRAFT_POINTING_MODE = ACROSSTRACK
^MEX_POINTING_DESC = "MEX_POINTING_DESC.TXT"
RIGHT_ASCENSION = -1e+32
DECLINATION = -1e+32
OFFSET_ANGLE = -1.078
SPACECRAFT_SOLAR_DISTANCE = 2.25414e+08
TARGET_NAME = MARS
/* CAMERA DATA ELEMENTS */
DETECTOR_TEMPERATURE = 17.351
FOCAL_PLANE_TEMPERATURE = 8.3794
INST_CMPRS_NAME = "DISCRETE COSINE TRANSFORMATION (DCT)"
INST_CMPRS_RATIO = 7.27887
INST_CMPRS_QUALITY = 0
INST_CMPRS_QUANTZ_TBL_ID = 0
INSTRUMENT_TEMPERATURE = 11.8457
LENS_TEMPERATURE = 8.5833
MACROPIXEL_SIZE = 1
MISSING_FRAMES = 0
PIXEL_SUBSAMPLING_FLAG = N
SIGNAL_CHAIN_ID = 0
/* RADIOMETRIC DATA ELEMENTS */
BANDWIDTH = 177.0
CENTER_FILTER_WAVELENGTH = 677.5
RADIANCE_OFFSET = 2.87631
RADIANCE_SCALING_FACTOR = 0.0111208
REFLECTANCE_SCALING_FACTOR = 0.000300179
MEX:REFLECTANCE_OFFSET = 0.0776392
/* IMAGE OBJECT DEFINITIONS */
OBJECT = IMAGE
  INTERCHANGE_FORMAT = BINARY
  LINES = 26743
  LINE_SAMPLES = 7306
  SAMPLE_TYPE = UNSIGNED_INTEGER
  SAMPLE_BITS = 8
  BANDS = 1
  BAND_STORAGE_TYPE = BAND_SEQUENTIAL
  MAXIMUM = 255
  MEAN = 143.694
  MINIMUM = 1
  STANDARD_DEVIATION = 34.2739
END_OBJECT = IMAGE
/* MAP OBJECT DEFINITIONS */
OBJECT = IMAGE_MAP_PROJECTION
  ^DATA_SET_MAP_PROJECTION_CATALOG= "DSMAP.CAT"
  A_AXIS_RADIUS = 3396.0
  B_AXIS_RADIUS = 3396.0
  C_AXIS_RADIUS = 3396.0
  CENTER_LATITUDE = 0.0
  CENTER_LONGITUDE = 308.0
  COORDINATE_SYSTEM_NAME = PLANETOGRAPHIC
  COORDINATE_SYSTEM_TYPE = "BODY-FIXED ROTATING"
  EASTERNMOST_LONGITUDE = 308.746
  FIRST_STANDARD_PARALLEL = "N/A"
  LINE_FIRST_PIXEL = 1
  LINE_LAST_PIXEL = 26743
  LINE_PROJECTION_OFFSET = -56425.0
  MAP_PROJECTION_ROTATION = 0.0
  MAP_PROJECTION_TYPE = SINUSOIDAL
  MAP_RESOLUTION = 4741.71043093333
  MAP_SCALE = 0.0125
  MAXIMUM_LATITUDE = -11.901
  MINIMUM_LATITUDE = -17.5402
  POSITIVE_LONGITUDE_DIRECTION = EAST
  REFERENCE_LATITUDE = "N/A"
  REFERENCE_LONGITUDE = "N/A"
  SAMPLE_FIRST_PIXEL = 1
  SAMPLE_LAST_PIXEL = 7306
  SAMPLE_PROJECTION_OFFSET = 3500.0
  SECOND_STANDARD_PARALLEL = "N/A"
  WESTERNMOST_LONGITUDE = 307.246
END_OBJECT = IMAGE_MAP_PROJECTION
/* The JPEG2000 image data file associated with this label. */
OBJECT = COMPRESSED_FILE
  FILE_NAME = "HG761_0000_ND3.JP2"
  RECORD_TYPE = UNDEFINED
  FILE_RECORDS = UNK
  ENCODING_TYPE = "JP2"
  INTERCHANGE_FORMAT = BINARY
  UNCOMPRESSED_FILE_NAME = "HG761_0000_ND3.IMG"
  REQUIRED_STORAGE_BYTES = "195413582"
  ^DESCRIPTION = "JP2INFO.TXT"
END_OBJECT = COMPRESSED_FILE
END
