PDS_VERSION_ID = PDS3
/* FILE DATA ELEMENTS */
RECORD_TYPE = STREAM
/* POINTERS TO DATA OBJECTS */
^COMPRESSED_FILE = "HG762_0000_IR3.JP2"
/* IDENTIFICATION DATA ELEMENTS */
DATA_SET_ID = "MEX-M-HRSC-5-REFDR-MAPPROJECTED-V3.0"
DATA_SET_NAME = "MARS EXPRESS HRSC MAP PROJECTED REFDR V3.0"
DETECTOR_ID = MEX_HRSC_IR
EVENT_TYPE = "MARS-REGIONAL-MAPPING-Te"
INSTRUMENT_HOST_ID = MEX
INSTRUMENT_HOST_NAME = "MARS EXPRESS"
INSTRUMENT_ID = HRSC
INSTRUMENT_NAME = "HIGH RESOLUTION STEREO CAMERA"
MISSION_NAME = "MARS EXPRESS"
MISSION_PHASE_NAME = ME_Phase_36
PROCESSING_LEVEL_ID = 3
PRODUCT_CREATION_TIME = 2018-06-28T11:48:36.000Z
PRODUCT_ID = "HG762_0000_IR3.JP2"
RELEASE_ID = 0138
REVISION_ID = 0000
/* QUALITY DATA ELEMENTS */
DATA_QUALITY_ID = 1
DATA_QUALITY_DESC = "Data calculated based on original SPICE kernels"
/* TIME DATA ELEMENTS */
SPACECRAFT_CLOCK_START_COUNT = "1/0438688810.09038"
SPACECRAFT_CLOCK_STOP_COUNT = "1/0438688970.15351"
START_TIME = 2017-03-27T10:01:12.407Z
STOP_TIME = 2017-03-27T10:02:51.011Z
/* ORBITAL DATA ELEMENTS */
ASCENDING_NODE_LONGITUDE = 259.09
MAXIMUM_RESOLUTION = 55.5
FOOTPRINT_POINT_LATITUDE = (-27.6727,-27.6745,-27.6762,-27.6777, -27.6791,-27.6803,-27.6921,-27.568, -27.3817,-27.2594,-27.1386,-27.0144, -26.8281,-26.7038,-26.5797,-26.4556, -26.3316,-26.2074,-26.0214,-25.8975, -25.7722,-25.6487,-25.5248,-25.4013, -25.2161,-25.0307,-24.9037,-24.7765, -24.5221,-24.3311,-24.2037,-24.0754, -23.9484,-23.822,-23.6953,-23.5683, -23.4414,-23.3142,-23.1875,-22.9976, -22.808,-22.6814,-22.555,-22.3655, -22.2391,-22.1129,-21.9869,-21.861, -21.7349,-21.6089,-21.3712,-21.3688, -21.3665,-21.3639,-21.3611,-21.3577, -21.3547,-21.5429,-21.7322,-21.8584, -22.0475,-22.2366,-22.3628,-22.4897, -22.6169,-22.7459,-22.8729,-23.0005, -23.1273,-23.3176,-23.4446,-23.6352, -23.762,-23.8881,-24.0768,-24.2664, -24.3939,-24.5849,-24.7129,-24.9047, -25.0331,-25.1578,-25.2804,-25.4658, -25.5897,-25.7137,-25.8376,-26.0232, -26.1467,-26.2706,-26.3948,-26.519, -26.6431,-26.7674,-26.891,-27.0774, -27.202,-27.3268,-27.4511,-27.6727)
FOOTPRINT_POINT_LONGITUDE = (204.895,204.703,204.509,204.315, 204.121,203.926,203.634,203.635,203.637 ,203.637,203.636,203.637,203.639,203.64 ,203.642,203.643,203.644,203.645, 203.647,203.648,203.65,203.65,203.651, 203.652,203.653,203.654,203.655,203.655 ,203.656,203.657,203.658,203.659, 203.659,203.659,203.66,203.66,203.66, 203.661,203.661,203.661,203.661,203.661 ,203.661,203.661,203.661,203.661, 203.661,203.661,203.661,203.661,203.66, 203.895,204.081,204.278,204.475,204.708 ,204.891,204.979,204.978,204.977, 204.977,204.976,204.975,204.974,204.974 ,204.974,204.973,204.973,204.972, 204.971,204.971,204.97,204.969,204.968, 204.967,204.965,204.965,204.964,204.963 ,204.962,204.962,204.961,204.96,204.959 ,204.959,204.958,204.957,204.956, 204.955,204.955,204.954,204.953,204.953 ,204.952,204.951,204.95,204.949,204.948 ,204.948,204.895)
ORBIT_NUMBER = 16762
ORBITAL_ECCENTRICITY = 0.579
ORBITAL_INCLINATION = 86.95
ORBITAL_SEMIMAJOR_AXIS = 8832.24
PERIAPSIS_ALTITUDE = 331.15
PERIAPSIS_ARGUMENT_ANGLE = 329.83
PERIAPSIS_TIME = 2017-03-27T10:00:11.000Z
SPACECRAFT_ORIENTATION = (0.0,1.0,0.0)
^MEX_ORIENTATION_DESC = "MEX_ORIENTATION_DESC.TXT"
SPACECRAFT_POINTING_MODE = ACROSSTRACK
^MEX_POINTING_DESC = "MEX_POINTING_DESC.TXT"
RIGHT_ASCENSION = -1e+32
DECLINATION = -1e+32
OFFSET_ANGLE = 0.269
SPACECRAFT_SOLAR_DISTANCE = 2.25471e+08
TARGET_NAME = MARS
/* CAMERA DATA ELEMENTS */
DETECTOR_TEMPERATURE = 17.351
FOCAL_PLANE_TEMPERATURE = 7.9716
INST_CMPRS_NAME = "DISCRETE COSINE TRANSFORMATION (DCT)"
INST_CMPRS_RATIO = 13.0233
INST_CMPRS_QUALITY = 0
INST_CMPRS_QUANTZ_TBL_ID = 0
INSTRUMENT_TEMPERATURE = 11.0301
LENS_TEMPERATURE = 8.5833
MACROPIXEL_SIZE = 4
MISSING_FRAMES = 0
PIXEL_SUBSAMPLING_FLAG = N
SIGNAL_CHAIN_ID = 2
/* RADIOMETRIC DATA ELEMENTS */
BANDWIDTH = 81.0
CENTER_FILTER_WAVELENGTH = 955.5
RADIANCE_OFFSET = 0.869059
RADIANCE_SCALING_FACTOR = 0.00479913
REFLECTANCE_SCALING_FACTOR = 0.000526348
MEX:REFLECTANCE_OFFSET = 0.0953148
/* IMAGE OBJECT DEFINITIONS */
OBJECT = IMAGE
  INTERCHANGE_FORMAT = BINARY
  LINES = 7508
  LINE_SAMPLES = 1534
  SAMPLE_TYPE = UNSIGNED_INTEGER
  SAMPLE_BITS = 8
  BANDS = 1
  BAND_STORAGE_TYPE = BAND_SEQUENTIAL
  MAXIMUM = 255
  MEAN = 115.152
  MINIMUM = 1
  STANDARD_DEVIATION = 48.9959
END_OBJECT = IMAGE
/* MAP OBJECT DEFINITIONS */
OBJECT = IMAGE_MAP_PROJECTION
  ^DATA_SET_MAP_PROJECTION_CATALOG= "DSMAP.CAT"
  A_AXIS_RADIUS = 3396.0
  B_AXIS_RADIUS = 3396.0
  C_AXIS_RADIUS = 3396.0
  CENTER_LATITUDE = 0.0
  CENTER_LONGITUDE = 204.0
  COORDINATE_SYSTEM_NAME = PLANETOGRAPHIC
  COORDINATE_SYSTEM_TYPE = "BODY-FIXED ROTATING"
  EASTERNMOST_LONGITUDE = 204.979
  FIRST_STANDARD_PARALLEL = "N/A"
  LINE_FIRST_PIXEL = 1
  LINE_LAST_PIXEL = 7508
  LINE_PROJECTION_OFFSET = -25341.125
  MAP_PROJECTION_ROTATION = 0.0
  MAP_PROJECTION_TYPE = SINUSOIDAL
  MAP_RESOLUTION = 1185.42760773333
  MAP_SCALE = 0.05
  MAXIMUM_LATITUDE = -21.3547
  MINIMUM_LATITUDE = -27.6921
  POSITIVE_LONGITUDE_DIRECTION = EAST
  REFERENCE_LATITUDE = "N/A"
  REFERENCE_LONGITUDE = "N/A"
  SAMPLE_FIRST_PIXEL = 1
  SAMPLE_LAST_PIXEL = 1534
  SAMPLE_PROJECTION_OFFSET = 443.625
  SECOND_STANDARD_PARALLEL = "N/A"
  WESTERNMOST_LONGITUDE = 203.634
END_OBJECT = IMAGE_MAP_PROJECTION
/* The JPEG2000 image data file associated with this label. */
OBJECT = COMPRESSED_FILE
  FILE_NAME = "HG762_0000_IR3.JP2"
  RECORD_TYPE = UNDEFINED
  FILE_RECORDS = UNK
  ENCODING_TYPE = "JP2"
  INTERCHANGE_FORMAT = BINARY
  UNCOMPRESSED_FILE_NAME = "HG762_0000_IR3.IMG"
  REQUIRED_STORAGE_BYTES = "11537214"
  ^DESCRIPTION = "JP2INFO.TXT"
END_OBJECT = COMPRESSED_FILE
END
