PDS_VERSION_ID = PDS3
/* FILE DATA ELEMENTS */
RECORD_TYPE = STREAM
/* POINTERS TO DATA OBJECTS */
^COMPRESSED_FILE = "HG764_0000_S13.JP2"
/* IDENTIFICATION DATA ELEMENTS */
DATA_SET_ID = "MEX-M-HRSC-5-REFDR-MAPPROJECTED-V3.0"
DATA_SET_NAME = "MARS EXPRESS HRSC MAP PROJECTED REFDR V3.0"
DETECTOR_ID = MEX_HRSC_S1
EVENT_TYPE = "MARS-LOCAL-CARTOGRAPHY-Im-Tc-Ts"
INSTRUMENT_HOST_ID = MEX
INSTRUMENT_HOST_NAME = "MARS EXPRESS"
INSTRUMENT_ID = HRSC
INSTRUMENT_NAME = "HIGH RESOLUTION STEREO CAMERA"
MISSION_NAME = "MARS EXPRESS"
MISSION_PHASE_NAME = ME_Phase_36
PROCESSING_LEVEL_ID = 3
PRODUCT_CREATION_TIME = 2018-06-28T11:48:36.000Z
PRODUCT_ID = "HG764_0000_S13.JP2"
RELEASE_ID = 0138
REVISION_ID = 0000
/* QUALITY DATA ELEMENTS */
DATA_QUALITY_ID = 1
DATA_QUALITY_DESC = "Data calculated based on original SPICE kernels"
/* TIME DATA ELEMENTS */
SPACECRAFT_CLOCK_START_COUNT = "1/0438739506.09104"
SPACECRAFT_CLOCK_STOP_COUNT = "1/0438739636.41618"
START_TIME = 2017-03-28T00:06:40.148Z
STOP_TIME = 2017-03-28T00:07:22.653Z
/* ORBITAL DATA ELEMENTS */
ASCENDING_NODE_LONGITUDE = 259.05
MAXIMUM_RESOLUTION = 19.5
FOOTPRINT_POINT_LATITUDE = (-6.34758,-6.34791,-6.34825,-6.3486, -6.34923,-6.3496,-6.34999,-6.35041, -6.35085,-6.35131,-6.35179,-6.35229, -6.35282,-6.35335,-6.3539,-6.35448, -6.35507,-6.35568,-6.35632,-6.357, -6.35767,-6.35887,-6.35977,-6.37255, -6.30106,-6.20788,-6.11544,-5.99989, -5.90765,-5.83845,-5.74592,-5.60704, -5.53656,-5.44238,-5.32451,-5.18346, -5.11344,-5.0202,-4.9505,-4.85622, -4.7365,-4.64082,-4.52062,-4.40152, -4.3061,-4.2344,-4.12227,-4.0284, -4.01243,-4.00689,-4.00253,-4.00003, -4.00074,-4.00152,-3.99951,-3.99825, -3.99799,-3.99728,-3.99638,-3.84343, -3.93406,-3.84296,-3.99456,-3.9933, -3.99272,-3.99246,-3.99187,-3.99143, -3.99036,-3.99067,-3.99049,-3.99094, -3.99072,-3.98823,-4.03651,-4.13362, -4.22889,-4.34785,-4.44309,-4.56276, -4.65844,-4.73031,-4.82616,-4.89704, -4.99082,-5.08464,-5.17869,-5.27288, -5.36707,-5.43753,-5.53188,-5.60258, -5.69476,-5.78786,-5.90636,-5.99985, -6.08918,-6.15974,-6.25321,-6.34758)
FOOTPRINT_POINT_LONGITUDE = (360.826,360.759,360.692,360.624, 360.507,360.44,360.373,360.306,360.239, 360.171,360.104,360.037,359.97,359.904, 359.837,359.77,359.703,359.636,359.569, 359.502,359.435,359.318,359.235,359.157 ,359.155,359.152,359.149,359.145, 359.142,359.139,359.136,359.132,359.129 ,359.126,359.122,359.117,359.114, 359.111,359.108,359.105,359.101,359.098 ,359.094,359.089,359.086,359.083, 359.077,359.073,359.126,359.198,359.271 ,359.342,359.431,359.52,359.609,359.68, 359.787,359.859,359.948,359.958,359.998 ,360.009,360.037,360.126,360.18,360.251 ,360.323,360.394,360.448,360.519, 360.591,360.681,360.735,360.841,360.885 ,360.884,360.883,360.882,360.881,360.88 ,360.879,360.879,360.878,360.877, 360.876,360.875,360.874,360.873,360.872 ,360.872,360.871,360.87,360.869,360.868 ,360.868,360.868,360.866,360.865, 360.865,360.826)
ORBIT_NUMBER = 16764
ORBITAL_ECCENTRICITY = 0.579
ORBITAL_INCLINATION = 86.94
ORBITAL_SEMIMAJOR_AXIS = 8833.88
PERIAPSIS_ALTITUDE = 331.38
PERIAPSIS_ARGUMENT_ANGLE = 329.48
PERIAPSIS_TIME = 2017-03-27T23:59:39.000Z
SPACECRAFT_ORIENTATION = (0.0,1.0,0.0)
^MEX_ORIENTATION_DESC = "MEX_ORIENTATION_DESC.TXT"
SPACECRAFT_POINTING_MODE = ACROSSTRACK
^MEX_POINTING_DESC = "MEX_POINTING_DESC.TXT"
RIGHT_ASCENSION = -1e+32
DECLINATION = -1e+32
OFFSET_ANGLE = -0.108
SPACECRAFT_SOLAR_DISTANCE = 2.25585e+08
TARGET_NAME = MARS
/* CAMERA DATA ELEMENTS */
DETECTOR_TEMPERATURE = 17.7588
FOCAL_PLANE_TEMPERATURE = 8.9911
INST_CMPRS_NAME = "DISCRETE COSINE TRANSFORMATION (DCT)"
INST_CMPRS_RATIO = 10.0339
INST_CMPRS_QUALITY = 0
INST_CMPRS_QUANTZ_TBL_ID = 0
INSTRUMENT_TEMPERATURE = 11.8457
LENS_TEMPERATURE = 9.3989
MACROPIXEL_SIZE = 1
MISSING_FRAMES = 0
PIXEL_SUBSAMPLING_FLAG = N
SIGNAL_CHAIN_ID = 2
/* RADIOMETRIC DATA ELEMENTS */
BANDWIDTH = 180.0
CENTER_FILTER_WAVELENGTH = 677.0
RADIANCE_OFFSET = 4.25617
RADIANCE_SCALING_FACTOR = 0.0121091
REFLECTANCE_SCALING_FACTOR = 0.000321497
MEX:REFLECTANCE_OFFSET = 0.113002
/* IMAGE OBJECT DEFINITIONS */
OBJECT = IMAGE
  INTERCHANGE_FORMAT = BINARY
  LINES = 11393
  LINE_SAMPLES = 8264
  SAMPLE_TYPE = UNSIGNED_INTEGER
  SAMPLE_BITS = 8
  BANDS = 1
  BAND_STORAGE_TYPE = BAND_SEQUENTIAL
  MAXIMUM = 255
  MEAN = 84.7601
  MINIMUM = 1
  STANDARD_DEVIATION = 24.1522
END_OBJECT = IMAGE
/* MAP OBJECT DEFINITIONS */
OBJECT = IMAGE_MAP_PROJECTION
  ^DATA_SET_MAP_PROJECTION_CATALOG= "DSMAP.CAT"
  A_AXIS_RADIUS = 3396.0
  B_AXIS_RADIUS = 3396.0
  C_AXIS_RADIUS = 3396.0
  CENTER_LATITUDE = 0.0
  CENTER_LONGITUDE = 360.0
  COORDINATE_SYSTEM_NAME = PLANETOGRAPHIC
  COORDINATE_SYSTEM_TYPE = "BODY-FIXED ROTATING"
  EASTERNMOST_LONGITUDE = 0.885
  FIRST_STANDARD_PARALLEL = "N/A"
  LINE_FIRST_PIXEL = 1
  LINE_LAST_PIXEL = 11393
  LINE_PROJECTION_OFFSET = -18781.0
  MAP_PROJECTION_ROTATION = 0.0
  MAP_PROJECTION_TYPE = SINUSOIDAL
  MAP_RESOLUTION = 4741.71043093333
  MAP_SCALE = 0.0125
  MAXIMUM_LATITUDE = -3.84296
  MINIMUM_LATITUDE = -6.37255
  POSITIVE_LONGITUDE_DIRECTION = EAST
  REFERENCE_LATITUDE = "N/A"
  REFERENCE_LONGITUDE = "N/A"
  SAMPLE_FIRST_PIXEL = 1
  SAMPLE_LAST_PIXEL = 8264
  SAMPLE_PROJECTION_OFFSET = 4212.0
  SECOND_STANDARD_PARALLEL = "N/A"
  WESTERNMOST_LONGITUDE = -0.927
END_OBJECT = IMAGE_MAP_PROJECTION
/* The JPEG2000 image data file associated with this label. */
OBJECT = COMPRESSED_FILE
  FILE_NAME = "HG764_0000_S13.JP2"
  RECORD_TYPE = UNDEFINED
  FILE_RECORDS = UNK
  ENCODING_TYPE = "JP2"
  INTERCHANGE_FORMAT = BINARY
  UNCOMPRESSED_FILE_NAME = "HG764_0000_S13.IMG"
  REQUIRED_STORAGE_BYTES = "94184808"
  ^DESCRIPTION = "JP2INFO.TXT"
END_OBJECT = COMPRESSED_FILE
END
