PDS_VERSION_ID = PDS3
/* FILE DATA ELEMENTS */
RECORD_TYPE = STREAM
/* POINTERS TO DATA OBJECTS */
^COMPRESSED_FILE = "HG767_0000_BL3.JP2"
/* IDENTIFICATION DATA ELEMENTS */
DATA_SET_ID = "MEX-M-HRSC-5-REFDR-MAPPROJECTED-V3.0"
DATA_SET_NAME = "MARS EXPRESS HRSC MAP PROJECTED REFDR V3.0"
DETECTOR_ID = MEX_HRSC_BLUE
EVENT_TYPE = "MARS-REGIONAL-MAPPING-Im-Gl-La"
INSTRUMENT_HOST_ID = MEX
INSTRUMENT_HOST_NAME = "MARS EXPRESS"
INSTRUMENT_ID = HRSC
INSTRUMENT_NAME = "HIGH RESOLUTION STEREO CAMERA"
MISSION_NAME = "MARS EXPRESS"
MISSION_PHASE_NAME = ME_Phase_36
PROCESSING_LEVEL_ID = 3
PRODUCT_CREATION_TIME = 2018-06-28T11:48:36.000Z
PRODUCT_ID = "HG767_0000_BL3.JP2"
RELEASE_ID = 0138
REVISION_ID = 0000
/* QUALITY DATA ELEMENTS */
DATA_QUALITY_ID = 1
DATA_QUALITY_DESC = "Data calculated based on original SPICE kernels"
/* TIME DATA ELEMENTS */
SPACECRAFT_CLOCK_START_COUNT = "1/0438814413.07352"
SPACECRAFT_CLOCK_STOP_COUNT = "1/0438814665.46989"
START_TIME = 2017-03-28T20:54:14.413Z
STOP_TIME = 2017-03-28T20:57:16.667Z
/* ORBITAL DATA ELEMENTS */
ASCENDING_NODE_LONGITUDE = 258.99
MAXIMUM_RESOLUTION = 55.6
FOOTPRINT_POINT_LATITUDE = (-48.4396,-48.4372,-48.4339,-48.4297, -48.419,-48.275,-48.0379,-47.8005, -47.5628,-47.3249,-47.0868,-46.729, -46.4901,-46.2514,-45.8922,-45.6527, -45.4129,-45.1726,-44.9324,-44.5715, -44.2102,-43.9692,-43.6071,-43.3656, -43.004,-42.4973,-42.1927,-41.7855, -41.5817,-41.3771,-41.1733,-40.9694, -40.7658,-40.562,-40.3569,-40.0494, -39.8449,-39.6401,-39.4349,-39.2297, -38.922,-38.7166,-38.5112,-38.2028, -37.9973,-37.6885,-37.0361,-36.83, -36.7516,-36.7525,-36.7526,-36.7515, -37.0613,-37.7148,-37.921,-38.1271, -38.3333,-38.5386,-38.7446,-39.0534, -39.3619,-39.567,-39.7723,-39.9778, -40.1828,-40.3878,-40.5927,-40.7976, -41.0026,-41.2067,-41.4111,-41.6152, -41.8195,-42.0235,-42.2273,-42.5324, -42.7358,-42.9393,-43.1653,-43.4078, -43.6498,-44.0126,-44.2543,-44.4957, -44.7362,-44.9774,-45.2182,-45.5791, -45.8196,-46.0596,-46.2994,-46.5391, -46.7785,-47.018,-47.2569,-47.4956, -47.8531,-48.0916,-48.3295,-48.4396)
FOOTPRINT_POINT_LONGITUDE = (54.221,53.9066,53.5943,53.2842,52.6703 ,52.405,52.4237,52.442,52.4599,52.4776, 52.4949,52.5202,52.5366,52.5529,52.5765 ,52.5919,52.607,52.6218,52.6364,52.6576 ,52.6782,52.6916,52.7112,52.7239, 52.7424,52.7673,52.7818,52.8004,52.8095 ,52.8184,52.8271,52.8357,52.844,52.8522 ,52.8603,52.8722,52.8799,52.8874, 52.8948,52.902,52.9125,52.9194,52.9261, 52.9359,52.9422,52.9514,52.9699,52.9755 ,53.3971,53.6662,54.0387,54.3581, 54.5115,54.5152,54.5163,54.517,54.5176, 54.5212,54.5215,54.522,54.5228,54.5251, 54.526,54.5259,54.5269,54.5278,54.5289, 54.5291,54.5285,54.5313,54.5323,54.5338 ,54.5342,54.5355,54.5368,54.5404, 54.5418,54.5424,54.5432,54.5442,54.5463 ,54.5484,54.5497,54.5512,54.5559, 54.5566,54.5577,54.559,54.5592,54.5608, 54.5619,54.5623,54.5632,54.5626,54.5635 ,54.5644,54.5653,54.5642,54.5643, 54.221)
ORBIT_NUMBER = 16767
ORBITAL_ECCENTRICITY = 0.579
ORBITAL_INCLINATION = 86.95
ORBITAL_SEMIMAJOR_AXIS = 8836.04
PERIAPSIS_ALTITUDE = 330.84
PERIAPSIS_ARGUMENT_ANGLE = 328.99
PERIAPSIS_TIME = 2017-03-28T20:58:51.000Z
SPACECRAFT_ORIENTATION = (0.0,1.0,0.0)
^MEX_ORIENTATION_DESC = "MEX_ORIENTATION_DESC.TXT"
SPACECRAFT_POINTING_MODE = ACROSSTRACK
^MEX_POINTING_DESC = "MEX_POINTING_DESC.TXT"
RIGHT_ASCENSION = -1e+32
DECLINATION = -1e+32
OFFSET_ANGLE = -0.6
SPACECRAFT_SOLAR_DISTANCE = 2.25756e+08
TARGET_NAME = MARS
/* CAMERA DATA ELEMENTS */
DETECTOR_TEMPERATURE = 18.5744
FOCAL_PLANE_TEMPERATURE = 7.5638
INST_CMPRS_NAME = "DISCRETE COSINE TRANSFORMATION (DCT)"
INST_CMPRS_RATIO = 6.78993
INST_CMPRS_QUALITY = 0
INST_CMPRS_QUANTZ_TBL_ID = 0
INSTRUMENT_TEMPERATURE = 11.6418
LENS_TEMPERATURE = 9.3989
MACROPIXEL_SIZE = 4
MISSING_FRAMES = 80
PIXEL_SUBSAMPLING_FLAG = N
SIGNAL_CHAIN_ID = 2
/* RADIOMETRIC DATA ELEMENTS */
BANDWIDTH = 76.0
CENTER_FILTER_WAVELENGTH = 444.0
RADIANCE_OFFSET = 0.728397
RADIANCE_SCALING_FACTOR = 0.000719566
REFLECTANCE_SCALING_FACTOR = 3.76794e-05
MEX:REFLECTANCE_OFFSET = 0.0381418
/* IMAGE OBJECT DEFINITIONS */
OBJECT = IMAGE
  INTERCHANGE_FORMAT = BINARY
  LINES = 13839
  LINE_SAMPLES = 1776
  SAMPLE_TYPE = UNSIGNED_INTEGER
  SAMPLE_BITS = 8
  BANDS = 1
  BAND_STORAGE_TYPE = BAND_SEQUENTIAL
  MAXIMUM = 252
  MEAN = 135.617
  MINIMUM = 1
  STANDARD_DEVIATION = 27.4259
END_OBJECT = IMAGE
/* MAP OBJECT DEFINITIONS */
OBJECT = IMAGE_MAP_PROJECTION
  ^DATA_SET_MAP_PROJECTION_CATALOG= "DSMAP.CAT"
  A_AXIS_RADIUS = 3396.0
  B_AXIS_RADIUS = 3396.0
  C_AXIS_RADIUS = 3396.0
  CENTER_LATITUDE = 0.0
  CENTER_LONGITUDE = 54.0
  COORDINATE_SYSTEM_NAME = PLANETOGRAPHIC
  COORDINATE_SYSTEM_TYPE = "BODY-FIXED ROTATING"
  EASTERNMOST_LONGITUDE = 54.5653
  FIRST_STANDARD_PARALLEL = "N/A"
  LINE_FIRST_PIXEL = 1
  LINE_LAST_PIXEL = 13839
  LINE_PROJECTION_OFFSET = -43587.375
  MAP_PROJECTION_ROTATION = 0.0
  MAP_PROJECTION_TYPE = SINUSOIDAL
  MAP_RESOLUTION = 1185.42760773333
  MAP_SCALE = 0.05
  MAXIMUM_LATITUDE = -36.7515
  MINIMUM_LATITUDE = -48.4396
  POSITIVE_LONGITUDE_DIRECTION = EAST
  REFERENCE_LATITUDE = "N/A"
  REFERENCE_LONGITUDE = "N/A"
  SAMPLE_FIRST_PIXEL = 1
  SAMPLE_LAST_PIXEL = 1776
  SAMPLE_PROJECTION_OFFSET = 1263.125
  SECOND_STANDARD_PARALLEL = "N/A"
  WESTERNMOST_LONGITUDE = 52.405
END_OBJECT = IMAGE_MAP_PROJECTION
/* The JPEG2000 image data file associated with this label. */
OBJECT = COMPRESSED_FILE
  FILE_NAME = "HG767_0000_BL3.JP2"
  RECORD_TYPE = UNDEFINED
  FILE_RECORDS = UNK
  ENCODING_TYPE = "JP2"
  INTERCHANGE_FORMAT = BINARY
  UNCOMPRESSED_FILE_NAME = "HG767_0000_BL3.IMG"
  REQUIRED_STORAGE_BYTES = "24599376"
  ^DESCRIPTION = "JP2INFO.TXT"
END_OBJECT = COMPRESSED_FILE
END
