PDS_VERSION_ID = PDS3
/* FILE DATA ELEMENTS */
RECORD_TYPE = STREAM
/* POINTERS TO DATA OBJECTS */
^COMPRESSED_FILE = "HG769_0000_ND3.JP2"
/* IDENTIFICATION DATA ELEMENTS */
DATA_SET_ID = "MEX-M-HRSC-5-REFDR-MAPPROJECTED-V3.0"
DATA_SET_NAME = "MARS EXPRESS HRSC MAP PROJECTED REFDR V3.0"
DETECTOR_ID = MEX_HRSC_NADIR
EVENT_TYPE = "MARS-REGIONAL-STEREO-Vo-Te-Fl"
INSTRUMENT_HOST_ID = MEX
INSTRUMENT_HOST_NAME = "MARS EXPRESS"
INSTRUMENT_ID = HRSC
INSTRUMENT_NAME = "HIGH RESOLUTION STEREO CAMERA"
MISSION_NAME = "MARS EXPRESS"
MISSION_PHASE_NAME = ME_Phase_36
PROCESSING_LEVEL_ID = 3
PRODUCT_CREATION_TIME = 2018-06-28T11:48:36.000Z
PRODUCT_ID = "HG769_0000_ND3.JP2"
RELEASE_ID = 0138
REVISION_ID = 0000
/* QUALITY DATA ELEMENTS */
DATA_QUALITY_ID = 1
DATA_QUALITY_DESC = "Data calculated based on original SPICE kernels"
/* TIME DATA ELEMENTS */
SPACECRAFT_CLOCK_START_COUNT = "1/0438865030.09047"
SPACECRAFT_CLOCK_STOP_COUNT = "1/0438865178.09043"
START_TIME = 2017-03-29T10:59:08.568Z
STOP_TIME = 2017-03-29T10:59:13.890Z
/* ORBITAL DATA ELEMENTS */
ASCENDING_NODE_LONGITUDE = 258.96
MAXIMUM_RESOLUTION = 13.3
FOOTPRINT_POINT_LATITUDE = (-27.5429,-27.5429,-27.5429,-27.5428, -27.5428,-27.5427,-27.5426,-27.5425, -27.5423,-27.5422,-27.5421,-27.5419, -27.5417,-27.5415,-27.5412,-27.541, -27.5407,-27.5404,-27.5401,-27.5397, -27.5393,-27.5389,-27.5387,-27.5385, -27.5382,-27.538,-27.5378,-27.5376, -27.5374,-27.5364,-27.513,-27.4695, -27.4327,-27.4059,-27.3657,-27.3423, -27.3088,-27.2854,-27.2486,-27.2218, -27.1888,-27.1891,-27.1893,-27.1896, -27.1898,-27.19,-27.1904,-27.1906, -27.1907,-27.1909,-27.1911,-27.1913, -27.1914,-27.1916,-27.1918,-27.1919, -27.192,-27.1922,-27.1923,-27.1925, -27.1926,-27.1927,-27.1928,-27.1929, -27.1931,-27.1932,-27.1933,-27.1934, -27.1935,-27.1935,-27.1936,-27.1937, -27.1938,-27.1938,-27.1939,-27.194, -27.1941,-27.1941,-27.1941,-27.1942, -27.1942,-27.1942,-27.1942,-27.1943, -27.1943,-27.1943,-27.1943,-27.1943, -27.2012,-27.228,-27.2582,-27.3051, -27.3453,-27.3721,-27.3989,-27.4424, -27.4659,-27.4994,-27.5396,-27.5429)
FOOTPRINT_POINT_LONGITUDE = (209.1,209.049,208.998,208.947,208.896, 208.858,208.807,208.756,208.705,208.667 ,208.616,208.565,208.514,208.476, 208.425,208.374,208.323,208.272,208.221 ,208.157,208.106,208.055,208.029, 208.004,207.965,207.94,207.914,207.889, 207.863,207.825,207.825,207.826,207.826 ,207.826,207.826,207.827,207.827, 207.827,207.827,207.827,207.828,207.866 ,207.892,207.931,207.956,207.982, 208.021,208.047,208.073,208.098,208.124 ,208.15,208.175,208.201,208.227,208.253 ,208.278,208.304,208.33,208.355,208.381 ,208.407,208.433,208.458,208.484,208.51 ,208.535,208.561,208.587,208.613, 208.638,208.664,208.69,208.716,208.754, 208.78,208.806,208.832,208.857,208.883, 208.909,208.934,208.96,208.999,209.025, 209.05,209.076,209.102,209.134,209.134, 209.133,209.133,209.133,209.133,209.133 ,209.133,209.133,209.133,209.133,209.1)
ORBIT_NUMBER = 16769
ORBITAL_ECCENTRICITY = 0.579
ORBITAL_INCLINATION = 86.96
ORBITAL_SEMIMAJOR_AXIS = 8830.64
PERIAPSIS_ALTITUDE = 330.76
PERIAPSIS_ARGUMENT_ANGLE = 328.62
PERIAPSIS_TIME = 2017-03-29T10:58:11.000Z
SPACECRAFT_ORIENTATION = (0.0,1.0,0.0)
^MEX_ORIENTATION_DESC = "MEX_ORIENTATION_DESC.TXT"
SPACECRAFT_POINTING_MODE = NADIR
^MEX_POINTING_DESC = "MEX_POINTING_DESC.TXT"
RIGHT_ASCENSION = -1e+32
DECLINATION = -1e+32
OFFSET_ANGLE = -1e+32
SPACECRAFT_SOLAR_DISTANCE = 2.2587e+08
TARGET_NAME = MARS
/* CAMERA DATA ELEMENTS */
DETECTOR_TEMPERATURE = 18.5744
FOCAL_PLANE_TEMPERATURE = 8.3794
INST_CMPRS_NAME = "DISCRETE COSINE TRANSFORMATION (DCT)"
INST_CMPRS_RATIO = 6.88022
INST_CMPRS_QUALITY = 0
INST_CMPRS_QUANTZ_TBL_ID = 0
INSTRUMENT_TEMPERATURE = 11.6418
LENS_TEMPERATURE = 8.5833
MACROPIXEL_SIZE = 1
MISSING_FRAMES = 0
PIXEL_SUBSAMPLING_FLAG = N
SIGNAL_CHAIN_ID = 0
/* RADIOMETRIC DATA ELEMENTS */
BANDWIDTH = 177.0
CENTER_FILTER_WAVELENGTH = 677.5
RADIANCE_OFFSET = 3.47302
RADIANCE_SCALING_FACTOR = 0.0133359
REFLECTANCE_SCALING_FACTOR = 0.000361432
MEX:REFLECTANCE_OFFSET = 0.0941261
/* IMAGE OBJECT DEFINITIONS */
OBJECT = IMAGE
  INTERCHANGE_FORMAT = BINARY
  LINES = 1676
  LINE_SAMPLES = 5825
  SAMPLE_TYPE = UNSIGNED_INTEGER
  SAMPLE_BITS = 8
  BANDS = 1
  BAND_STORAGE_TYPE = BAND_SEQUENTIAL
  MAXIMUM = 254
  MEAN = 124.145
  MINIMUM = 1
  STANDARD_DEVIATION = 18.2002
END_OBJECT = IMAGE
/* MAP OBJECT DEFINITIONS */
OBJECT = IMAGE_MAP_PROJECTION
  ^DATA_SET_MAP_PROJECTION_CATALOG= "DSMAP.CAT"
  A_AXIS_RADIUS = 3396.0
  B_AXIS_RADIUS = 3396.0
  C_AXIS_RADIUS = 3396.0
  CENTER_LATITUDE = 0.0
  CENTER_LONGITUDE = 208.0
  COORDINATE_SYSTEM_NAME = PLANETOGRAPHIC
  COORDINATE_SYSTEM_TYPE = "BODY-FIXED ROTATING"
  EASTERNMOST_LONGITUDE = 209.134
  FIRST_STANDARD_PARALLEL = "N/A"
  LINE_FIRST_PIXEL = 1
  LINE_LAST_PIXEL = 1676
  LINE_PROJECTION_OFFSET = -128925.0
  MAP_PROJECTION_ROTATION = 0.0
  MAP_PROJECTION_TYPE = SINUSOIDAL
  MAP_RESOLUTION = 4741.71043093333
  MAP_SCALE = 0.0125
  MAXIMUM_LATITUDE = -27.1888
  MINIMUM_LATITUDE = -27.5429
  POSITIVE_LONGITUDE_DIRECTION = EAST
  REFERENCE_LATITUDE = "N/A"
  REFERENCE_LONGITUDE = "N/A"
  SAMPLE_FIRST_PIXEL = 1
  SAMPLE_LAST_PIXEL = 5825
  SAMPLE_PROJECTION_OFFSET = 894.0
  SECOND_STANDARD_PARALLEL = "N/A"
  WESTERNMOST_LONGITUDE = 207.825
END_OBJECT = IMAGE_MAP_PROJECTION
/* The JPEG2000 image data file associated with this label. */
OBJECT = COMPRESSED_FILE
  FILE_NAME = "HG769_0000_ND3.JP2"
  RECORD_TYPE = UNDEFINED
  FILE_RECORDS = UNK
  ENCODING_TYPE = "JP2"
  INTERCHANGE_FORMAT = BINARY
  UNCOMPRESSED_FILE_NAME = "HG769_0000_ND3.IMG"
  REQUIRED_STORAGE_BYTES = "9791825"
  ^DESCRIPTION = "JP2INFO.TXT"
END_OBJECT = COMPRESSED_FILE
END
