PDS_VERSION_ID = PDS3
/* FILE DATA ELEMENTS */
RECORD_TYPE = STREAM
/* POINTERS TO DATA OBJECTS */
^COMPRESSED_FILE = "HG772_0000_IR3.JP2"
/* IDENTIFICATION DATA ELEMENTS */
DATA_SET_ID = "MEX-M-HRSC-5-REFDR-MAPPROJECTED-V3.0"
DATA_SET_NAME = "MARS EXPRESS HRSC MAP PROJECTED REFDR V3.0"
DETECTOR_ID = MEX_HRSC_IR
EVENT_TYPE = "MARS-REGIONAL-MAPPING-Te-Fl-Gl"
INSTRUMENT_HOST_ID = MEX
INSTRUMENT_HOST_NAME = "MARS EXPRESS"
INSTRUMENT_ID = HRSC
INSTRUMENT_NAME = "HIGH RESOLUTION STEREO CAMERA"
MISSION_NAME = "MARS EXPRESS"
MISSION_PHASE_NAME = ME_Phase_36
PROCESSING_LEVEL_ID = 3
PRODUCT_CREATION_TIME = 2018-06-28T11:48:36.000Z
PRODUCT_ID = "HG772_0000_IR3.JP2"
RELEASE_ID = 0138
REVISION_ID = 0000
/* QUALITY DATA ELEMENTS */
DATA_QUALITY_ID = 1
DATA_QUALITY_DESC = "Data calculated based on original SPICE kernels"
/* TIME DATA ELEMENTS */
SPACECRAFT_CLOCK_START_COUNT = "1/0438940410.09060"
SPACECRAFT_CLOCK_STOP_COUNT = "1/0438940608.34303"
START_TIME = 2017-03-30T07:53:44.366Z
STOP_TIME = 2017-03-30T07:55:59.765Z
/* ORBITAL DATA ELEMENTS */
ASCENDING_NODE_LONGITUDE = 258.9
MAXIMUM_RESOLUTION = 55.8
FOOTPRINT_POINT_LATITUDE = (-47.8826,-47.8738,-47.8651,-47.8579, -47.8482,-47.6715,-47.3632,-47.1576, -46.9524,-46.7464,-46.5414,-46.3501, -46.1789,-46.0123,-45.7522,-45.5734, -45.3152,-45.0569,-44.8842,-44.6252, -44.4527,-44.1937,-44.021,-43.8484, -43.6758,-43.5028,-43.3295,-43.1559, -42.9822,-42.808,-42.6343,-42.4598, -42.1992,-42.0235,-41.7626,-41.5883, -41.4147,-41.2403,-41.0647,-40.8922, -40.7201,-40.5525,-40.3798,-40.2059, -40.0333,-39.8604,-39.6883,-39.5176, -39.3433,-39.0827,-38.9431,-38.9484, -38.9513,-38.9515,-38.9546,-39.0412, -39.3014,-39.4753,-39.6488,-39.8225, -39.9928,-40.2513,-40.5093,-40.6812, -40.8567,-41.0373,-41.2115,-41.4705, -41.6433,-41.8167,-41.9901,-42.2516, -42.4264,-42.6896,-42.8653,-43.0409, -43.2155,-43.4769,-43.6503,-43.8236, -44.0835,-44.2569,-44.43,-44.6895, -45.0357,-45.2087,-45.4682,-45.6412, -45.8142,-46.0737,-46.2468,-46.4195, -46.6232,-46.8317,-47.0327,-47.2376, -47.4395,-47.6462,-47.8526,-47.8826)
FOOTPRINT_POINT_LONGITUDE = (261.709,261.281,260.906,260.62,260.263 ,260.059,260.086,260.103,260.121, 260.138,260.154,260.17,260.183,260.193, 260.214,260.23,260.249,260.268,260.28, 260.299,260.31,260.328,260.34,260.351, 260.362,260.373,260.384,260.396,260.407 ,260.418,260.429,260.44,260.455,260.467 ,260.482,260.492,260.502,260.512, 260.522,260.531,260.539,260.545,260.553 ,260.562,260.57,260.578,260.586,260.593 ,260.601,260.613,260.815,261.109, 261.375,261.668,261.905,262.118,262.115 ,262.114,262.112,262.11,262.107,262.104 ,262.1,262.097,262.096,262.098,262.096, 262.093,262.09,262.088,262.086,262.083, 262.082,262.08,262.079,262.077,262.076, 262.073,262.07,262.068,262.064,262.061, 262.059,262.054,262.049,262.046,262.042 ,262.039,262.036,262.031,262.028, 262.025,262.024,262.021,262.015,262.01, 262.004,262.0,261.996,261.709)
ORBIT_NUMBER = 16772
ORBITAL_ECCENTRICITY = 0.579
ORBITAL_INCLINATION = 86.94
ORBITAL_SEMIMAJOR_AXIS = 8838.6
PERIAPSIS_ALTITUDE = 330.44
PERIAPSIS_ARGUMENT_ANGLE = 328.1
PERIAPSIS_TIME = 2017-03-30T07:57:25.000Z
SPACECRAFT_ORIENTATION = (0.0,1.0,0.0)
^MEX_ORIENTATION_DESC = "MEX_ORIENTATION_DESC.TXT"
SPACECRAFT_POINTING_MODE = NADIR
^MEX_POINTING_DESC = "MEX_POINTING_DESC.TXT"
RIGHT_ASCENSION = -1e+32
DECLINATION = -1e+32
OFFSET_ANGLE = -1e+32
SPACECRAFT_SOLAR_DISTANCE = 2.26042e+08
TARGET_NAME = MARS
/* CAMERA DATA ELEMENTS */
DETECTOR_TEMPERATURE = 18.3705
FOCAL_PLANE_TEMPERATURE = 9.8067
INST_CMPRS_NAME = "DISCRETE COSINE TRANSFORMATION (DCT)"
INST_CMPRS_RATIO = 15.206
INST_CMPRS_QUALITY = 0
INST_CMPRS_QUANTZ_TBL_ID = 0
INSTRUMENT_TEMPERATURE = 12.4574
LENS_TEMPERATURE = 9.8067
MACROPIXEL_SIZE = 4
MISSING_FRAMES = 0
PIXEL_SUBSAMPLING_FLAG = N
SIGNAL_CHAIN_ID = 2
/* RADIOMETRIC DATA ELEMENTS */
BANDWIDTH = 81.0
CENTER_FILTER_WAVELENGTH = 955.5
RADIANCE_OFFSET = 0.735783
RADIANCE_SCALING_FACTOR = 0.00337448
REFLECTANCE_SCALING_FACTOR = 0.00037197
MEX:REFLECTANCE_OFFSET = 0.0811055
/* IMAGE OBJECT DEFINITIONS */
OBJECT = IMAGE
  INTERCHANGE_FORMAT = BINARY
  LINES = 10187
  LINE_SAMPLES = 1759
  SAMPLE_TYPE = UNSIGNED_INTEGER
  SAMPLE_BITS = 8
  BANDS = 1
  BAND_STORAGE_TYPE = BAND_SEQUENTIAL
  MAXIMUM = 255
  MEAN = 110.07
  MINIMUM = 1
  STANDARD_DEVIATION = 31.5665
END_OBJECT = IMAGE
/* MAP OBJECT DEFINITIONS */
OBJECT = IMAGE_MAP_PROJECTION
  ^DATA_SET_MAP_PROJECTION_CATALOG= "DSMAP.CAT"
  A_AXIS_RADIUS = 3396.0
  B_AXIS_RADIUS = 3396.0
  C_AXIS_RADIUS = 3396.0
  CENTER_LATITUDE = 0.0
  CENTER_LONGITUDE = 261.0
  COORDINATE_SYSTEM_NAME = PLANETOGRAPHIC
  COORDINATE_SYSTEM_TYPE = "BODY-FIXED ROTATING"
  EASTERNMOST_LONGITUDE = 262.118
  FIRST_STANDARD_PARALLEL = "N/A"
  LINE_FIRST_PIXEL = 1
  LINE_LAST_PIXEL = 10187
  LINE_PROJECTION_OFFSET = -42304.625
  MAP_PROJECTION_ROTATION = 0.0
  MAP_PROJECTION_TYPE = SINUSOIDAL
  MAP_RESOLUTION = 1185.42760773333
  MAP_SCALE = 0.05
  MAXIMUM_LATITUDE = -38.9431
  MINIMUM_LATITUDE = -47.8826
  POSITIVE_LONGITUDE_DIRECTION = EAST
  REFERENCE_LATITUDE = "N/A"
  REFERENCE_LONGITUDE = "N/A"
  SAMPLE_FIRST_PIXEL = 1
  SAMPLE_LAST_PIXEL = 1759
  SAMPLE_PROJECTION_OFFSET = 614.625
  SECOND_STANDARD_PARALLEL = "N/A"
  WESTERNMOST_LONGITUDE = 260.059
END_OBJECT = IMAGE_MAP_PROJECTION
/* The JPEG2000 image data file associated with this label. */
OBJECT = COMPRESSED_FILE
  FILE_NAME = "HG772_0000_IR3.JP2"
  RECORD_TYPE = UNDEFINED
  FILE_RECORDS = UNK
  ENCODING_TYPE = "JP2"
  INTERCHANGE_FORMAT = BINARY
  UNCOMPRESSED_FILE_NAME = "HG772_0000_IR3.IMG"
  REQUIRED_STORAGE_BYTES = "17940041"
  ^DESCRIPTION = "JP2INFO.TXT"
END_OBJECT = COMPRESSED_FILE
END
