PDS_VERSION_ID = PDS3
/* FILE DATA ELEMENTS */
RECORD_TYPE = STREAM
/* POINTERS TO DATA OBJECTS */
^COMPRESSED_FILE = "HG776_0000_GR3.JP2"
/* IDENTIFICATION DATA ELEMENTS */
DATA_SET_ID = "MEX-M-HRSC-5-REFDR-MAPPROJECTED-V3.0"
DATA_SET_NAME = "MARS EXPRESS HRSC MAP PROJECTED REFDR V3.0"
DETECTOR_ID = MEX_HRSC_GREEN
EVENT_TYPE = "MARS-REGIONAL-MAPPING-Vo-Te-Fl"
INSTRUMENT_HOST_ID = MEX
INSTRUMENT_HOST_NAME = "MARS EXPRESS"
INSTRUMENT_ID = HRSC
INSTRUMENT_NAME = "HIGH RESOLUTION STEREO CAMERA"
MISSION_NAME = "MARS EXPRESS"
MISSION_PHASE_NAME = ME_Phase_36
PROCESSING_LEVEL_ID = 3
PRODUCT_CREATION_TIME = 2018-06-28T11:48:36.000Z
PRODUCT_ID = "HG776_0000_GR3.JP2"
RELEASE_ID = 0138
REVISION_ID = 0000
/* QUALITY DATA ELEMENTS */
DATA_QUALITY_ID = 1
DATA_QUALITY_DESC = "Data calculated based on original SPICE kernels"
/* TIME DATA ELEMENTS */
SPACECRAFT_CLOCK_START_COUNT = "1/0439041306.09040"
SPACECRAFT_CLOCK_STOP_COUNT = "1/0439041480.33214"
START_TIME = 2017-03-31T11:55:39.018Z
STOP_TIME = 2017-03-31T11:57:31.025Z
/* ORBITAL DATA ELEMENTS */
ASCENDING_NODE_LONGITUDE = 258.82
MAXIMUM_RESOLUTION = 105.3
FOOTPRINT_POINT_LATITUDE = (-34.4859,-34.4843,-34.4823,-34.4799, -34.4776,-34.4747,-34.3296,-34.1854, -34.0413,-33.8251,-33.6809,-33.4648, -33.2485,-33.1043,-32.96,-32.7438, -32.5277,-32.3835,-32.2394,-32.0232, -31.879,-31.6629,-31.5188,-31.3748, -31.2307,-31.0146,-30.8706,-30.7267, -30.5826,-30.4386,-30.2946,-30.1507, -29.9353,-29.7912,-29.6473,-29.5028, -29.359,-29.2152,-29.0715,-28.8558, -28.7123,-28.5684,-28.4247,-28.2811, -28.1375,-27.9938,-27.7785,-27.6349, -27.4196,-27.2759,-27.1532,-27.1563, -27.1577,-27.1586,-27.1605,-27.3041, -27.5196,-27.6633,-27.8071,-27.9508, -28.0946,-28.2384,-28.3822,-28.5261, -28.6699,-28.8138,-28.9578,-29.1017, -29.3177,-29.4616,-29.6776,-29.8219, -30.038,-30.1822,-30.3984,-30.5426, -30.7589,-30.9031,-31.0474,-31.2637, -31.4801,-31.6244,-31.7687,-31.9852, -32.1295,-32.2739,-32.4904,-32.6348, -32.7791,-32.9235,-33.1401,-33.2845, -33.4288,-33.5732,-33.7176,-33.862, -34.0787,-34.2231,-34.3675,-34.4859)
FOOTPRINT_POINT_LONGITUDE = (212.847,212.656,212.451,212.247, 212.068,211.863,211.633,211.636,211.64, 211.645,211.649,211.653,211.659,211.662 ,211.665,211.67,211.674,211.677,211.68, 211.684,211.687,211.691,211.694,211.696 ,211.699,211.702,211.705,211.707, 211.709,211.712,211.714,211.716,211.718 ,211.72,211.722,211.725,211.727,211.729 ,211.73,211.733,211.734,211.735,211.737 ,211.738,211.74,211.741,211.743,211.744 ,211.746,211.747,211.844,212.245, 212.513,212.842,213.045,213.044,213.044 ,213.043,213.043,213.042,213.042, 213.041,213.041,213.04,213.04,213.039, 213.038,213.038,213.037,213.036,213.035 ,213.035,213.034,213.034,213.033, 213.032,213.031,213.031,213.03,213.029, 213.028,213.027,213.027,213.026,213.025 ,213.024,213.023,213.023,213.022, 213.021,213.02,213.019,213.018,213.018, 213.017,213.016,213.015,213.014,213.013 ,212.847)
ORBIT_NUMBER = 16776
ORBITAL_ECCENTRICITY = 0.579
ORBITAL_INCLINATION = 86.96
ORBITAL_SEMIMAJOR_AXIS = 8829.07
PERIAPSIS_ALTITUDE = 330.36
PERIAPSIS_ARGUMENT_ANGLE = 327.41
PERIAPSIS_TIME = 2017-03-31T11:56:05.000Z
SPACECRAFT_ORIENTATION = (0.0,1.0,0.0)
^MEX_ORIENTATION_DESC = "MEX_ORIENTATION_DESC.TXT"
SPACECRAFT_POINTING_MODE = NADIR
^MEX_POINTING_DESC = "MEX_POINTING_DESC.TXT"
RIGHT_ASCENSION = -1e+32
DECLINATION = -1e+32
OFFSET_ANGLE = -1e+32
SPACECRAFT_SOLAR_DISTANCE = 2.2627e+08
TARGET_NAME = MARS
/* CAMERA DATA ELEMENTS */
DETECTOR_TEMPERATURE = 19.1861
FOCAL_PLANE_TEMPERATURE = 8.5833
INST_CMPRS_NAME = "DISCRETE COSINE TRANSFORMATION (DCT)"
INST_CMPRS_RATIO = 19.3311
INST_CMPRS_QUALITY = 0
INST_CMPRS_QUANTZ_TBL_ID = 0
INSTRUMENT_TEMPERATURE = 11.0301
LENS_TEMPERATURE = 8.7872
MACROPIXEL_SIZE = 8
MISSING_FRAMES = 0
PIXEL_SUBSAMPLING_FLAG = N
SIGNAL_CHAIN_ID = 2
/* RADIOMETRIC DATA ELEMENTS */
BANDWIDTH = 88.0
CENTER_FILTER_WAVELENGTH = 538.0
RADIANCE_OFFSET = 1.3394
RADIANCE_SCALING_FACTOR = 0.00423594
REFLECTANCE_SCALING_FACTOR = 0.000186721
MEX:REFLECTANCE_OFFSET = 0.059041
/* IMAGE OBJECT DEFINITIONS */
OBJECT = IMAGE
  INTERCHANGE_FORMAT = BINARY
  LINES = 4352
  LINE_SAMPLES = 775
  SAMPLE_TYPE = UNSIGNED_INTEGER
  SAMPLE_BITS = 8
  BANDS = 1
  BAND_STORAGE_TYPE = BAND_SEQUENTIAL
  MAXIMUM = 255
  MEAN = 127.128
  MINIMUM = 1
  STANDARD_DEVIATION = 30.7805
END_OBJECT = IMAGE
/* MAP OBJECT DEFINITIONS */
OBJECT = IMAGE_MAP_PROJECTION
  ^DATA_SET_MAP_PROJECTION_CATALOG= "DSMAP.CAT"
  A_AXIS_RADIUS = 3396.0
  B_AXIS_RADIUS = 3396.0
  C_AXIS_RADIUS = 3396.0
  CENTER_LATITUDE = 0.0
  CENTER_LONGITUDE = 212.0
  COORDINATE_SYSTEM_NAME = PLANETOGRAPHIC
  COORDINATE_SYSTEM_TYPE = "BODY-FIXED ROTATING"
  EASTERNMOST_LONGITUDE = 213.045
  FIRST_STANDARD_PARALLEL = "N/A"
  LINE_FIRST_PIXEL = 1
  LINE_LAST_PIXEL = 4352
  LINE_PROJECTION_OFFSET = -15704.5625
  MAP_PROJECTION_ROTATION = 0.0
  MAP_PROJECTION_TYPE = SINUSOIDAL
  MAP_RESOLUTION = 592.713803866667
  MAP_SCALE = 0.1
  MAXIMUM_LATITUDE = -27.1532
  MINIMUM_LATITUDE = -34.4859
  POSITIVE_LONGITUDE_DIRECTION = EAST
  REFERENCE_LATITUDE = "N/A"
  REFERENCE_LONGITUDE = "N/A"
  SAMPLE_FIRST_PIXEL = 1
  SAMPLE_LAST_PIXEL = 775
  SAMPLE_PROJECTION_OFFSET = 198.1875
  SECOND_STANDARD_PARALLEL = "N/A"
  WESTERNMOST_LONGITUDE = 211.633
END_OBJECT = IMAGE_MAP_PROJECTION
/* The JPEG2000 image data file associated with this label. */
OBJECT = COMPRESSED_FILE
  FILE_NAME = "HG776_0000_GR3.JP2"
  RECORD_TYPE = UNDEFINED
  FILE_RECORDS = UNK
  ENCODING_TYPE = "JP2"
  INTERCHANGE_FORMAT = BINARY
  UNCOMPRESSED_FILE_NAME = "HG776_0000_GR3.IMG"
  REQUIRED_STORAGE_BYTES = "3391400"
  ^DESCRIPTION = "JP2INFO.TXT"
END_OBJECT = COMPRESSED_FILE
END
