PDS_VERSION_ID = PDS3
/* FILE DATA ELEMENTS */
RECORD_TYPE = STREAM
/* POINTERS TO DATA OBJECTS */
^COMPRESSED_FILE = "HG776_0000_S13.JP2"
/* IDENTIFICATION DATA ELEMENTS */
DATA_SET_ID = "MEX-M-HRSC-5-REFDR-MAPPROJECTED-V3.0"
DATA_SET_NAME = "MARS EXPRESS HRSC MAP PROJECTED REFDR V3.0"
DETECTOR_ID = MEX_HRSC_S1
EVENT_TYPE = "MARS-REGIONAL-MAPPING-Vo-Te-Fl"
INSTRUMENT_HOST_ID = MEX
INSTRUMENT_HOST_NAME = "MARS EXPRESS"
INSTRUMENT_ID = HRSC
INSTRUMENT_NAME = "HIGH RESOLUTION STEREO CAMERA"
MISSION_NAME = "MARS EXPRESS"
MISSION_PHASE_NAME = ME_Phase_36
PROCESSING_LEVEL_ID = 3
PRODUCT_CREATION_TIME = 2018-06-28T11:48:36.000Z
PRODUCT_ID = "HG776_0000_S13.JP2"
RELEASE_ID = 0138
REVISION_ID = 0000
/* QUALITY DATA ELEMENTS */
DATA_QUALITY_ID = 1
DATA_QUALITY_DESC = "Data calculated based on original SPICE kernels"
/* TIME DATA ELEMENTS */
SPACECRAFT_CLOCK_START_COUNT = "1/0439041306.09040"
SPACECRAFT_CLOCK_STOP_COUNT = "1/0439041480.33214"
START_TIME = 2017-03-31T11:55:14.194Z
STOP_TIME = 2017-03-31T11:57:06.272Z
/* ORBITAL DATA ELEMENTS */
ASCENDING_NODE_LONGITUDE = 258.82
MAXIMUM_RESOLUTION = 28
FOOTPRINT_POINT_LATITUDE = (-37.6896,-37.6872,-37.6831,-37.68, -37.7074,-37.4143,-37.1933,-37.0456, -36.8242,-36.6766,-36.529,-36.3078, -36.1601,-36.0126,-35.8655,-35.7183, -35.5708,-35.4235,-35.2764,-35.1294, -34.9821,-34.8352,-34.6875,-34.5393, -34.3923,-34.2454,-34.0256,-33.879, -33.7328,-33.5864,-33.4403,-33.2938, -33.1469,-32.9269,-32.7805,-32.6351, -32.4889,-32.3429,-32.1238,-31.9776, -31.8317,-31.613,-31.4672,-31.2488, -31.1032,-30.9576,-30.8122,-30.6667, -30.4485,-30.3737,-30.3752,-30.3765, -30.3781,-30.3791,-30.5252,-30.6708, -30.8167,-30.9622,-31.108,-31.2539, -31.4726,-31.6916,-31.8377,-32.0569, -32.2764,-32.4228,-32.569,-32.7156, -32.9354,-33.0819,-33.2285,-33.3752, -33.522,-33.6688,-33.8157,-34.0362, -34.2566,-34.4038,-34.5509,-34.6982, -34.9191,-35.0662,-35.2137,-35.361, -35.5086,-35.6561,-35.8036,-35.9509, -36.0986,-36.2463,-36.3941,-36.5419, -36.6899,-36.8376,-36.9857,-37.2075, -37.3553,-37.5033,-37.6512,-37.6896)
FOOTPRINT_POINT_LONGITUDE = (212.669,212.458,212.136,211.912, 211.515,211.525,211.532,211.537,211.545 ,211.55,211.555,211.562,211.566,211.571 ,211.575,211.58,211.584,211.588,211.592 ,211.596,211.601,211.604,211.609, 211.613,211.617,211.62,211.626,211.629, 211.632,211.636,211.639,211.642,211.645 ,211.65,211.653,211.656,211.658,211.661 ,211.665,211.668,211.671,211.674, 211.677,211.68,211.683,211.685,211.687, 211.689,211.692,211.928,212.163,212.372 ,212.62,212.947,213.042,213.041,213.04, 213.04,213.039,213.038,213.037,213.035, 213.034,213.033,213.032,213.031,213.03, 213.029,213.028,213.027,213.026,213.025 ,213.024,213.023,213.022,213.02,213.019 ,213.018,213.017,213.016,213.014, 213.013,213.012,213.011,213.009,213.008 ,213.007,213.006,213.005,213.004, 213.002,213.001,213.0,212.999,212.997, 212.996,212.994,212.993,212.991, 212.669)
ORBIT_NUMBER = 16776
ORBITAL_ECCENTRICITY = 0.579
ORBITAL_INCLINATION = 86.96
ORBITAL_SEMIMAJOR_AXIS = 8829.07
PERIAPSIS_ALTITUDE = 330.36
PERIAPSIS_ARGUMENT_ANGLE = 327.41
PERIAPSIS_TIME = 2017-03-31T11:56:05.000Z
SPACECRAFT_ORIENTATION = (0.0,1.0,0.0)
^MEX_ORIENTATION_DESC = "MEX_ORIENTATION_DESC.TXT"
SPACECRAFT_POINTING_MODE = NADIR
^MEX_POINTING_DESC = "MEX_POINTING_DESC.TXT"
RIGHT_ASCENSION = -1e+32
DECLINATION = -1e+32
OFFSET_ANGLE = -1e+32
SPACECRAFT_SOLAR_DISTANCE = 2.2627e+08
TARGET_NAME = MARS
/* CAMERA DATA ELEMENTS */
DETECTOR_TEMPERATURE = 17.7588
FOCAL_PLANE_TEMPERATURE = 8.5833
INST_CMPRS_NAME = "DISCRETE COSINE TRANSFORMATION (DCT)"
INST_CMPRS_RATIO = 11.5382
INST_CMPRS_QUALITY = 0
INST_CMPRS_QUANTZ_TBL_ID = 0
INSTRUMENT_TEMPERATURE = 11.0301
LENS_TEMPERATURE = 8.7872
MACROPIXEL_SIZE = 2
MISSING_FRAMES = 0
PIXEL_SUBSAMPLING_FLAG = N
SIGNAL_CHAIN_ID = 1
/* RADIOMETRIC DATA ELEMENTS */
BANDWIDTH = 180.0
CENTER_FILTER_WAVELENGTH = 677.0
RADIANCE_OFFSET = 3.72251
RADIANCE_SCALING_FACTOR = 0.0121651
REFLECTANCE_SCALING_FACTOR = 0.000324944
MEX:REFLECTANCE_OFFSET = 0.0994329
/* IMAGE OBJECT DEFINITIONS */
OBJECT = IMAGE
  INTERCHANGE_FORMAT = BINARY
  LINES = 17405
  LINE_SAMPLES = 3099
  SAMPLE_TYPE = UNSIGNED_INTEGER
  SAMPLE_BITS = 8
  BANDS = 1
  BAND_STORAGE_TYPE = BAND_SEQUENTIAL
  MAXIMUM = 255
  MEAN = 109.771
  MINIMUM = 1
  STANDARD_DEVIATION = 21.3732
END_OBJECT = IMAGE
/* MAP OBJECT DEFINITIONS */
OBJECT = IMAGE_MAP_PROJECTION
  ^DATA_SET_MAP_PROJECTION_CATALOG= "DSMAP.CAT"
  A_AXIS_RADIUS = 3396.0
  B_AXIS_RADIUS = 3396.0
  C_AXIS_RADIUS = 3396.0
  CENTER_LATITUDE = 0.0
  CENTER_LONGITUDE = 212.0
  COORDINATE_SYSTEM_NAME = PLANETOGRAPHIC
  COORDINATE_SYSTEM_TYPE = "BODY-FIXED ROTATING"
  EASTERNMOST_LONGITUDE = 213.042
  FIRST_STANDARD_PARALLEL = "N/A"
  LINE_FIRST_PIXEL = 1
  LINE_LAST_PIXEL = 17405
  LINE_PROJECTION_OFFSET = -62816.75
  MAP_PROJECTION_ROTATION = 0.0
  MAP_PROJECTION_TYPE = SINUSOIDAL
  MAP_RESOLUTION = 2370.85521546667
  MAP_SCALE = 0.025
  MAXIMUM_LATITUDE = -30.3737
  MINIMUM_LATITUDE = -37.7074
  POSITIVE_LONGITUDE_DIRECTION = EAST
  REFERENCE_LATITUDE = "N/A"
  REFERENCE_LONGITUDE = "N/A"
  SAMPLE_FIRST_PIXEL = 1
  SAMPLE_LAST_PIXEL = 3099
  SAMPLE_PROJECTION_OFFSET = 794.25
  SECOND_STANDARD_PARALLEL = "N/A"
  WESTERNMOST_LONGITUDE = 211.515
END_OBJECT = IMAGE_MAP_PROJECTION
/* The JPEG2000 image data file associated with this label. */
OBJECT = COMPRESSED_FILE
  FILE_NAME = "HG776_0000_S13.JP2"
  RECORD_TYPE = UNDEFINED
  FILE_RECORDS = UNK
  ENCODING_TYPE = "JP2"
  INTERCHANGE_FORMAT = BINARY
  UNCOMPRESSED_FILE_NAME = "HG776_0000_S13.IMG"
  REQUIRED_STORAGE_BYTES = "53962887"
  ^DESCRIPTION = "JP2INFO.TXT"
END_OBJECT = COMPRESSED_FILE
END
