PDS_VERSION_ID = PDS3
/* FILE DATA ELEMENTS */
RECORD_TYPE = STREAM
/* POINTERS TO DATA OBJECTS */
^COMPRESSED_FILE = "HG778_0000_S23.JP2"
/* IDENTIFICATION DATA ELEMENTS */
DATA_SET_ID = "MEX-M-HRSC-5-REFDR-MAPPROJECTED-V3.0"
DATA_SET_NAME = "MARS EXPRESS HRSC MAP PROJECTED REFDR V3.0"
DETECTOR_ID = MEX_HRSC_S2
EVENT_TYPE = "MARS-REGIONAL-MAPPING-Im-Fl-Eo"
INSTRUMENT_HOST_ID = MEX
INSTRUMENT_HOST_NAME = "MARS EXPRESS"
INSTRUMENT_ID = HRSC
INSTRUMENT_NAME = "HIGH RESOLUTION STEREO CAMERA"
MISSION_NAME = "MARS EXPRESS"
MISSION_PHASE_NAME = ME_Phase_36
PROCESSING_LEVEL_ID = 3
PRODUCT_CREATION_TIME = 2018-06-28T11:48:36.000Z
PRODUCT_ID = "HG778_0000_S23.JP2"
RELEASE_ID = 0138
REVISION_ID = 0000
/* QUALITY DATA ELEMENTS */
DATA_QUALITY_ID = 1
DATA_QUALITY_DESC = "Data calculated based on original SPICE kernels"
/* TIME DATA ELEMENTS */
SPACECRAFT_CLOCK_START_COUNT = "1/0439091585.07329"
SPACECRAFT_CLOCK_STOP_COUNT = "1/0439091859.46621"
START_TIME = 2017-04-01T01:53:13.155Z
STOP_TIME = 2017-04-01T01:56:44.875Z
/* ORBITAL DATA ELEMENTS */
ASCENDING_NODE_LONGITUDE = 258.79
MAXIMUM_RESOLUTION = 28
FOOTPRINT_POINT_LATITUDE = (-39.8106,-39.8066,-39.803,-39.7948, -39.7891,-39.6048,-39.3285,-39.0534, -38.6404,-38.365,-37.9507,-37.6731, -37.3962,-37.1184,-36.8407,-36.5624, -36.2845,-36.0122,-35.7429,-35.3389, -35.0689,-34.6646,-34.3933,-34.1204, -33.7107,-33.4375,-33.1661,-32.7566, -32.4851,-32.2036,-31.9291,-31.6644, -31.3907,-30.9795,-30.7056,-30.4307, -30.0185,-29.744,-29.4684,-29.0547, -28.7769,-28.5035,-28.2218,-27.8137, -27.537,-27.2645,-26.9883,-26.5728, -26.295,-26.0186,-26.022,-26.024, -26.0245,-26.0244,-26.302,-26.5806, -26.9921,-27.2689,-27.5454,-27.8216, -28.0988,-28.3733,-28.6533,-28.929, -29.2056,-29.4817,-29.7572,-30.1692, -30.4446,-30.7197,-30.9942,-31.2689, -31.5433,-31.8179,-32.0919,-32.367, -32.6403,-32.9091,-33.1828,-33.4586, -33.7314,-34.0033,-34.2764,-34.6844, -35.0904,-35.3623,-35.7689,-36.1756, -36.4497,-36.7308,-37.0111,-37.429, -37.7057,-38.1205,-38.3973,-38.6739, -38.9501,-39.3629,-39.6381,-39.8106)
FOOTPRINT_POINT_LONGITUDE = (8.3627,8.01393,7.77133,7.34713,7.10474 ,6.7902,6.80283,6.81568,6.83449,6.84679 ,6.86449,6.87558,6.88677,6.89745, 6.90801,6.9182,6.92834,6.93793,6.94732, 6.96106,6.96983,6.98289,6.99086,6.99812 ,7.00864,7.01547,7.0227,7.03251,7.03937 ,7.04285,7.04844,7.05705,7.06259, 7.07047,7.07559,7.08028,7.08708,7.09154 ,7.0955,7.10106,7.10399,7.10816,7.10956 ,7.11598,7.11863,7.12245,7.12497, 7.12814,7.12979,7.13148,7.50873,7.84837 ,8.08766,8.43227,8.43167,8.43067, 8.43119,8.43068,8.43018,8.42974,8.42888 ,8.42886,8.42693,8.42638,8.42545, 8.42459,8.42389,8.42308,8.42222,8.42137 ,8.42062,8.41972,8.41882,8.41778, 8.41683,8.41537,8.41449,8.4151,8.41386, 8.41172,8.41059,8.40965,8.40813,8.40627 ,8.40485,8.4033,8.40118,8.39874,8.39857 ,8.39617,8.39394,8.39125,8.38999,8.3879 ,8.3862,8.38438,8.38254,8.38009,8.3782, 8.3627)
ORBIT_NUMBER = 16778
ORBITAL_ECCENTRICITY = 0.579
ORBITAL_INCLINATION = 86.94
ORBITAL_SEMIMAJOR_AXIS = 8830.73
PERIAPSIS_ALTITUDE = 330.8
PERIAPSIS_ARGUMENT_ANGLE = 327.07
PERIAPSIS_TIME = 2017-04-01T01:55:31.000Z
SPACECRAFT_ORIENTATION = (0.0,1.0,0.0)
^MEX_ORIENTATION_DESC = "MEX_ORIENTATION_DESC.TXT"
SPACECRAFT_POINTING_MODE = NADIR
^MEX_POINTING_DESC = "MEX_POINTING_DESC.TXT"
RIGHT_ASCENSION = -1e+32
DECLINATION = -1e+32
OFFSET_ANGLE = -1e+32
SPACECRAFT_SOLAR_DISTANCE = 2.26384e+08
TARGET_NAME = MARS
/* CAMERA DATA ELEMENTS */
DETECTOR_TEMPERATURE = 18.5744
FOCAL_PLANE_TEMPERATURE = 8.3794
INST_CMPRS_NAME = "DISCRETE COSINE TRANSFORMATION (DCT)"
INST_CMPRS_RATIO = 13.6047
INST_CMPRS_QUALITY = 0
INST_CMPRS_QUANTZ_TBL_ID = 0
INSTRUMENT_TEMPERATURE = 11.6418
LENS_TEMPERATURE = 8.5833
MACROPIXEL_SIZE = 2
MISSING_FRAMES = 0
PIXEL_SUBSAMPLING_FLAG = N
SIGNAL_CHAIN_ID = 1
/* RADIOMETRIC DATA ELEMENTS */
BANDWIDTH = 178.0
CENTER_FILTER_WAVELENGTH = 679.0
RADIANCE_OFFSET = 3.98675
RADIANCE_SCALING_FACTOR = 0.0113214
REFLECTANCE_SCALING_FACTOR = 0.00030727
MEX:REFLECTANCE_OFFSET = 0.108203
/* IMAGE OBJECT DEFINITIONS */
OBJECT = IMAGE
  INTERCHANGE_FORMAT = BINARY
  LINES = 32594
  LINE_SAMPLES = 3253
  SAMPLE_TYPE = UNSIGNED_INTEGER
  SAMPLE_BITS = 8
  BANDS = 1
  BAND_STORAGE_TYPE = BAND_SEQUENTIAL
  MAXIMUM = 255
  MEAN = 128.285
  MINIMUM = 1
  STANDARD_DEVIATION = 24.9289
END_OBJECT = IMAGE
/* MAP OBJECT DEFINITIONS */
OBJECT = IMAGE_MAP_PROJECTION
  ^DATA_SET_MAP_PROJECTION_CATALOG= "DSMAP.CAT"
  A_AXIS_RADIUS = 3396.0
  B_AXIS_RADIUS = 3396.0
  C_AXIS_RADIUS = 3396.0
  CENTER_LATITUDE = 0.0
  CENTER_LONGITUDE = 8.0
  COORDINATE_SYSTEM_NAME = PLANETOGRAPHIC
  COORDINATE_SYSTEM_TYPE = "BODY-FIXED ROTATING"
  EASTERNMOST_LONGITUDE = 8.432270000000001
  FIRST_STANDARD_PARALLEL = "N/A"
  LINE_FIRST_PIXEL = 1
  LINE_LAST_PIXEL = 32594
  LINE_PROJECTION_OFFSET = -61636.75
  MAP_PROJECTION_ROTATION = 0.0
  MAP_PROJECTION_TYPE = SINUSOIDAL
  MAP_RESOLUTION = 2370.85521546667
  MAP_SCALE = 0.025
  MAXIMUM_LATITUDE = -26.0186
  MINIMUM_LATITUDE = -39.8106
  POSITIVE_LONGITUDE_DIRECTION = EAST
  REFERENCE_LATITUDE = "N/A"
  REFERENCE_LONGITUDE = "N/A"
  SAMPLE_FIRST_PIXEL = 1
  SAMPLE_LAST_PIXEL = 3253
  SAMPLE_PROJECTION_OFFSET = 2238.25
  SECOND_STANDARD_PARALLEL = "N/A"
  WESTERNMOST_LONGITUDE = 6.7902
END_OBJECT = IMAGE_MAP_PROJECTION
/* The JPEG2000 image data file associated with this label. */
OBJECT = COMPRESSED_FILE
  FILE_NAME = "HG778_0000_S23.JP2"
  RECORD_TYPE = UNDEFINED
  FILE_RECORDS = UNK
  ENCODING_TYPE = "JP2"
  INTERCHANGE_FORMAT = BINARY
  UNCOMPRESSED_FILE_NAME = "HG778_0000_S23.IMG"
  REQUIRED_STORAGE_BYTES = "106051053"
  ^DESCRIPTION = "JP2INFO.TXT"
END_OBJECT = COMPRESSED_FILE
END
