PDS_VERSION_ID = PDS3
/* FILE DATA ELEMENTS */
RECORD_TYPE = STREAM
/* POINTERS TO DATA OBJECTS */
^COMPRESSED_FILE = "HG781_0000_RE3.JP2"
/* IDENTIFICATION DATA ELEMENTS */
DATA_SET_ID = "MEX-M-HRSC-5-REFDR-MAPPROJECTED-V3.0"
DATA_SET_NAME = "MARS EXPRESS HRSC MAP PROJECTED REFDR V3.0"
DETECTOR_ID = MEX_HRSC_RED
EVENT_TYPE = "MARS-REGIONAL-MAPPING-Im-Gl-La"
INSTRUMENT_HOST_ID = MEX
INSTRUMENT_HOST_NAME = "MARS EXPRESS"
INSTRUMENT_ID = HRSC
INSTRUMENT_NAME = "HIGH RESOLUTION STEREO CAMERA"
MISSION_NAME = "MARS EXPRESS"
MISSION_PHASE_NAME = ME_Phase_36
PROCESSING_LEVEL_ID = 3
PRODUCT_CREATION_TIME = 2018-06-28T11:48:36.000Z
PRODUCT_ID = "HG781_0000_RE3.JP2"
RELEASE_ID = 0138
REVISION_ID = 0000
/* QUALITY DATA ELEMENTS */
DATA_QUALITY_ID = 1
DATA_QUALITY_DESC = "Data calculated based on original SPICE kernels"
/* TIME DATA ELEMENTS */
SPACECRAFT_CLOCK_START_COUNT = "1/0439167276.08291"
SPACECRAFT_CLOCK_STOP_COUNT = "1/0439167519.31422"
START_TIME = 2017-04-01T22:54:49.334Z
STOP_TIME = 2017-04-01T22:57:42.892Z
/* ORBITAL DATA ELEMENTS */
ASCENDING_NODE_LONGITUDE = 258.73
MAXIMUM_RESOLUTION = 56
FOOTPRINT_POINT_LATITUDE = (-30.8223,-30.8626,-30.889,-30.8502, -30.6315,-30.3053,-29.9785,-29.6526, -29.4348,-29.2091,-28.9852,-28.7594, -28.5314,-28.3063,-28.0779,-27.8412, -27.6132,-27.3875,-27.17,-26.942, -26.7047,-26.4792,-26.2509,-26.0226, -25.7907,-25.5649,-25.3358,-25.1066, -24.8779,-24.5364,-24.1943,-23.9655, -23.7415,-23.51,-23.2797,-23.0515, -22.8213,-22.5902,-22.361,-22.0173, -21.7888,-21.5605,-21.3347,-21.1053, -20.8783,-20.534,-20.3044,-20.0754, -19.7315,-19.5022,-19.4185,-19.3973, -19.3756,-19.3549,-19.6835,-19.9103, -20.1387,-20.4814,-20.7108,-20.9372, -21.1652,-21.3952,-21.6252,-21.854, -22.0825,-22.3118,-22.5413,-22.7716, -23.0067,-23.3543,-23.5773,-23.8057, -24.0386,-24.2671,-24.6061,-24.8343, -25.0612,-25.2946,-25.5239,-25.8655, -26.0901,-26.3185,-26.6603,-26.8904, -27.1141,-27.3426,-27.5699,-27.9132, -28.1474,-28.3688,-28.5954,-28.8228, -29.1645,-29.3905,-29.7143,-29.9307, -30.1475,-30.365,-30.5851,-30.8223)
FOOTPRINT_POINT_LONGITUDE = (63.0475,62.4658,62.0495,61.6732, 61.6725,61.6704,61.6683,61.6655,61.6634 ,61.6618,61.6591,61.6573,61.6565, 61.6541,61.6532,61.656,61.6546,61.6521, 61.6456,61.644,61.6465,61.6434,61.6416, 61.6396,61.6391,61.6359,61.634,61.632, 61.6298,61.6256,61.6214,61.6189,61.6142 ,61.6126,61.6105,61.6074,61.605,61.603, 61.6,61.5955,61.5921,61.5885,61.584, 61.5808,61.5765,61.5716,61.5683,61.5646 ,61.5592,61.5555,61.8654,62.1714, 62.4838,62.7506,62.9487,62.9533,62.9562 ,62.9605,62.9625,62.9678,62.9714, 62.9728,62.9742,62.9771,62.9803,62.9826 ,62.9847,62.9859,62.9817,62.9811, 62.9908,62.9943,62.9925,62.9958,63.0053 ,63.009,63.0143,63.0118,63.0142,63.0206 ,63.0285,63.032,63.038,63.0393,63.0483, 63.0515,63.056,63.0599,63.056,63.0676, 63.0728,63.0769,63.0824,63.0871,63.1007 ,63.1091,63.1168,63.1237,63.1271, 63.0475)
ORBIT_NUMBER = 16781
ORBITAL_ECCENTRICITY = 0.579
ORBITAL_INCLINATION = 86.96
ORBITAL_SEMIMAJOR_AXIS = 8831.53
PERIAPSIS_ALTITUDE = 330.01
PERIAPSIS_ARGUMENT_ANGLE = 326.57
PERIAPSIS_TIME = 2017-04-01T22:54:36.000Z
SPACECRAFT_ORIENTATION = (0.0,1.0,0.0)
^MEX_ORIENTATION_DESC = "MEX_ORIENTATION_DESC.TXT"
SPACECRAFT_POINTING_MODE = ACROSSTRACK
^MEX_POINTING_DESC = "MEX_POINTING_DESC.TXT"
RIGHT_ASCENSION = -1e+32
DECLINATION = -1e+32
OFFSET_ANGLE = -1.25
SPACECRAFT_SOLAR_DISTANCE = 2.26555e+08
TARGET_NAME = MARS
/* CAMERA DATA ELEMENTS */
DETECTOR_TEMPERATURE = 18.5744
FOCAL_PLANE_TEMPERATURE = 8.7872
INST_CMPRS_NAME = "DISCRETE COSINE TRANSFORMATION (DCT)"
INST_CMPRS_RATIO = 18.914
INST_CMPRS_QUALITY = 0
INST_CMPRS_QUANTZ_TBL_ID = 0
INSTRUMENT_TEMPERATURE = 11.6418
LENS_TEMPERATURE = 9.195
MACROPIXEL_SIZE = 4
MISSING_FRAMES = 0
PIXEL_SUBSAMPLING_FLAG = N
SIGNAL_CHAIN_ID = 2
/* RADIOMETRIC DATA ELEMENTS */
BANDWIDTH = 48.0
CENTER_FILTER_WAVELENGTH = 748.0
RADIANCE_OFFSET = 1.07224
RADIANCE_SCALING_FACTOR = 0.00292744
REFLECTANCE_SCALING_FACTOR = 0.000342896
MEX:REFLECTANCE_OFFSET = 0.125593
/* IMAGE OBJECT DEFINITIONS */
OBJECT = IMAGE
  INTERCHANGE_FORMAT = BINARY
  LINES = 13579
  LINE_SAMPLES = 1741
  SAMPLE_TYPE = UNSIGNED_INTEGER
  SAMPLE_BITS = 8
  BANDS = 1
  BAND_STORAGE_TYPE = BAND_SEQUENTIAL
  MAXIMUM = 255
  MEAN = 123.572
  MINIMUM = 1
  STANDARD_DEVIATION = 37.3455
END_OBJECT = IMAGE
/* MAP OBJECT DEFINITIONS */
OBJECT = IMAGE_MAP_PROJECTION
  ^DATA_SET_MAP_PROJECTION_CATALOG= "DSMAP.CAT"
  A_AXIS_RADIUS = 3396.0
  B_AXIS_RADIUS = 3396.0
  C_AXIS_RADIUS = 3396.0
  CENTER_LATITUDE = 0.0
  CENTER_LONGITUDE = 62.0
  COORDINATE_SYSTEM_NAME = PLANETOGRAPHIC
  COORDINATE_SYSTEM_TYPE = "BODY-FIXED ROTATING"
  EASTERNMOST_LONGITUDE = 63.1271
  FIRST_STANDARD_PARALLEL = "N/A"
  LINE_FIRST_PIXEL = 1
  LINE_LAST_PIXEL = 13579
  LINE_PROJECTION_OFFSET = -22990.625
  MAP_PROJECTION_ROTATION = 0.0
  MAP_PROJECTION_TYPE = SINUSOIDAL
  MAP_RESOLUTION = 1185.42760773333
  MAP_SCALE = 0.05
  MAXIMUM_LATITUDE = -19.3549
  MINIMUM_LATITUDE = -30.889
  POSITIVE_LONGITUDE_DIRECTION = EAST
  REFERENCE_LATITUDE = "N/A"
  REFERENCE_LONGITUDE = "N/A"
  SAMPLE_FIRST_PIXEL = 1
  SAMPLE_LAST_PIXEL = 1741
  SAMPLE_PROJECTION_OFFSET = 527.875
  SECOND_STANDARD_PARALLEL = "N/A"
  WESTERNMOST_LONGITUDE = 61.5555
END_OBJECT = IMAGE_MAP_PROJECTION
/* The JPEG2000 image data file associated with this label. */
OBJECT = COMPRESSED_FILE
  FILE_NAME = "HG781_0000_RE3.JP2"
  RECORD_TYPE = UNDEFINED
  FILE_RECORDS = UNK
  ENCODING_TYPE = "JP2"
  INTERCHANGE_FORMAT = BINARY
  UNCOMPRESSED_FILE_NAME = "HG781_0000_RE3.IMG"
  REQUIRED_STORAGE_BYTES = "23661931"
  ^DESCRIPTION = "JP2INFO.TXT"
END_OBJECT = COMPRESSED_FILE
END
