PDS_VERSION_ID = PDS3
/* FILE DATA ELEMENTS */
RECORD_TYPE = STREAM
/* POINTERS TO DATA OBJECTS */
^COMPRESSED_FILE = "HG781_0000_S13.JP2"
/* IDENTIFICATION DATA ELEMENTS */
DATA_SET_ID = "MEX-M-HRSC-5-REFDR-MAPPROJECTED-V3.0"
DATA_SET_NAME = "MARS EXPRESS HRSC MAP PROJECTED REFDR V3.0"
DETECTOR_ID = MEX_HRSC_S1
EVENT_TYPE = "MARS-REGIONAL-MAPPING-Im-Gl-La"
INSTRUMENT_HOST_ID = MEX
INSTRUMENT_HOST_NAME = "MARS EXPRESS"
INSTRUMENT_ID = HRSC
INSTRUMENT_NAME = "HIGH RESOLUTION STEREO CAMERA"
MISSION_NAME = "MARS EXPRESS"
MISSION_PHASE_NAME = ME_Phase_36
PROCESSING_LEVEL_ID = 3
PRODUCT_CREATION_TIME = 2018-06-28T11:48:36.000Z
PRODUCT_ID = "HG781_0000_S13.JP2"
RELEASE_ID = 0138
REVISION_ID = 0000
/* QUALITY DATA ELEMENTS */
DATA_QUALITY_ID = 1
DATA_QUALITY_DESC = "Data calculated based on original SPICE kernels"
/* TIME DATA ELEMENTS */
SPACECRAFT_CLOCK_START_COUNT = "1/0439167276.08291"
SPACECRAFT_CLOCK_STOP_COUNT = "1/0439167519.31422"
START_TIME = 2017-04-01T22:55:44.814Z
STOP_TIME = 2017-04-01T22:58:45.541Z
/* ORBITAL DATA ELEMENTS */
ASCENDING_NODE_LONGITUDE = 258.73
MAXIMUM_RESOLUTION = 29
FOOTPRINT_POINT_LATITUDE = (-30.841,-30.8262,-30.8116,-30.7971, -30.7826,-30.7682,-30.4926,-30.2663, -29.9268,-29.5867,-29.2472,-28.9067, -28.5713,-28.3451,-28.1228,-27.9097, -27.6907,-27.4682,-27.2337,-27.0083, -26.7977,-26.5753,-26.3548,-26.0241, -25.8079,-25.5855,-25.3661,-25.038, -24.8193,-24.5992,-24.2697,-24.0521, -23.8302,-23.5071,-23.29,-22.9646, -22.7511,-22.5354,-22.3198,-22.0648, -21.8073,-21.5491,-21.2884,-21.0346, -20.7776,-20.5235,-20.2698,-19.8889, -19.6363,-19.3613,-19.3821,-19.4021, -19.4152,-19.4319,-19.8216,-20.0768, -20.4592,-20.8432,-21.1009,-21.3564, -21.6113,-21.9973,-22.2549,-22.4935, -22.709,-22.9241,-23.1288,-23.4579, -23.6805,-23.8982,-24.2203,-24.4387, -24.6641,-24.8826,-25.1038,-25.4273, -25.6467,-25.8678,-26.093,-26.3141, -26.5356,-26.8662,-27.091,-27.313, -27.5353,-27.7569,-27.9769,-28.1954, -28.4241,-28.6476,-28.8695,-29.0936, -29.433,-29.6603,-30.0024,-30.23, -30.4554,-30.6791,-30.9068,-30.841)
FOOTPRINT_POINT_LONGITUDE = (62.8427,62.6157,62.3926,62.1735, 61.9581,61.7461,61.6646,61.6627,61.6595 ,61.6557,61.6518,61.6472,61.6443, 61.6412,61.6395,61.6412,61.6403,61.638, 61.6309,61.6272,61.629,61.6261,61.6237, 61.6199,61.6188,61.6153,61.6126,61.6088 ,61.606,61.6026,61.5974,61.5946,61.59, 61.5863,61.583,61.578,61.5756,61.5723, 61.5688,61.5645,61.56,61.555,61.549, 61.545,61.5398,61.5353,61.5307,61.5233, 61.5186,61.6357,62.0119,62.3547,62.5875 ,62.8692,62.9987,63.0014,63.0044, 63.0082,63.012,63.0133,63.0137,63.0172, 63.0194,63.0209,63.0219,63.0223,63.0118 ,63.0181,63.0253,63.0273,63.0251, 63.0273,63.0366,63.0383,63.0428,63.0403 ,63.0422,63.0459,63.0536,63.0568, 63.0603,63.0633,63.0698,63.073,63.0764, 63.0789,63.0793,63.078,63.0877,63.0914, 63.0933,63.0974,63.1068,63.1141,63.1259 ,63.1332,63.1377,63.1402,63.147, 62.8427)
ORBIT_NUMBER = 16781
ORBITAL_ECCENTRICITY = 0.579
ORBITAL_INCLINATION = 86.96
ORBITAL_SEMIMAJOR_AXIS = 8831.53
PERIAPSIS_ALTITUDE = 330.01
PERIAPSIS_ARGUMENT_ANGLE = 326.57
PERIAPSIS_TIME = 2017-04-01T22:54:36.000Z
SPACECRAFT_ORIENTATION = (0.0,1.0,0.0)
^MEX_ORIENTATION_DESC = "MEX_ORIENTATION_DESC.TXT"
SPACECRAFT_POINTING_MODE = ACROSSTRACK
^MEX_POINTING_DESC = "MEX_POINTING_DESC.TXT"
RIGHT_ASCENSION = -1e+32
DECLINATION = -1e+32
OFFSET_ANGLE = -1.25
SPACECRAFT_SOLAR_DISTANCE = 2.26555e+08
TARGET_NAME = MARS
/* CAMERA DATA ELEMENTS */
DETECTOR_TEMPERATURE = 17.5549
FOCAL_PLANE_TEMPERATURE = 8.7872
INST_CMPRS_NAME = "DISCRETE COSINE TRANSFORMATION (DCT)"
INST_CMPRS_RATIO = 9.43386
INST_CMPRS_QUALITY = 0
INST_CMPRS_QUANTZ_TBL_ID = 0
INSTRUMENT_TEMPERATURE = 11.6418
LENS_TEMPERATURE = 9.195
MACROPIXEL_SIZE = 2
MISSING_FRAMES = 0
PIXEL_SUBSAMPLING_FLAG = N
SIGNAL_CHAIN_ID = 1
/* RADIOMETRIC DATA ELEMENTS */
BANDWIDTH = 180.0
CENTER_FILTER_WAVELENGTH = 677.0
RADIANCE_OFFSET = 3.81702
RADIANCE_SCALING_FACTOR = 0.0127511
REFLECTANCE_SCALING_FACTOR = 0.000341458
MEX:REFLECTANCE_OFFSET = 0.102215
/* IMAGE OBJECT DEFINITIONS */
OBJECT = IMAGE
  INTERCHANGE_FORMAT = BINARY
  LINES = 27158
  LINE_SAMPLES = 3481
  SAMPLE_TYPE = UNSIGNED_INTEGER
  SAMPLE_BITS = 8
  BANDS = 1
  BAND_STORAGE_TYPE = BAND_SEQUENTIAL
  MAXIMUM = 255
  MEAN = 153.133
  MINIMUM = 1
  STANDARD_DEVIATION = 31.0243
END_OBJECT = IMAGE
/* MAP OBJECT DEFINITIONS */
OBJECT = IMAGE_MAP_PROJECTION
  ^DATA_SET_MAP_PROJECTION_CATALOG= "DSMAP.CAT"
  A_AXIS_RADIUS = 3396.0
  B_AXIS_RADIUS = 3396.0
  C_AXIS_RADIUS = 3396.0
  CENTER_LATITUDE = 0.0
  CENTER_LONGITUDE = 62.0
  COORDINATE_SYSTEM_NAME = PLANETOGRAPHIC
  COORDINATE_SYSTEM_TYPE = "BODY-FIXED ROTATING"
  EASTERNMOST_LONGITUDE = 63.147
  FIRST_STANDARD_PARALLEL = "N/A"
  LINE_FIRST_PIXEL = 1
  LINE_LAST_PIXEL = 27158
  LINE_PROJECTION_OFFSET = -45980.75
  MAP_PROJECTION_ROTATION = 0.0
  MAP_PROJECTION_TYPE = SINUSOIDAL
  MAP_RESOLUTION = 2370.85521546667
  MAP_SCALE = 0.025
  MAXIMUM_LATITUDE = -19.3613
  MINIMUM_LATITUDE = -30.9068
  POSITIVE_LONGITUDE_DIRECTION = EAST
  REFERENCE_LATITUDE = "N/A"
  REFERENCE_LONGITUDE = "N/A"
  SAMPLE_FIRST_PIXEL = 1
  SAMPLE_LAST_PIXEL = 3481
  SAMPLE_PROJECTION_OFFSET = 1056.25
  SECOND_STANDARD_PARALLEL = "N/A"
  WESTERNMOST_LONGITUDE = 61.5186
END_OBJECT = IMAGE_MAP_PROJECTION
/* The JPEG2000 image data file associated with this label. */
OBJECT = COMPRESSED_FILE
  FILE_NAME = "HG781_0000_S13.JP2"
  RECORD_TYPE = UNDEFINED
  FILE_RECORDS = UNK
  ENCODING_TYPE = "JP2"
  INTERCHANGE_FORMAT = BINARY
  UNCOMPRESSED_FILE_NAME = "HG781_0000_S13.IMG"
  REQUIRED_STORAGE_BYTES = "94561365"
  ^DESCRIPTION = "JP2INFO.TXT"
END_OBJECT = COMPRESSED_FILE
END
