PDS_VERSION_ID = PDS3
/* FILE DATA ELEMENTS */
RECORD_TYPE = STREAM
/* POINTERS TO DATA OBJECTS */
^COMPRESSED_FILE = "HG781_0000_S23.JP2"
/* IDENTIFICATION DATA ELEMENTS */
DATA_SET_ID = "MEX-M-HRSC-5-REFDR-MAPPROJECTED-V3.0"
DATA_SET_NAME = "MARS EXPRESS HRSC MAP PROJECTED REFDR V3.0"
DETECTOR_ID = MEX_HRSC_S2
EVENT_TYPE = "MARS-REGIONAL-MAPPING-Im-Gl-La"
INSTRUMENT_HOST_ID = MEX
INSTRUMENT_HOST_NAME = "MARS EXPRESS"
INSTRUMENT_ID = HRSC
INSTRUMENT_NAME = "HIGH RESOLUTION STEREO CAMERA"
MISSION_NAME = "MARS EXPRESS"
MISSION_PHASE_NAME = ME_Phase_36
PROCESSING_LEVEL_ID = 3
PRODUCT_CREATION_TIME = 2018-06-28T11:48:36.000Z
PRODUCT_ID = "HG781_0000_S23.JP2"
RELEASE_ID = 0138
REVISION_ID = 0000
/* QUALITY DATA ELEMENTS */
DATA_QUALITY_ID = 1
DATA_QUALITY_DESC = "Data calculated based on original SPICE kernels"
/* TIME DATA ELEMENTS */
SPACECRAFT_CLOCK_START_COUNT = "1/0439167276.08291"
SPACECRAFT_CLOCK_STOP_COUNT = "1/0439167519.31422"
START_TIME = 2017-04-01T22:54:44.165Z
STOP_TIME = 2017-04-01T22:57:37.293Z
/* ORBITAL DATA ELEMENTS */
ASCENDING_NODE_LONGITUDE = 258.73
MAXIMUM_RESOLUTION = 28.5
FOOTPRINT_POINT_LATITUDE = (-30.817,-30.8536,-30.8877,-30.9182, -30.7413,-30.5217,-30.3051,-30.0862, -29.8688,-29.5427,-29.216,-28.995, -28.7686,-28.5405,-28.3146,-27.9634, -27.7306,-27.5032,-27.2854,-26.9409, -26.7053,-26.3642,-26.1358,-25.9034, -25.5595,-25.329,-24.9836,-24.7543, -24.5263,-24.2967,-24.0661,-23.8401, -23.4919,-23.2612,-23.0322,-22.7982, -22.5662,-22.3355,-21.9893,-21.7594, -21.5292,-21.3023,-21.071,-20.7271, -20.4953,-20.2637,-20.0329,-19.686, -19.4547,-19.4349,-19.4097,-19.3924, -19.3739,-19.3462,-19.6811,-19.9093, -20.1401,-20.4854,-20.7173,-20.9438, -21.1733,-21.4051,-21.6371,-21.8675, -22.0975,-22.3284,-22.5597,-22.7918, -23.0338,-23.2687,-23.4891,-23.7179, -23.9535,-24.2984,-24.6381,-24.8669, -25.0957,-25.3318,-25.562,-25.9033, -26.1301,-26.3589,-26.703,-27.0442, -27.2728,-27.5006,-27.7299,-27.9612, -28.194,-28.4168,-28.6445,-28.8732, -29.2091,-29.5346,-29.7506,-29.9681, -30.1842,-30.4033,-30.6243,-30.817)
FOOTPRINT_POINT_LONGITUDE = (63.0539,62.6138,62.1746,61.7498, 61.6718,61.6714,61.6696,61.6686,61.6669 ,61.664,61.6612,61.6587,61.6569,61.6558 ,61.6537,61.6551,61.6553,61.6533, 61.6475,61.6455,61.6463,61.6425,61.6403 ,61.6394,61.6362,61.6343,61.6313, 61.6287,61.6256,61.623,61.6207,61.6166, 61.6136,61.611,61.6077,61.6061,61.6037, 61.6007,61.5962,61.5927,61.5894,61.5848 ,61.5816,61.5757,61.5725,61.5692, 61.5656,61.5602,61.5565,61.7628,62.0914 ,62.293,62.5238,62.8169,62.9521,62.9568 ,62.9592,62.9637,62.9651,62.9715, 62.9753,62.9769,62.9783,62.9812,62.9845 ,62.987,62.9891,62.9904,62.9822,62.9808 ,62.9933,62.9978,62.9956,63.0006, 63.0106,63.015,63.0194,63.0165,63.0195, 63.0277,63.0339,63.0381,63.0434,63.0516 ,63.0558,63.0608,63.0642,63.0655, 63.0653,63.075,63.0799,63.0836,63.0896, 63.1014,63.1102,63.1174,63.1259,63.1314 ,63.1346,63.0539)
ORBIT_NUMBER = 16781
ORBITAL_ECCENTRICITY = 0.579
ORBITAL_INCLINATION = 86.96
ORBITAL_SEMIMAJOR_AXIS = 8831.53
PERIAPSIS_ALTITUDE = 330.01
PERIAPSIS_ARGUMENT_ANGLE = 326.57
PERIAPSIS_TIME = 2017-04-01T22:54:36.000Z
SPACECRAFT_ORIENTATION = (0.0,1.0,0.0)
^MEX_ORIENTATION_DESC = "MEX_ORIENTATION_DESC.TXT"
SPACECRAFT_POINTING_MODE = ACROSSTRACK
^MEX_POINTING_DESC = "MEX_POINTING_DESC.TXT"
RIGHT_ASCENSION = -1e+32
DECLINATION = -1e+32
OFFSET_ANGLE = -1.25
SPACECRAFT_SOLAR_DISTANCE = 2.26555e+08
TARGET_NAME = MARS
/* CAMERA DATA ELEMENTS */
DETECTOR_TEMPERATURE = 18.5744
FOCAL_PLANE_TEMPERATURE = 8.7872
INST_CMPRS_NAME = "DISCRETE COSINE TRANSFORMATION (DCT)"
INST_CMPRS_RATIO = 11.3703
INST_CMPRS_QUALITY = 0
INST_CMPRS_QUANTZ_TBL_ID = 0
INSTRUMENT_TEMPERATURE = 11.6418
LENS_TEMPERATURE = 9.195
MACROPIXEL_SIZE = 2
MISSING_FRAMES = 0
PIXEL_SUBSAMPLING_FLAG = N
SIGNAL_CHAIN_ID = 1
/* RADIOMETRIC DATA ELEMENTS */
BANDWIDTH = 178.0
CENTER_FILTER_WAVELENGTH = 679.0
RADIANCE_OFFSET = 4.22422
RADIANCE_SCALING_FACTOR = 0.0106629
REFLECTANCE_SCALING_FACTOR = 0.000289836
MEX:REFLECTANCE_OFFSET = 0.114822
/* IMAGE OBJECT DEFINITIONS */
OBJECT = IMAGE
  INTERCHANGE_FORMAT = BINARY
  LINES = 27158
  LINE_SAMPLES = 3481
  SAMPLE_TYPE = UNSIGNED_INTEGER
  SAMPLE_BITS = 8
  BANDS = 1
  BAND_STORAGE_TYPE = BAND_SEQUENTIAL
  MAXIMUM = 255
  MEAN = 130.312
  MINIMUM = 1
  STANDARD_DEVIATION = 37.1752
END_OBJECT = IMAGE
/* MAP OBJECT DEFINITIONS */
OBJECT = IMAGE_MAP_PROJECTION
  ^DATA_SET_MAP_PROJECTION_CATALOG= "DSMAP.CAT"
  A_AXIS_RADIUS = 3396.0
  B_AXIS_RADIUS = 3396.0
  C_AXIS_RADIUS = 3396.0
  CENTER_LATITUDE = 0.0
  CENTER_LONGITUDE = 62.0
  COORDINATE_SYSTEM_NAME = PLANETOGRAPHIC
  COORDINATE_SYSTEM_TYPE = "BODY-FIXED ROTATING"
  EASTERNMOST_LONGITUDE = 63.1346
  FIRST_STANDARD_PARALLEL = "N/A"
  LINE_FIRST_PIXEL = 1
  LINE_LAST_PIXEL = 27158
  LINE_PROJECTION_OFFSET = -45980.75
  MAP_PROJECTION_ROTATION = 0.0
  MAP_PROJECTION_TYPE = SINUSOIDAL
  MAP_RESOLUTION = 2370.85521546667
  MAP_SCALE = 0.025
  MAXIMUM_LATITUDE = -19.3462
  MINIMUM_LATITUDE = -30.9182
  POSITIVE_LONGITUDE_DIRECTION = EAST
  REFERENCE_LATITUDE = "N/A"
  REFERENCE_LONGITUDE = "N/A"
  SAMPLE_FIRST_PIXEL = 1
  SAMPLE_LAST_PIXEL = 3481
  SAMPLE_PROJECTION_OFFSET = 1056.25
  SECOND_STANDARD_PARALLEL = "N/A"
  WESTERNMOST_LONGITUDE = 61.5565
END_OBJECT = IMAGE_MAP_PROJECTION
/* The JPEG2000 image data file associated with this label. */
OBJECT = COMPRESSED_FILE
  FILE_NAME = "HG781_0000_S23.JP2"
  RECORD_TYPE = UNDEFINED
  FILE_RECORDS = UNK
  ENCODING_TYPE = "JP2"
  INTERCHANGE_FORMAT = BINARY
  UNCOMPRESSED_FILE_NAME = "HG781_0000_S23.IMG"
  REQUIRED_STORAGE_BYTES = "94561365"
  ^DESCRIPTION = "JP2INFO.TXT"
END_OBJECT = COMPRESSED_FILE
END
