PDS_VERSION_ID = PDS3
/* FILE DATA ELEMENTS */
RECORD_TYPE = STREAM
/* POINTERS TO DATA OBJECTS */
^COMPRESSED_FILE = "HG782_0000_S13.JP2"
/* IDENTIFICATION DATA ELEMENTS */
DATA_SET_ID = "MEX-M-HRSC-5-REFDR-MAPPROJECTED-V3.0"
DATA_SET_NAME = "MARS EXPRESS HRSC MAP PROJECTED REFDR V3.0"
DETECTOR_ID = MEX_HRSC_S1
EVENT_TYPE = "MARS-REGIONAL-MAPPING-Te-Fl"
INSTRUMENT_HOST_ID = MEX
INSTRUMENT_HOST_NAME = "MARS EXPRESS"
INSTRUMENT_ID = HRSC
INSTRUMENT_NAME = "HIGH RESOLUTION STEREO CAMERA"
MISSION_NAME = "MARS EXPRESS"
MISSION_PHASE_NAME = ME_Phase_36
PROCESSING_LEVEL_ID = 3
PRODUCT_CREATION_TIME = 2018-06-28T11:48:36.000Z
PRODUCT_ID = "HG782_0000_S13.JP2"
RELEASE_ID = 0138
REVISION_ID = 0000
/* QUALITY DATA ELEMENTS */
DATA_QUALITY_ID = 1
DATA_QUALITY_DESC = "Data calculated based on original SPICE kernels"
/* TIME DATA ELEMENTS */
SPACECRAFT_CLOCK_START_COUNT = "1/0439192457.07293"
SPACECRAFT_CLOCK_STOP_COUNT = "1/0439192615.15276"
START_TIME = 2017-04-02T05:54:25.164Z
STOP_TIME = 2017-04-02T05:55:59.269Z
/* ORBITAL DATA ELEMENTS */
ASCENDING_NODE_LONGITUDE = 258.71
MAXIMUM_RESOLUTION = 28
FOOTPRINT_POINT_LATITUDE = (-34.7927,-34.7934,-34.7939,-34.7943, -34.7944,-34.7943,-34.765,-34.5791, -34.4545,-34.3291,-34.2073,-34.0854, -33.9629,-33.7795,-33.6573,-33.4739, -33.3506,-33.2281,-33.1055,-32.9219, -32.7996,-32.616,-32.4321,-32.2495, -32.1289,-32.0075,-31.8854,-31.7626, -31.5773,-31.4556,-31.3338,-31.2127, -31.0304,-30.9089,-30.7872,-30.6048, -30.4226,-30.301,-30.1796,-29.9977, -29.8763,-29.7551,-29.5734,-29.3917, -29.2704,-29.0889,-28.9679,-28.8467, -28.7258,-28.7239,-28.723,-28.7215, -28.7205,-28.7187,-28.7165,-28.7149, -28.7749,-28.8958,-29.0166,-29.1374, -29.3192,-29.4405,-29.6226,-29.8046, -29.9259,-30.0479,-30.1694,-30.2911, -30.4125,-30.5347,-30.7168,-30.899, -31.0819,-31.265,-31.3874,-31.5093, -31.6315,-31.7539,-31.9375,-32.1214, -32.2449,-32.3673,-32.4884,-32.6706, -32.793,-32.9155,-33.0379,-33.16, -33.3433,-33.5268,-33.6493,-33.8336, -33.9566,-34.0795,-34.2638,-34.4474, -34.5708,-34.7028,-34.8299,-34.7927)
FOOTPRINT_POINT_LONGITUDE = (318.737,318.523,318.309,318.094, 317.879,317.662,317.491,317.498,317.502 ,317.507,317.51,317.512,317.516,317.52, 317.523,317.527,317.531,317.534,317.536 ,317.541,317.544,317.548,317.552, 317.556,317.557,317.559,317.562,317.565 ,317.57,317.572,317.574,317.576,317.579 ,317.581,317.583,317.586,317.589, 317.591,317.593,317.596,317.597,317.599 ,317.602,317.604,317.606,317.608,317.61 ,317.611,317.613,317.824,317.943,318.14 ,318.258,318.468,318.69,318.872,318.967 ,318.966,318.965,318.964,318.962, 318.961,318.959,318.958,318.957,318.955 ,318.954,318.953,318.952,318.951, 318.949,318.947,318.945,318.943,318.942 ,318.941,318.94,318.938,318.936,318.935 ,318.933,318.932,318.93,318.928,318.927 ,318.925,318.924,318.922,318.92,318.918 ,318.916,318.914,318.913,318.911, 318.909,318.906,318.905,318.905,318.904 ,318.737)
ORBIT_NUMBER = 16782
ORBITAL_ECCENTRICITY = 0.578
ORBITAL_INCLINATION = 86.96
ORBITAL_SEMIMAJOR_AXIS = 8825.99
PERIAPSIS_ALTITUDE = 330.48
PERIAPSIS_ARGUMENT_ANGLE = 326.41
PERIAPSIS_TIME = 2017-04-02T05:54:16.000Z
SPACECRAFT_ORIENTATION = (0.0,1.0,0.0)
^MEX_ORIENTATION_DESC = "MEX_ORIENTATION_DESC.TXT"
SPACECRAFT_POINTING_MODE = ACROSSTRACK
^MEX_POINTING_DESC = "MEX_POINTING_DESC.TXT"
RIGHT_ASCENSION = -1e+32
DECLINATION = -1e+32
OFFSET_ANGLE = 0.25
SPACECRAFT_SOLAR_DISTANCE = 2.26612e+08
TARGET_NAME = MARS
/* CAMERA DATA ELEMENTS */
DETECTOR_TEMPERATURE = 17.5549
FOCAL_PLANE_TEMPERATURE = 8.5833
INST_CMPRS_NAME = "DISCRETE COSINE TRANSFORMATION (DCT)"
INST_CMPRS_RATIO = 11.5611
INST_CMPRS_QUALITY = 0
INST_CMPRS_QUANTZ_TBL_ID = 0
INSTRUMENT_TEMPERATURE = 11.4379
LENS_TEMPERATURE = 9.195
MACROPIXEL_SIZE = 2
MISSING_FRAMES = 0
PIXEL_SUBSAMPLING_FLAG = N
SIGNAL_CHAIN_ID = 1
/* RADIOMETRIC DATA ELEMENTS */
BANDWIDTH = 180.0
CENTER_FILTER_WAVELENGTH = 677.0
RADIANCE_OFFSET = 4.18771
RADIANCE_SCALING_FACTOR = 0.00859311
REFLECTANCE_SCALING_FACTOR = 0.000230229
MEX:REFLECTANCE_OFFSET = 0.112198
/* IMAGE OBJECT DEFINITIONS */
OBJECT = IMAGE
  INTERCHANGE_FORMAT = BINARY
  LINES = 14720
  LINE_SAMPLES = 3096
  SAMPLE_TYPE = UNSIGNED_INTEGER
  SAMPLE_BITS = 8
  BANDS = 1
  BAND_STORAGE_TYPE = BAND_SEQUENTIAL
  MAXIMUM = 193
  MEAN = 91.8048
  MINIMUM = 1
  STANDARD_DEVIATION = 13.5417
END_OBJECT = IMAGE
/* MAP OBJECT DEFINITIONS */
OBJECT = IMAGE_MAP_PROJECTION
  ^DATA_SET_MAP_PROJECTION_CATALOG= "DSMAP.CAT"
  A_AXIS_RADIUS = 3396.0
  B_AXIS_RADIUS = 3396.0
  C_AXIS_RADIUS = 3396.0
  CENTER_LATITUDE = 0.0
  CENTER_LONGITUDE = 318.0
  COORDINATE_SYSTEM_NAME = PLANETOGRAPHIC
  COORDINATE_SYSTEM_TYPE = "BODY-FIXED ROTATING"
  EASTERNMOST_LONGITUDE = 318.967
  FIRST_STANDARD_PARALLEL = "N/A"
  LINE_FIRST_PIXEL = 1
  LINE_LAST_PIXEL = 14720
  LINE_PROJECTION_OFFSET = -58747.75
  MAP_PROJECTION_ROTATION = 0.0
  MAP_PROJECTION_TYPE = SINUSOIDAL
  MAP_RESOLUTION = 2370.85521546667
  MAP_SCALE = 0.025
  MAXIMUM_LATITUDE = -28.7149
  MINIMUM_LATITUDE = -34.8299
  POSITIVE_LONGITUDE_DIRECTION = EAST
  REFERENCE_LATITUDE = "N/A"
  REFERENCE_LONGITUDE = "N/A"
  SAMPLE_FIRST_PIXEL = 1
  SAMPLE_LAST_PIXEL = 3096
  SAMPLE_PROJECTION_OFFSET = 940.25
  SECOND_STANDARD_PARALLEL = "N/A"
  WESTERNMOST_LONGITUDE = 317.491
END_OBJECT = IMAGE_MAP_PROJECTION
/* The JPEG2000 image data file associated with this label. */
OBJECT = COMPRESSED_FILE
  FILE_NAME = "HG782_0000_S13.JP2"
  RECORD_TYPE = UNDEFINED
  FILE_RECORDS = UNK
  ENCODING_TYPE = "JP2"
  INTERCHANGE_FORMAT = BINARY
  UNCOMPRESSED_FILE_NAME = "HG782_0000_S13.IMG"
  REQUIRED_STORAGE_BYTES = "45597888"
  ^DESCRIPTION = "JP2INFO.TXT"
END_OBJECT = COMPRESSED_FILE
END
