PDS_VERSION_ID = PDS3
/* FILE DATA ELEMENTS */
RECORD_TYPE = STREAM
/* POINTERS TO DATA OBJECTS */
^COMPRESSED_FILE = "HG788_0000_S13.JP2"
/* IDENTIFICATION DATA ELEMENTS */
DATA_SET_ID = "MEX-M-HRSC-5-REFDR-MAPPROJECTED-V3.0"
DATA_SET_NAME = "MARS EXPRESS HRSC MAP PROJECTED REFDR V3.0"
DETECTOR_ID = MEX_HRSC_S1
EVENT_TYPE = "MARS-REGIONAL-MAPPING-Im-Gl-La"
INSTRUMENT_HOST_ID = MEX
INSTRUMENT_HOST_NAME = "MARS EXPRESS"
INSTRUMENT_ID = HRSC
INSTRUMENT_NAME = "HIGH RESOLUTION STEREO CAMERA"
MISSION_NAME = "MARS EXPRESS"
MISSION_PHASE_NAME = ME_Phase_36
PROCESSING_LEVEL_ID = 3
PRODUCT_CREATION_TIME = 2018-06-28T11:48:36.000Z
PRODUCT_ID = "HG788_0000_S13.JP2"
RELEASE_ID = 0138
REVISION_ID = 0000
/* QUALITY DATA ELEMENTS */
DATA_QUALITY_ID = 1
DATA_QUALITY_DESC = "Data calculated based on original SPICE kernels"
/* TIME DATA ELEMENTS */
SPACECRAFT_CLOCK_START_COUNT = "1/0439343560.64167"
SPACECRAFT_CLOCK_STOP_COUNT = "1/0439343806.57612"
START_TIME = 2017-04-03T23:53:48.952Z
STOP_TIME = 2017-04-03T23:55:38.245Z
/* ORBITAL DATA ELEMENTS */
ASCENDING_NODE_LONGITUDE = 258.6
MAXIMUM_RESOLUTION = 29
FOOTPRINT_POINT_LATITUDE = (-30.8087,-30.7997,-30.7907,-30.7816, -30.7725,-30.7632,-30.554,-30.4147, -30.2789,-30.1401,-30.0,-29.8591, -29.7161,-29.5029,-29.2871,-29.0744, -28.9321,-28.7911,-28.6477,-28.5081, -28.3687,-28.1584,-28.0181,-27.8794, -27.7383,-27.5968,-27.4573,-27.3181, -27.1794,-27.0405,-26.901,-26.7621, -26.6244,-26.4891,-26.3508,-26.2056, -26.0645,-25.9257,-25.7885,-25.6505, -25.5112,-25.3758,-25.2383,-25.0276, -24.8861,-24.7489,-24.5508,-24.4146, -24.2773,-24.0715,-23.8409,-23.8482, -23.8573,-23.868,-23.8756,-23.8845, -23.9582,-24.0933,-24.2992,-24.4364, -24.6422,-24.9133,-25.0585,-25.1972, -25.462,-25.6079,-25.7487,-25.8852, -26.0237,-26.163,-26.3021,-26.5091, -26.6478,-26.7863,-26.9925,-27.2072, -27.4248,-27.5621,-27.7004,-27.8377, -27.9755,-28.1861,-28.3277,-28.4676, -28.6111,-28.7549,-28.969,-29.1113, -29.2585,-29.4024,-29.541,-29.6818, -29.8217,-29.9621,-30.1029,-30.2437, -30.3811,-30.5175,-30.7252,-30.8087)
FOOTPRINT_POINT_LONGITUDE = (66.1704,65.9535,65.7387,65.5263, 65.3161,65.1077,65.008,65.0083,65.0086, 65.0087,65.0089,65.0089,65.0087,65.0084 ,65.0078,65.0074,65.007,65.0066,65.006, 65.0058,65.0055,65.0048,65.0043,65.0039 ,65.0032,65.0025,65.0019,65.0012, 65.0006,64.9999,64.9991,64.9983,64.9976 ,64.9971,64.9962,64.9947,64.9935, 64.9925,64.9915,64.9905,64.9893,64.9884 ,64.9872,64.9851,64.9836,64.9823, 64.9809,64.9797,64.9783,64.9761,65.0791 ,65.3461,65.5489,65.8085,65.9748, 66.2387,66.3841,66.3832,66.3841,66.3845 ,66.3851,66.383,66.3893,66.3904,66.3829 ,66.3895,66.3921,66.3913,66.3919, 66.3931,66.3941,66.3941,66.3947,66.3949 ,66.394,66.3996,66.4074,66.4064,66.4061 ,66.405,66.4041,66.4058,66.4079,66.4085 ,66.4119,66.4156,66.4196,66.422,66.4282 ,66.4317,66.4308,66.4317,66.4317, 66.4321,66.4327,66.4333,66.4339,66.4345 ,66.4352,66.1704)
ORBIT_NUMBER = 16788
ORBITAL_ECCENTRICITY = 0.579
ORBITAL_INCLINATION = 86.96
ORBITAL_SEMIMAJOR_AXIS = 8829.45
PERIAPSIS_ALTITUDE = 329.54
PERIAPSIS_ARGUMENT_ANGLE = 325.36
PERIAPSIS_TIME = 2017-04-03T23:52:22.000Z
SPACECRAFT_ORIENTATION = (0.0,1.0,0.0)
^MEX_ORIENTATION_DESC = "MEX_ORIENTATION_DESC.TXT"
SPACECRAFT_POINTING_MODE = ACROSSTRACK
^MEX_POINTING_DESC = "MEX_POINTING_DESC.TXT"
RIGHT_ASCENSION = -1e+32
DECLINATION = -1e+32
OFFSET_ANGLE = -0.75
SPACECRAFT_SOLAR_DISTANCE = 2.26954e+08
TARGET_NAME = MARS
/* CAMERA DATA ELEMENTS */
DETECTOR_TEMPERATURE = 0.0
FOCAL_PLANE_TEMPERATURE = 0.0
INST_CMPRS_NAME = "DISCRETE COSINE TRANSFORMATION (DCT)"
INST_CMPRS_RATIO = 10.6155
INST_CMPRS_QUALITY = 0
INST_CMPRS_QUANTZ_TBL_ID = 0
INSTRUMENT_TEMPERATURE = 0.0
LENS_TEMPERATURE = 0.0
MACROPIXEL_SIZE = 2
MISSING_FRAMES = 1
PIXEL_SUBSAMPLING_FLAG = N
SIGNAL_CHAIN_ID = 1
/* RADIOMETRIC DATA ELEMENTS */
BANDWIDTH = 180.0
CENTER_FILTER_WAVELENGTH = 677.0
RADIANCE_OFFSET = 4.57157
RADIANCE_SCALING_FACTOR = 0.0107197
REFLECTANCE_SCALING_FACTOR = 0.000288071
MEX:REFLECTANCE_OFFSET = 0.122852
/* IMAGE OBJECT DEFINITIONS */
OBJECT = IMAGE
  INTERCHANGE_FORMAT = BINARY
  LINES = 21551
  LINE_SAMPLES = 3232
  SAMPLE_TYPE = UNSIGNED_INTEGER
  SAMPLE_BITS = 8
  BANDS = 1
  BAND_STORAGE_TYPE = BAND_SEQUENTIAL
  MAXIMUM = 255
  MEAN = 136.345
  MINIMUM = 1
  STANDARD_DEVIATION = 27.3432
END_OBJECT = IMAGE
/* MAP OBJECT DEFINITIONS */
OBJECT = IMAGE_MAP_PROJECTION
  ^DATA_SET_MAP_PROJECTION_CATALOG= "DSMAP.CAT"
  A_AXIS_RADIUS = 3396.0
  B_AXIS_RADIUS = 3396.0
  C_AXIS_RADIUS = 3396.0
  CENTER_LATITUDE = 0.0
  CENTER_LONGITUDE = 66.0
  COORDINATE_SYSTEM_NAME = PLANETOGRAPHIC
  COORDINATE_SYSTEM_TYPE = "BODY-FIXED ROTATING"
  EASTERNMOST_LONGITUDE = 66.43519999999999
  FIRST_STANDARD_PARALLEL = "N/A"
  LINE_FIRST_PIXEL = 1
  LINE_LAST_PIXEL = 21551
  LINE_PROJECTION_OFFSET = -51535.75
  MAP_PROJECTION_ROTATION = 0.0
  MAP_PROJECTION_TYPE = SINUSOIDAL
  MAP_RESOLUTION = 2370.85521546667
  MAP_SCALE = 0.025
  MAXIMUM_LATITUDE = -23.8409
  MINIMUM_LATITUDE = -30.8087
  POSITIVE_LONGITUDE_DIRECTION = EAST
  REFERENCE_LATITUDE = "N/A"
  REFERENCE_LONGITUDE = "N/A"
  SAMPLE_FIRST_PIXEL = 1
  SAMPLE_LAST_PIXEL = 3232
  SAMPLE_PROJECTION_OFFSET = 2281.25
  SECOND_STANDARD_PARALLEL = "N/A"
  WESTERNMOST_LONGITUDE = 64.9761
END_OBJECT = IMAGE_MAP_PROJECTION
/* The JPEG2000 image data file associated with this label. */
OBJECT = COMPRESSED_FILE
  FILE_NAME = "HG788_0000_S13.JP2"
  RECORD_TYPE = UNDEFINED
  FILE_RECORDS = UNK
  ENCODING_TYPE = "JP2"
  INTERCHANGE_FORMAT = BINARY
  UNCOMPRESSED_FILE_NAME = "HG788_0000_S13.IMG"
  REQUIRED_STORAGE_BYTES = "69675456"
  ^DESCRIPTION = "JP2INFO.TXT"
END_OBJECT = COMPRESSED_FILE
END
