PDS_VERSION_ID = PDS3
/* FILE DATA ELEMENTS */
RECORD_TYPE = STREAM
/* POINTERS TO DATA OBJECTS */
^COMPRESSED_FILE = "HG795_0000_IR3.JP2"
/* IDENTIFICATION DATA ELEMENTS */
DATA_SET_ID = "MEX-M-HRSC-5-REFDR-MAPPROJECTED-V3.0"
DATA_SET_NAME = "MARS EXPRESS HRSC MAP PROJECTED REFDR V3.0"
DETECTOR_ID = MEX_HRSC_IR
EVENT_TYPE = "MARS-REGIONAL-MAPPING-Im-Gl-La"
INSTRUMENT_HOST_ID = MEX
INSTRUMENT_HOST_NAME = "MARS EXPRESS"
INSTRUMENT_ID = HRSC
INSTRUMENT_NAME = "HIGH RESOLUTION STEREO CAMERA"
MISSION_NAME = "MARS EXPRESS"
MISSION_PHASE_NAME = ME_Phase_36
PROCESSING_LEVEL_ID = 3
PRODUCT_CREATION_TIME = 2018-06-28T11:48:36.000Z
PRODUCT_ID = "HG795_0000_IR3.JP2"
RELEASE_ID = 0138
REVISION_ID = 0000
/* QUALITY DATA ELEMENTS */
DATA_QUALITY_ID = 1
DATA_QUALITY_DESC = "Data calculated based on original SPICE kernels"
/* TIME DATA ELEMENTS */
SPACECRAFT_CLOCK_START_COUNT = "1/0439519846.63476"
SPACECRAFT_CLOCK_STOP_COUNT = "1/0439520085.56921"
START_TIME = 2017-04-06T00:51:49.407Z
STOP_TIME = 2017-04-06T00:54:22.257Z
/* ORBITAL DATA ELEMENTS */
ASCENDING_NODE_LONGITUDE = 258.47
MAXIMUM_RESOLUTION = 57.3
FOOTPRINT_POINT_LATITUDE = (-30.7038,-30.698,-30.6917,-30.6511, -30.4659,-30.1891,-30.0045,-29.8186, -29.6284,-29.338,-29.1446,-28.856, -28.6631,-28.375,-28.1865,-27.9963, -27.8042,-27.6163,-27.427,-27.2389, -27.056,-26.8661,-26.6729,-26.4831, -26.2944,-26.1096,-25.9217,-25.64, -25.452,-25.1703,-24.8918,-24.7053, -24.5181,-24.3312,-24.1483,-23.9632, -23.7777,-23.5924,-23.4074,-23.2223, -22.9447,-22.7362,-22.5155,-22.298, -22.0783,-21.8542,-21.6335,-21.3064, -21.0614,-21.0636,-21.064,-21.0698, -21.0707,-21.1817,-21.3984,-21.6108, -21.8365,-22.1677,-22.4971,-22.719, -22.9328,-23.1176,-23.2985,-23.4858, -23.6714,-23.9516,-24.1393,-24.3266, -24.5091,-24.693,-24.879,-25.0676, -25.2548,-25.4431,-25.6304,-25.9111, -26.0996,-26.3826,-26.5679,-26.7578, -26.9443,-27.1373,-27.3272,-27.5227, -27.7065,-27.9898,-28.1791,-28.373, -28.5673,-28.7581,-28.9514,-29.1464, -29.3373,-29.5286,-29.7191,-30.0015, -30.1861,-30.3706,-30.5552,-30.7038)
FOOTPRINT_POINT_LONGITUDE = (69.4136,69.0096,68.6083,68.3157, 68.3174,68.3195,68.3209,68.3222,68.3234 ,68.3264,68.3283,68.3306,68.3322, 68.3342,68.3345,68.3353,68.3365,68.3365 ,68.3369,68.3369,68.3355,68.3359, 68.3371,68.3374,68.3374,68.3364,68.3361 ,68.3355,68.3352,68.3345,68.333,68.3321 ,68.3314,68.3306,68.3288,68.3275, 68.3262,68.3249,68.3235,68.3221,68.32, 68.318,68.3162,68.3136,68.3115,68.3105, 68.3085,68.3047,68.4595,68.7254,69.0585 ,69.3007,69.5425,69.7355,69.7337, 69.7294,69.7323,69.7322,69.7309,69.7311 ,69.7304,69.7297,69.7267,69.7272, 69.7267,69.7267,69.7271,69.7271,69.7243 ,69.7223,69.7213,69.7217,69.7212, 69.7212,69.7205,69.7192,69.719,69.7187, 69.7164,69.7166,69.7149,69.7168,69.7168 ,69.7199,69.7161,69.7148,69.7139, 69.7158,69.7178,69.7177,69.7189,69.721, 69.7206,69.7205,69.7197,69.7187,69.7179 ,69.7169,69.716,69.4136)
ORBIT_NUMBER = 16795
ORBITAL_ECCENTRICITY = 0.579
ORBITAL_INCLINATION = 86.96
ORBITAL_SEMIMAJOR_AXIS = 8827.54
PERIAPSIS_ALTITUDE = 329.22
PERIAPSIS_ARGUMENT_ANGLE = 324.15
PERIAPSIS_TIME = 2017-04-06T00:50:08.000Z
SPACECRAFT_ORIENTATION = (0.0,1.0,0.0)
^MEX_ORIENTATION_DESC = "MEX_ORIENTATION_DESC.TXT"
SPACECRAFT_POINTING_MODE = ACROSSTRACK
^MEX_POINTING_DESC = "MEX_POINTING_DESC.TXT"
RIGHT_ASCENSION = -1e+32
DECLINATION = -1e+32
OFFSET_ANGLE = -0.23
SPACECRAFT_SOLAR_DISTANCE = 2.27353e+08
TARGET_NAME = MARS
/* CAMERA DATA ELEMENTS */
DETECTOR_TEMPERATURE = 0.0
FOCAL_PLANE_TEMPERATURE = 0.0
INST_CMPRS_NAME = "DISCRETE COSINE TRANSFORMATION (DCT)"
INST_CMPRS_RATIO = 10.0866
INST_CMPRS_QUALITY = 0
INST_CMPRS_QUANTZ_TBL_ID = 0
INSTRUMENT_TEMPERATURE = 0.0
LENS_TEMPERATURE = 0.0
MACROPIXEL_SIZE = 4
MISSING_FRAMES = 0
PIXEL_SUBSAMPLING_FLAG = N
SIGNAL_CHAIN_ID = 2
/* RADIOMETRIC DATA ELEMENTS */
BANDWIDTH = 81.0
CENTER_FILTER_WAVELENGTH = 955.5
RADIANCE_OFFSET = 0.810706
RADIANCE_SCALING_FACTOR = 0.0034238
REFLECTANCE_SCALING_FACTOR = 0.000381802
MEX:REFLECTANCE_OFFSET = 0.0904053
/* IMAGE OBJECT DEFINITIONS */
OBJECT = IMAGE
  INTERCHANGE_FORMAT = BINARY
  LINES = 13289
  LINE_SAMPLES = 1657
  SAMPLE_TYPE = UNSIGNED_INTEGER
  SAMPLE_BITS = 8
  BANDS = 1
  BAND_STORAGE_TYPE = BAND_SEQUENTIAL
  MAXIMUM = 255
  MEAN = 122.034
  MINIMUM = 1
  STANDARD_DEVIATION = 29.1869
END_OBJECT = IMAGE
/* MAP OBJECT DEFINITIONS */
OBJECT = IMAGE_MAP_PROJECTION
  ^DATA_SET_MAP_PROJECTION_CATALOG= "DSMAP.CAT"
  A_AXIS_RADIUS = 3396.0
  B_AXIS_RADIUS = 3396.0
  C_AXIS_RADIUS = 3396.0
  CENTER_LATITUDE = 0.0
  CENTER_LONGITUDE = 69.0
  COORDINATE_SYSTEM_NAME = PLANETOGRAPHIC
  COORDINATE_SYSTEM_TYPE = "BODY-FIXED ROTATING"
  EASTERNMOST_LONGITUDE = 69.7355
  FIRST_STANDARD_PARALLEL = "N/A"
  LINE_FIRST_PIXEL = 1
  LINE_LAST_PIXEL = 13289
  LINE_PROJECTION_OFFSET = -23133.375
  MAP_PROJECTION_ROTATION = 0.0
  MAP_PROJECTION_TYPE = SINUSOIDAL
  MAP_RESOLUTION = 1185.42760773333
  MAP_SCALE = 0.05
  MAXIMUM_LATITUDE = -21.0614
  MINIMUM_LATITUDE = -30.7038
  POSITIVE_LONGITUDE_DIRECTION = EAST
  REFERENCE_LATITUDE = "N/A"
  REFERENCE_LONGITUDE = "N/A"
  SAMPLE_FIRST_PIXEL = 1
  SAMPLE_LAST_PIXEL = 1657
  SAMPLE_PROJECTION_OFFSET = 810.125
  SECOND_STANDARD_PARALLEL = "N/A"
  WESTERNMOST_LONGITUDE = 68.3047
END_OBJECT = IMAGE_MAP_PROJECTION
/* The JPEG2000 image data file associated with this label. */
OBJECT = COMPRESSED_FILE
  FILE_NAME = "HG795_0000_IR3.JP2"
  RECORD_TYPE = UNDEFINED
  FILE_RECORDS = UNK
  ENCODING_TYPE = "JP2"
  INTERCHANGE_FORMAT = BINARY
  UNCOMPRESSED_FILE_NAME = "HG795_0000_IR3.IMG"
  REQUIRED_STORAGE_BYTES = "22039757"
  ^DESCRIPTION = "JP2INFO.TXT"
END_OBJECT = COMPRESSED_FILE
END
