PDS_VERSION_ID = PDS3
/* FILE DATA ELEMENTS */
RECORD_TYPE = STREAM
/* POINTERS TO DATA OBJECTS */
^COMPRESSED_FILE = "HG803_0000_ND3.JP2"
/* IDENTIFICATION DATA ELEMENTS */
DATA_SET_ID = "MEX-M-HRSC-5-REFDR-MAPPROJECTED-V3.0"
DATA_SET_NAME = "MARS EXPRESS HRSC MAP PROJECTED REFDR V3.0"
DETECTOR_ID = MEX_HRSC_NADIR
EVENT_TYPE = "MARS-REGIONAL-MAPPING-Fl-Gl-Pf"
INSTRUMENT_HOST_ID = MEX
INSTRUMENT_HOST_NAME = "MARS EXPRESS"
INSTRUMENT_ID = HRSC
INSTRUMENT_NAME = "HIGH RESOLUTION STEREO CAMERA"
MISSION_NAME = "MARS EXPRESS"
MISSION_PHASE_NAME = ME_Phase_36
PROCESSING_LEVEL_ID = 3
PRODUCT_CREATION_TIME = 2018-06-28T11:48:36.000Z
PRODUCT_ID = "HG803_0000_ND3.JP2"
RELEASE_ID = 0138
REVISION_ID = 0000
/* QUALITY DATA ELEMENTS */
DATA_QUALITY_ID = 1
DATA_QUALITY_DESC = "Data calculated based on original SPICE kernels"
/* TIME DATA ELEMENTS */
SPACECRAFT_CLOCK_START_COUNT = "1/0439721049.07328"
SPACECRAFT_CLOCK_STOP_COUNT = "1/0439721215.07915"
START_TIME = 2017-04-08T08:44:50.684Z
STOP_TIME = 2017-04-08T08:46:31.666Z
/* ORBITAL DATA ELEMENTS */
ASCENDING_NODE_LONGITUDE = 258.32
MAXIMUM_RESOLUTION = 13.3
FOOTPRINT_POINT_LATITUDE = (-47.8795,-47.871,-47.8648,-47.8598, -47.8514,-47.8411,-47.7036,-47.5722, -47.4407,-47.3093,-47.1777,-47.0461, -46.9145,-46.7829,-46.6512,-46.4535, -46.3217,-46.1901,-46.058,-45.9261, -45.7281,-45.5961,-45.4639,-45.3318, -45.1996,-45.0674,-44.9352,-44.8029, -44.6045,-44.4722,-44.3398,-44.2074, -44.0749,-43.9425,-43.81,-43.6773, -43.4784,-43.3458,-43.2131,-43.0805, -42.9485,-42.6917,-42.4989,-42.242, -41.9205,-41.7275,-41.5344,-41.2773, -41.2825,-41.2889,-41.2933,-41.2965, -41.3007,-41.3706,-41.4996,-41.6285, -41.7575,-41.8865,-42.0155,-42.1444, -42.2733,-42.531,-42.7886,-42.9818, -43.1141,-43.2471,-43.4466,-43.5795, -43.7788,-43.9781,-44.1109,-44.2437, -44.3765,-44.5092,-44.6419,-44.7746, -44.9073,-45.0399,-45.1725,-45.305, -45.4375,-45.57,-45.7025,-45.8349, -45.9673,-46.0996,-46.2319,-46.3642, -46.4964,-46.6286,-46.7608,-46.8929, -47.0249,-47.157,-47.289,-47.4209, -47.5528,-47.6847,-47.8165,-47.8795)
FOOTPRINT_POINT_LONGITUDE = (330.596,330.187,329.921,329.725, 329.423,329.085,328.95,328.961,328.972, 328.984,328.994,329.005,329.016,329.026 ,329.037,329.052,329.063,329.076, 329.084,329.094,329.108,329.117,329.126 ,329.135,329.144,329.153,329.163, 329.171,329.185,329.194,329.202,329.211 ,329.22,329.228,329.236,329.243,329.254 ,329.263,329.27,329.278,329.286,329.302 ,329.312,329.328,329.347,329.356, 329.364,329.375,329.591,329.883,330.098 ,330.282,330.543,330.932,330.931,330.93 ,330.928,330.923,330.921,330.919, 330.916,330.912,330.908,330.905,330.903 ,330.901,330.896,330.895,330.893, 330.891,330.889,330.886,330.883,330.881 ,330.878,330.876,330.873,330.87,330.868 ,330.865,330.862,330.859,330.856, 330.854,330.851,330.848,330.845,330.841 ,330.839,330.836,330.832,330.829, 330.826,330.823,330.82,330.817,330.813, 330.808,330.806,330.596)
ORBIT_NUMBER = 16803
ORBITAL_ECCENTRICITY = 0.578
ORBITAL_INCLINATION = 86.96
ORBITAL_SEMIMAJOR_AXIS = 8820.02
PERIAPSIS_ALTITUDE = 329.61
PERIAPSIS_ARGUMENT_ANGLE = 322.78
PERIAPSIS_TIME = 2017-04-08T08:47:35.000Z
SPACECRAFT_ORIENTATION = (0.0,1.0,0.0)
^MEX_ORIENTATION_DESC = "MEX_ORIENTATION_DESC.TXT"
SPACECRAFT_POINTING_MODE = NADIR
^MEX_POINTING_DESC = "MEX_POINTING_DESC.TXT"
RIGHT_ASCENSION = -1e+32
DECLINATION = -1e+32
OFFSET_ANGLE = -1e+32
SPACECRAFT_SOLAR_DISTANCE = 2.27808e+08
TARGET_NAME = MARS
/* CAMERA DATA ELEMENTS */
DETECTOR_TEMPERATURE = 17.9627
FOCAL_PLANE_TEMPERATURE = 8.7872
INST_CMPRS_NAME = "DISCRETE COSINE TRANSFORMATION (DCT)"
INST_CMPRS_RATIO = 6.25935
INST_CMPRS_QUALITY = 0
INST_CMPRS_QUANTZ_TBL_ID = 0
INSTRUMENT_TEMPERATURE = 11.0301
LENS_TEMPERATURE = 9.195
MACROPIXEL_SIZE = 1
MISSING_FRAMES = 0
PIXEL_SUBSAMPLING_FLAG = N
SIGNAL_CHAIN_ID = 0
/* RADIOMETRIC DATA ELEMENTS */
BANDWIDTH = 177.0
CENTER_FILTER_WAVELENGTH = 677.5
RADIANCE_OFFSET = 3.7714
RADIANCE_SCALING_FACTOR = 0.00985987
REFLECTANCE_SCALING_FACTOR = 0.000271827
MEX:REFLECTANCE_OFFSET = 0.103974
/* IMAGE OBJECT DEFINITIONS */
OBJECT = IMAGE
  INTERCHANGE_FORMAT = BINARY
  LINES = 31313
  LINE_SAMPLES = 6823
  SAMPLE_TYPE = UNSIGNED_INTEGER
  SAMPLE_BITS = 8
  BANDS = 1
  BAND_STORAGE_TYPE = BAND_SEQUENTIAL
  MAXIMUM = 255
  MEAN = 125.725
  MINIMUM = 1
  STANDARD_DEVIATION = 28.4018
END_OBJECT = IMAGE
/* MAP OBJECT DEFINITIONS */
OBJECT = IMAGE_MAP_PROJECTION
  ^DATA_SET_MAP_PROJECTION_CATALOG= "DSMAP.CAT"
  A_AXIS_RADIUS = 3396.0
  B_AXIS_RADIUS = 3396.0
  C_AXIS_RADIUS = 3396.0
  CENTER_LATITUDE = 0.0
  CENTER_LONGITUDE = 330.0
  COORDINATE_SYSTEM_NAME = PLANETOGRAPHIC
  COORDINATE_SYSTEM_TYPE = "BODY-FIXED ROTATING"
  EASTERNMOST_LONGITUDE = 330.932
  FIRST_STANDARD_PARALLEL = "N/A"
  LINE_FIRST_PIXEL = 1
  LINE_LAST_PIXEL = 31313
  LINE_PROJECTION_OFFSET = -195734.0
  MAP_PROJECTION_ROTATION = 0.0
  MAP_PROJECTION_TYPE = SINUSOIDAL
  MAP_RESOLUTION = 4741.71043093333
  MAP_SCALE = 0.0125
  MAXIMUM_LATITUDE = -41.2773
  MINIMUM_LATITUDE = -47.8795
  POSITIVE_LONGITUDE_DIRECTION = EAST
  REFERENCE_LATITUDE = "N/A"
  REFERENCE_LONGITUDE = "N/A"
  SAMPLE_FIRST_PIXEL = 1
  SAMPLE_LAST_PIXEL = 6823
  SAMPLE_PROJECTION_OFFSET = 3396.0
  SECOND_STANDARD_PARALLEL = "N/A"
  WESTERNMOST_LONGITUDE = 328.95
END_OBJECT = IMAGE_MAP_PROJECTION
/* The JPEG2000 image data file associated with this label. */
OBJECT = COMPRESSED_FILE
  FILE_NAME = "HG803_0000_ND3.JP2"
  RECORD_TYPE = UNDEFINED
  FILE_RECORDS = UNK
  ENCODING_TYPE = "JP2"
  INTERCHANGE_FORMAT = BINARY
  UNCOMPRESSED_FILE_NAME = "HG803_0000_ND3.IMG"
  REQUIRED_STORAGE_BYTES = "213682714"
  ^DESCRIPTION = "JP2INFO.TXT"
END_OBJECT = COMPRESSED_FILE
END
